BEGIN:VCALENDAR
VERSION:2.0
PRODID:-//Alcooliques Anonymes Région 87 - ECPv6.15.17//NONSGML v1.0//EN
CALSCALE:GREGORIAN
METHOD:PUBLISH
X-WR-CALNAME:Alcooliques Anonymes Région 87
X-ORIGINAL-URL:https://www.aa87.org
X-WR-CALDESC:Évènements pour Alcooliques Anonymes Région 87
REFRESH-INTERVAL;VALUE=DURATION:PT1H
X-Robots-Tag:noindex
X-PUBLISHED-TTL:PT1H
BEGIN:VTIMEZONE
TZID:America/Toronto
BEGIN:DAYLIGHT
TZOFFSETFROM:-0500
TZOFFSETTO:-0400
TZNAME:EDT
DTSTART:20240310T070000
END:DAYLIGHT
BEGIN:STANDARD
TZOFFSETFROM:-0400
TZOFFSETTO:-0500
TZNAME:EST
DTSTART:20241103T060000
END:STANDARD
BEGIN:DAYLIGHT
TZOFFSETFROM:-0500
TZOFFSETTO:-0400
TZNAME:EDT
DTSTART:20250309T070000
END:DAYLIGHT
BEGIN:STANDARD
TZOFFSETFROM:-0400
TZOFFSETTO:-0500
TZNAME:EST
DTSTART:20251102T060000
END:STANDARD
BEGIN:DAYLIGHT
TZOFFSETFROM:-0500
TZOFFSETTO:-0400
TZNAME:EDT
DTSTART:20260308T070000
END:DAYLIGHT
BEGIN:STANDARD
TZOFFSETFROM:-0400
TZOFFSETTO:-0500
TZNAME:EST
DTSTART:20261101T060000
END:STANDARD
END:VTIMEZONE
BEGIN:VEVENT
DTSTART;VALUE=DATE:20250101
DTEND;VALUE=DATE:20250102
DTSTAMP:20260422T114745
CREATED:20240915T155109Z
LAST-MODIFIED:20241117T222651Z
UID:10008064-1735689600-1735775999@www.aa87.org
SUMMARY:Réflexion quotidienne 01 janvier
DESCRIPTION:﻿\n \nTous les Réflexions quotidiennes
URL:https://www.aa87.org/evenement/rq-0101/2025-01-01/
LOCATION:aa87.org
CATEGORIES:Réflexions Quotidiennes
END:VEVENT
BEGIN:VEVENT
DTSTART;TZID=America/Toronto:20250101T190000
DTEND;TZID=America/Toronto:20250101T210000
DTSTAMP:20260422T114745
CREATED:20231217T165210Z
LAST-MODIFIED:20260303T000857Z
UID:10025000-1735758000-1735765200@www.aa87.org
SUMMARY:Comité de l'Information publique +
DESCRIPTION:Salle 1\nJoindre la réunion\n\n  \nID de réunion : 944 7943 6712\nCode secret : 1234
URL:https://www.aa87.org/evenement/information-publique/2025-01-01/
LOCATION:BSR / ASO\, 3920\, rue Rachel Est\, Montréal QC\, H1X 1Z3\, 3920\, Rachel Est\, Montréal\, Québec\, H1X 1Z3\, Canada
CATEGORIES:Activité / Activity,Comité d’Information Publique,Comités / Committees
END:VEVENT
BEGIN:VEVENT
DTSTART;TZID=America/Toronto:20250101T193000
DTEND;TZID=America/Toronto:20250101T213000
DTSTAMP:20260422T114745
CREATED:20241218T005737Z
LAST-MODIFIED:20241219T014259Z
UID:10014023-1735759800-1735767000@www.aa87.org
SUMMARY:Réunion des RSG du District 87-16
DESCRIPTION:Rencontre mensuelle en présence.
URL:https://www.aa87.org/evenement/district-16-2-2-3-2/2025-01-01/
LOCATION:Centre communautaire\, 53\, rue Rabastalière\, St-Bruno QC\, J3V 1Y7\, 53\, rue Rabastalière\, St-Bruno\, Québec\, J3V 1Y7\, Canada
CATEGORIES:District 16
ORGANIZER;CN="District 16%2C Bel%C5%93il%2C St-Hilaire":MAILTO:district16@aa87.org
END:VEVENT
BEGIN:VEVENT
DTSTART;VALUE=DATE:20250102
DTEND;VALUE=DATE:20250103
DTSTAMP:20260422T114745
CREATED:20240915T171021Z
LAST-MODIFIED:20240922T222910Z
UID:10008070-1735776000-1735862399@www.aa87.org
SUMMARY:Réflexion quotidienne 02 janvier
DESCRIPTION:﻿\n \nTous les Réflexions quotidiennes
URL:https://www.aa87.org/evenement/rq0102/2025-01-02/
LOCATION:aa87.org
CATEGORIES:Réflexions Quotidiennes
END:VEVENT
BEGIN:VEVENT
DTSTART;TZID=America/Toronto:20250102T060000
DTEND;TZID=America/Toronto:20250102T060000
DTSTAMP:20260422T114745
CREATED:20241217T225919Z
LAST-MODIFIED:20241217T225920Z
UID:10012753-1735797600-1735797600@www.aa87.org
SUMMARY:Réunion des RSG du District 87-13
DESCRIPTION:Rencontre mensuelle en présence.
URL:https://www.aa87.org/evenement/district-13-2/2025-01-02/
LOCATION:Centre St-Zotique\, 75\, carré Sir Georges-Étienne Cartier\, salle 215\, Montréal QC\, H4C 3A1\, 75\, carré Sir Georges-Étienne Cartier\, salle 215\, Montréal\, Québec\, H4C 3A1\, Canada
CATEGORIES:Activité / Activity,District 13,District AA87
END:VEVENT
BEGIN:VEVENT
DTSTART;TZID=America/Toronto:20250102T190000
DTEND;TZID=America/Toronto:20250102T210000
DTSTAMP:20260422T114745
CREATED:20241217T174020Z
LAST-MODIFIED:20241217T233325Z
UID:10005801-1735844400-1735851600@www.aa87.org
SUMMARY:Réunion des RSG du District 87-05
DESCRIPTION:Réunion mensuelle sur Zoom. \nParticiper à la réunion Zoom \nID de réunion : 86244183943
URL:https://www.aa87.org/evenement/district-05-2/2025-01-02/
LOCATION:Place à l’emploi\, 125 Chem. du Coteau-Rouge\, Longueuil\, QC J4J 1W7\, Canada
CATEGORIES:Activité / Activity,District 05,District AA87
ORGANIZER;CN="District 5%2C Longueuil%2C St-Lambert":MAILTO:district05@aa87.org
END:VEVENT
BEGIN:VEVENT
DTSTART;TZID=America/Toronto:20250102T190000
DTEND;TZID=America/Toronto:20250102T220000
DTSTAMP:20260422T114745
CREATED:20231217T001039Z
LAST-MODIFIED:20251227T153833Z
UID:10017877-1735844400-1735855200@www.aa87.org
SUMMARY:Comité de direction
DESCRIPTION:Salle 4
URL:https://www.aa87.org/evenement/comite-de-direction-3/2025-01-02/
LOCATION:Réunion Virtuelle\, Québec\, Canada
CATEGORIES:Comité de direction/Steering Committee
END:VEVENT
BEGIN:VEVENT
DTSTART;TZID=America/Toronto:20250102T193000
DTEND;TZID=America/Toronto:20250102T213000
DTSTAMP:20260422T114745
CREATED:20241217T205207Z
LAST-MODIFIED:20241218T013855Z
UID:10014202-1735846200-1735853400@www.aa87.org
SUMMARY:Réunion des RSG du District 87-14
DESCRIPTION:Réunion mensuelle en présence.
URL:https://www.aa87.org/evenement/district-14-2/2025-01-02/
LOCATION:3225 rue Courchesne Sorel-Tracy  Local 210\, 3225 rue Courchesne\, Sorel-Tracy\, QC\, J3R 3A7\, Canada
CATEGORIES:Activité / Activity,District 14,District AA87
ORGANIZER;CN="District 14%2C Sorel%2C Tracy et environs":MAILTO:district14@aa87.org
END:VEVENT
BEGIN:VEVENT
DTSTART;VALUE=DATE:20250103
DTEND;VALUE=DATE:20250104
DTSTAMP:20260422T114745
CREATED:20241211T233543Z
LAST-MODIFIED:20260308T125825Z
UID:10010828-1735862400-1735948799@www.aa87.org
SUMMARY:Réflexion quotidienne 03 janvier
DESCRIPTION:L’impuissance\n3 janvier\n\nNous avons admis que nous étions impuissants devant l’alcool – que nous avions perdu la maîtrise de notre vie. \nLES DOUZE ÉTAPES ET LES DOUZE TRADITIONS\, P. 23 \nLa toute première Étape ne mentionne pas l’impuissance par hasard. Admettre son impuissance devant l’alcool\, c’est faire le premier pas sur la voie du rétablissement. J’ai appris que je n’ai pas le pouvoir et la maîtrise que j’ai déjà cru posséder. Je ne contrôle ni l’opinion que les gens se font de moi\, ni l’autobus que je viens de rater\, ni la manière dont les autres mettent (ou ne mettent pas) les Étapes en pratique. Par contre\, j’ai aussi appris qu’il y a certaines choses devant lesquelles je ne suis pas impuissant. Je ne suis pas impuissant devant mes attitudes. Je ne suis pas sans pouvoir sur mon esprit négatif. Je ne suis pas impuissant lorsqu’il s’agit d’assumer la responsabilité de mon rétablissement. J’ai le pouvoir d’exercer une influence positive sur moi-même\, sur ceux que j’aime et sur le monde dans lequel je vis. \n\n\nExtrait du livre Réflexions quotidiennes \n\n\nCopyright © 1991 par Alcoholics Anonymous World Services\, Inc. Tous droits réservés. \nTous les Réflexions quotidiennes
URL:https://www.aa87.org/evenement/rq0103/2025-01-03/
LOCATION:aa87.org
CATEGORIES:Réflexions Quotidiennes
END:VEVENT
BEGIN:VEVENT
DTSTART;VALUE=DATE:20250104
DTEND;VALUE=DATE:20250105
DTSTAMP:20260422T114745
CREATED:20241211T235049Z
LAST-MODIFIED:20250101T222215Z
UID:10010858-1735948800-1736035199@www.aa87.org
SUMMARY:Réflexion quotidienne 04 janvier
DESCRIPTION:﻿﻿\n \nTous les Réflexions quotidiennes
URL:https://www.aa87.org/evenement/rq0104/2025-01-04/
LOCATION:aa87.org
CATEGORIES:Réflexions Quotidiennes
END:VEVENT
BEGIN:VEVENT
DTSTART;VALUE=DATE:20250105
DTEND;VALUE=DATE:20250106
DTSTAMP:20260422T114745
CREATED:20241218T233801Z
LAST-MODIFIED:20250104T132254Z
UID:10015433-1736035200-1736121599@www.aa87.org
SUMMARY:Réflexion quotidienne 05 janvier
DESCRIPTION:﻿﻿\n \nTous les Réflexions quotidiennes
URL:https://www.aa87.org/evenement/rq0105/2025-01-05/
LOCATION:aa87.org
CATEGORIES:Réflexions Quotidiennes
END:VEVENT
BEGIN:VEVENT
DTSTART;TZID=America/Toronto:20250105T100000
DTEND;TZID=America/Toronto:20250105T113000
DTSTAMP:20260422T114745
CREATED:20241218T132830Z
LAST-MODIFIED:20260301T160120Z
UID:10025137-1736071200-1736076600@www.aa87.org
SUMMARY:Correctional Facilities Committee
DESCRIPTION:Réunion mensuelle virtuelle seulement. \nSalle 1 \nJoindre la réunion\n \n  \nID de réunion : 944 7943 6712\nCode secret : 1234
URL:https://www.aa87.org/evenement/correctional-facilities-committee/2025-01-05/
LOCATION:
END:VEVENT
BEGIN:VEVENT
DTSTART;VALUE=DATE:20250106
DTEND;VALUE=DATE:20250107
DTSTAMP:20260422T114745
CREATED:20241218T234901Z
LAST-MODIFIED:20260308T131306Z
UID:10015463-1736121600-1736207999@www.aa87.org
SUMMARY:Réflexion quotidienne 06 janvier
DESCRIPTION:La capitulation\, une victoire\n6 janvier\n\nNous nous rendons compte que seule la défaite totale peut nous permettre de nous engager sur la voie de la liberté et de la force. L’aveu de notre impuissance se transforme en solides fondations sur lesquelles nous pouvons construire une vie heureuse et utile. \nLes douze étapes et les douze traditions\, p. 23 \nQuand l’alcool s’est mis à influer sur toutes les facettes de ma vie\, quand la bouteille est devenue le symbole de ma complaisance et de mon attitude permissive envers moi-même\, quand je me suis aperçu que\, tout seul\, je ne pouvais rien contre la puissance de l’alcool\, j’ai dû admettre que je n’avais plus qu’un recours : capituler. Dans la capitulation\, j’ai trouvé la victoire. Victoire sur ma complaisance envers moi-même\, victoire sur mon entêtement à résister à la vie telle qu’elle m’avait été donnée. Après avoir cessé de me battre contre tout et contre tous\, je me suis retrouvé sur le sentier de la sobriété\, de la sérénité et de la paix. \n\n\nExtrait du livre Réflexions quotidiennes \n\n\nCopyright © 1991 par Alcoholics Anonymous World Services\, Inc. Tous droits réservés. \nTous les Réflexions quotidiennes
URL:https://www.aa87.org/evenement/rq0106/2025-01-06/
LOCATION:aa87.org
CATEGORIES:Réflexions Quotidiennes
END:VEVENT
BEGIN:VEVENT
DTSTART;TZID=America/Toronto:20250106T190000
DTEND;TZID=America/Toronto:20250106T210000
DTSTAMP:20260422T114745
CREATED:20241217T005615Z
LAST-MODIFIED:20260302T004538Z
UID:10013963-1736190000-1736197200@www.aa87.org
SUMMARY:Réunion des RSG du District 87-19
DESCRIPTION:Réunion mensuelle hybride. \nSalle 2 \nJoindre la réunion\n \nID de réunion : 918 2068 6211\nCode secret : 1234
URL:https://www.aa87.org/evenement/district-19-2-2/2025-01-06/
LOCATION:BSR / ASO\, 3920\, rue Rachel Est\, Montréal QC\, H1X 1Z3\, 3920\, Rachel Est\, Montréal\, Québec\, H1X 1Z3\, Canada
CATEGORIES:Activité / Activity,District 19
ORGANIZER;CN="District 19%2C Montreal%2C Westmount":MAILTO:district19@aa87.org
END:VEVENT
BEGIN:VEVENT
DTSTART;TZID=America/Toronto:20250106T190000
DTEND;TZID=America/Toronto:20250106T210000
DTSTAMP:20260422T114745
CREATED:20241217T005830Z
LAST-MODIFIED:20260303T000358Z
UID:10011230-1736190000-1736197200@www.aa87.org
SUMMARY:Comité Congrès de la Région 87
DESCRIPTION:Salle 1. \nRencontre de l’équipe de l’orginsation du Congrès de la Région 87. \nJoindre la réunion\n \n  \nID de réunion : 944 7943 6712\nCode secret : 1234
URL:https://www.aa87.org/evenement/comite-du-congres-regional-3-2/2025-01-06/
END:VEVENT
BEGIN:VEVENT
DTSTART;TZID=America/Toronto:20250106T193000
DTEND;TZID=America/Toronto:20250106T213000
DTSTAMP:20260422T114745
CREATED:20241217T223859Z
LAST-MODIFIED:20251230T165149Z
UID:10011446-1736191800-1736199000@www.aa87.org
SUMMARY:Réunion des RSG du District 87-26
DESCRIPTION:Réunion mensuelle en présence.
URL:https://www.aa87.org/evenement/district-26-2-2/2025-01-06/
LOCATION:École Les Trois Saisons (entrée par l’arrière) 570\, boul. de Mortagne\, Boucherville QC\, J4B 5E4\, 570\, boul. de Mortagne\, Boucherville\, Québec\, J4B 5E4\, Canada
CATEGORIES:Activité / Activity,District 26,District AA87
ORGANIZER;CN="District 26%2C Longueuil%2C Contrec%C5%93ur":MAILTO:district26@aa87.org
END:VEVENT
BEGIN:VEVENT
DTSTART;VALUE=DATE:20250107
DTEND;VALUE=DATE:20250108
DTSTAMP:20260422T114745
CREATED:20241219T000648Z
LAST-MODIFIED:20260308T131356Z
UID:10015499-1736208000-1736294399@www.aa87.org
SUMMARY:Réflexion quotidienne 07 janvier
DESCRIPTION:À un tournant\n7 janvier\n\nLes demi-mesures ne nous ont rien donné. Nous nous trouvions à un tournant de notre vie. Nous avons demandé Sa protection et Son aide et nous nous sommes abandonnés à Lui complètement. \nLes Alcooliques Anonymes\, p. 66 \nTous les jours\, je me retrouve à un tournant. Mes pensées et mes actions peuvent me propulser vers la croissance ou me ramener en arrière\, sur la route des vieilles habitudes et de l’alcool. Parfois\, les tournants sont des débuts\, comme lorsque je décide de féliciter quelqu’un plutôt que de le condamner\, ou lorsque je commence à demander de l’aide plutôt que de vouloir m’en sortir seul. D’autres fois\, les tournants sont des fins\, comme quand je vois qu’il est temps de cesser de couver ma rancœur ou mon égoïsme paralysant. Chaque jour\, mes défauts tentent de se manifester\, ce qui me donne de nombreuses occasions d’en prendre conscience. Ils surgissent tous sous une forme ou sous une autre : culpabilité\, colère\, fuite\, orgueil\, désir de vengeance\, folie des grandeurs. \nLes demi-mesures que j’adopte pour éliminer ces défauts ne peuvent que freiner mes efforts de changement. Ce n’est que lorsque je demande l’aide d’une Puissance supérieure et que je m’abandonne complètement que j’obtiens la volonté et la capacité de changer. \n\n\nExtrait du livre Réflexions quotidiennes \n\n\nCopyright © 1991 par Alcoholics Anonymous World Services\, Inc. Tous droits réservés. \nTous les Réflexions quotidiennes
URL:https://www.aa87.org/evenement/rq0107/2025-01-07/
LOCATION:aa87.org
CATEGORIES:Réflexions Quotidiennes
END:VEVENT
BEGIN:VEVENT
DTSTART;TZID=America/Toronto:20250107T193000
DTEND;TZID=America/Toronto:20250107T213000
DTSTAMP:20260422T114745
CREATED:20241217T224421Z
LAST-MODIFIED:20260228T232542Z
UID:10012097-1736278200-1736285400@www.aa87.org
SUMMARY:Réunion des RSG du District 87-21
DESCRIPTION:Rencontre mensuelle en présence.
URL:https://www.aa87.org/evenement/district-21-2-2/2025-01-07/
LOCATION:Centre communautaire Richard Goulet\, 170 rue St-Antoine Nord\, Granby\, Québec\, J2G 5G8\, Canada
CATEGORIES:Activité / Activity,District 21,District AA87
ORGANIZER;CN="District 21%2C Granby%2C Cowansville":MAILTO:district21@aa87.org
END:VEVENT
BEGIN:VEVENT
DTSTART;VALUE=DATE:20250108
DTEND;VALUE=DATE:20250109
DTSTAMP:20260422T114745
CREATED:20241221T144532Z
LAST-MODIFIED:20260308T131647Z
UID:10015635-1736294400-1736380799@www.aa87.org
SUMMARY:Réflexion quotidienne 08 janvier
DESCRIPTION:Ai-je le choix ?\n8 janvier\n\nNous sommes forcés de reconnaître que la plupart d’entre nous\, alcooliques\, pour une raison inconnue\, avons perdu notre liberté de choix devant l’alcool ; notre volonté n’existe à peu près plus. \nLes Alcooliques Anonymes\, p. 27 \nMon impuissance devant l’alcool ne disparaît pas lorsque je cesse de boire. Même abstinent\, je continue de ne pas avoir le choix. Je ne peux pas boire. \nPar contre\, j’ai un autre choix\, celui de me servir du « coffre d’outils spirituel » (Gros Livre\, p. 29). Quand je prends ce « coffre » une Puissance supérieure compense l’absence de choix et me garde abstinent un jour de plus. Si j’avais le choix de ne pas prendre un verre aujourd’hui\, pourquoi aurais-je besoin des AA et d’une Puissance supérieure ? \n\n\nExtrait du livre Réflexions quotidiennes \n\n\nCopyright © 1991 par Alcoholics Anonymous World Services\, Inc. Tous droits réservés. \nTous les Réflexions quotidiennes
URL:https://www.aa87.org/evenement/rq0108/2025-01-08/
LOCATION:aa87.org
CATEGORIES:Réflexions Quotidiennes
END:VEVENT
BEGIN:VEVENT
DTSTART;TZID=America/Toronto:20250108T190000
DTEND;TZID=America/Toronto:20250108T210000
DTSTAMP:20260422T114745
CREATED:20241218T001332Z
LAST-MODIFIED:20260314T112615Z
UID:10010873-1736362800-1736370000@www.aa87.org
SUMMARY:Comité des technologies +
DESCRIPTION:Réunion mensuelle sur Teams. \nJoindre la réunion\n \n  \nID de réunion : 210 078 105 291 \nCode secret : HwMBfV \n 
URL:https://www.aa87.org/evenement/comite-des-technologies-2/2025-01-08/
LOCATION:Réunion virtuelle seulement\, Québec\, Canada
CATEGORIES:Activité / Activity,Comité des Technologies/ Technology Committee,Comités / Committees
END:VEVENT
BEGIN:VEVENT
DTSTART;TZID=America/Toronto:20250108T190000
DTEND;TZID=America/Toronto:20250108T210000
DTSTAMP:20260422T114745
CREATED:20241218T001518Z
LAST-MODIFIED:20260412T212452Z
UID:10014826-1736362800-1736370000@www.aa87.org
SUMMARY:Réunion des RSG du District 87-17
DESCRIPTION:Réunion mensuelle en présence.
URL:https://www.aa87.org/evenement/district-17-2-2-2/2025-01-08/
LOCATION:Chalet Roger Rousseau 7501\, avenue Rondeau\, sous-sol\, Anjou (QC)\, H1K 4Y3\, 7501 avenue Rondeau\, Anjou\, QC\, H1K 4Y3\, Canada
CATEGORIES:Activité / Activity,District 17,District AA87
ORGANIZER;CN="District 17%2C Montr%C3%A9al Est%2C Anjou":MAILTO:district17@aa87.org
END:VEVENT
BEGIN:VEVENT
DTSTART;TZID=America/Toronto:20250108T190000
DTEND;TZID=America/Toronto:20250108T210000
DTSTAMP:20260422T114745
CREATED:20241218T001817Z
LAST-MODIFIED:20260313T175408Z
UID:10014768-1736362800-1736370000@www.aa87.org
SUMMARY:Réunion des RSG du District 87-01
DESCRIPTION:Réunion mensuelle hybride. \nSalle 2 \nJoindre la réunion\n \n  \nID de réunion : 918 2068 6211\nCode secret : 1234
URL:https://www.aa87.org/evenement/district-01-2/2025-01-08/
LOCATION:BSR / ASO\, 3920\, rue Rachel Est\, Montréal QC\, H1X 1Z3\, 3920\, Rachel Est\, Montréal\, Québec\, H1X 1Z3\, Canada
ORGANIZER;CN="District 1%2C Montr%C3%A9al%2C Outremont%2C C%C3%B4te-des-Neiges":MAILTO:district01@aa87.org
END:VEVENT
BEGIN:VEVENT
DTSTART;TZID=America/Toronto:20250108T190000
DTEND;TZID=America/Toronto:20250108T210000
DTSTAMP:20260422T114745
CREATED:20241218T005737Z
LAST-MODIFIED:20241219T014259Z
UID:10015541-1736362800-1736370000@www.aa87.org
SUMMARY:Réunion des RSG du District 87-16
DESCRIPTION:Rencontre mensuelle en présence.
URL:https://www.aa87.org/evenement/district-16-2-2-3-2/2025-01-08/
LOCATION:Centre communautaire\, 53\, rue Rabastalière\, St-Bruno QC\, J3V 1Y7\, 53\, rue Rabastalière\, St-Bruno\, Québec\, J3V 1Y7\, Canada
CATEGORIES:District 16
ORGANIZER;CN="District 16%2C Bel%C5%93il%2C St-Hilaire":MAILTO:district16@aa87.org
END:VEVENT
BEGIN:VEVENT
DTSTART;VALUE=DATE:20250109
DTEND;VALUE=DATE:20250110
DTSTAMP:20260422T114745
CREATED:20241222T174646Z
LAST-MODIFIED:20260308T131720Z
UID:10016750-1736380800-1736467199@www.aa87.org
SUMMARY:Réflexion quotidienne 09 janvier
DESCRIPTION:Un acte providentiel\n9 janvier\n\nIl est vraiment intolérable d’admettre que nous avons pu\, le verre à la main\, nous fausser l’esprit au point d’être hantés par une telle obsession destructrice de boire que seul un acte de la Providence pourrait nous en libérer. \nLes douze étapes et les douze traditions\, p. 23 \nDans mon cas\, l’acte providentiel (manifestation de la présence attentive d’une Puissance supérieure qui nous guide) est survenu lorsque j’ai constaté que mon alcoolisme m’avait conduit à la faillite. J’avais perdu tout ce qui comptait pour moi. J’ai téléphoné aux Alcooliques anonymes et depuis cet instant\, ma vie s’est transformée. En repensant à ce moment très spécial\, je m’aperçois que Dieu avait commencé à agir dans ma vie bien avant que je sois capable de reconnaître et d’accepter ses concepts spirituels. Grâce à cet acte providentiel\, j’ai déposé mon verre et entrepris mon voyage vers la sobriété. Ma vie continue de se dérouler sous la gouverne et les bons soins d’une Puissance supérieure. J’ai admis que j’étais impuissant devant l’alcool\, que j’avais perdu la maîtrise de ma vie\, et cette Première Étape prend pour moi tout son sens – un jour à la fois – au sein du mouvement secourable et vivifiant des Alcooliques anonymes. \n\n\nExtrait du livre Réflexions quotidiennes \n\n\nCopyright © 1991 par Alcoholics Anonymous World Services\, Inc. Tous droits réservés. \nTous les Réflexions quotidiennes
URL:https://www.aa87.org/evenement/rq0109/2025-01-09/
LOCATION:aa87.org
CATEGORIES:Réflexions Quotidiennes
END:VEVENT
BEGIN:VEVENT
DTSTART;VALUE=DATE:20250110
DTEND;VALUE=DATE:20250111
DTSTAMP:20260422T114745
CREATED:20241222T175947Z
LAST-MODIFIED:20250111T224250Z
UID:10016780-1736467200-1736553599@www.aa87.org
SUMMARY:Réflexion quotidienne 10 janvier
DESCRIPTION:﻿﻿\n \nTous les Réflexions quotidiennes
URL:https://www.aa87.org/evenement/rq0110/2025-01-10/
LOCATION:aa87.org
CATEGORIES:Réflexions Quotidiennes
END:VEVENT
BEGIN:VEVENT
DTSTART;TZID=America/Toronto:20250110T190000
DTEND;TZID=America/Toronto:20250110T210000
DTSTAMP:20260422T114746
CREATED:20241218T000243Z
LAST-MODIFIED:20260315T215743Z
UID:10040093-1736535600-1736542800@www.aa87.org
SUMMARY:Réunion des RSG du District 87-10
DESCRIPTION:Réunion mensuelle hybride \nSalle 2 \nJoindre la réunion\n \n  \nID de réunion : 918 2068 6211\nCode secret : 1234
URL:https://www.aa87.org/evenement/district-10-2-2/2025-01-10/
LOCATION:BSR / ASO\, 3920\, rue Rachel Est\, Montréal QC\, H1X 1Z3\, 3920\, Rachel Est\, Montréal\, Québec\, H1X 1Z3\, Canada
CATEGORIES:District 10
END:VEVENT
BEGIN:VEVENT
DTSTART;VALUE=DATE:20250111
DTEND;VALUE=DATE:20250112
DTSTAMP:20260422T114746
CREATED:20241222T184536Z
LAST-MODIFIED:20260308T132037Z
UID:10016810-1736553600-1736639999@www.aa87.org
SUMMARY:Réflexion quotidienne 11 janvier
DESCRIPTION:L’étape du cent pour cent\n11 janvier\n\nSeule la Première Étape\, où nous avons admis à cent pour cent notre impuissance devant l’alcool\, peut être pratiquée à la perfection. \nLes douze étapes et les douze traditions\, p. 79 \nBien avant de devenir abstinent chez les AA\, je savais sans l’ombre d’un doute que l’alcool était en train de me tuer ; mais même en sachant cela\, j’étais incapable d’arrêter de boire. Alors\, face à la Première Étape\, je n’ai pas eu de mal à admettre que j’étais incapable de ne pas boire. Mais est-ce que j’avais perdu la maîtrise de ma vie ? Absolument pas ! Cinq mois après mon entrée chez les AA\, j’avais recommencé à boire et je me demandais pourquoi. \nPlus tard\, de retour chez les AA et assagi par ma cuisante expérience\, j’ai appris que la Première Étape est la seule qui puisse être intégralement mise en pratique et que la seule façon de le faire\, c’est de l’appliquer à cent pour cent. Il s’est passé bien des vingt-quatre heures depuis et je n’ai jamais eu à refaire la Première Étape. \n\n\nExtrait du livre Réflexions quotidiennes \n\n\nCopyright © 1991 par Alcoholics Anonymous World Services\, Inc. Tous droits réservés. \nTous les Réflexions quotidiennes
URL:https://www.aa87.org/evenement/rq0111/2025-01-11/
LOCATION:aa87.org
CATEGORIES:Réflexions Quotidiennes
END:VEVENT
BEGIN:VEVENT
DTSTART;VALUE=DATE:20250112
DTEND;VALUE=DATE:20250113
DTSTAMP:20260422T114746
CREATED:20241228T153732Z
LAST-MODIFIED:20260308T132115Z
UID:10017237-1736640000-1736726399@www.aa87.org
SUMMARY:Réflexion quotidienne 12 janvier
DESCRIPTION:Accepter\n12 janvier\n\nNotre tout premier problème est d’accepter notre situation telle qu’elle est\, de nous accepter tels que nous sommes et d’accepter ceux qui nous entourent comme ils sont. Ceci afin d’adopter une attitude d’humilité réaliste\, sans laquelle aucun progrès véritable ne peut commencer. Il nous faudra constamment retourner à ce point de départ peu flatteur. C’est un exercice d’acceptation que nous pouvons pratiquer avec profit chaque jour de notre vie. \nPourvu que nous évitions avec soin de transformer cet inventaire réaliste de notre vie en une recherche fantaisiste d’alibis pour couvrir notre défaitisme ou notre inactivité\, un tel inventaire peut devenir la source d’une saine émotivité et\, par conséquent\, de notre progrès spirituel. \nRéflexions de Bill\, p. 44 \nQuand j’ai de la difficulté à accepter les gens\, les lieux et les événements\, je relis ce passage et je me sens libéré de toutes les peurs que m’inspirent les autres ou les situations dans lesquelles me place la vie. Cette réflexion me permet de me considérer comme un être humain toujours imparfait\, et de recouvrer ma paix d’esprit. \n\n\nExtrait du livre Réflexions quotidiennes \n\n\nCopyright © 1991 par Alcoholics Anonymous World Services\, Inc. Tous droits réservés. \nTous les Réflexions quotidiennes
URL:https://www.aa87.org/evenement/rq0112/2025-01-12/
LOCATION:aa87.org
CATEGORIES:Réflexions Quotidiennes
END:VEVENT
BEGIN:VEVENT
DTSTART;TZID=America/Toronto:20250112T190000
DTEND;TZID=America/Toronto:20250112T210000
DTSTAMP:20260422T114746
CREATED:20241218T002259Z
LAST-MODIFIED:20260314T111045Z
UID:10039960-1736708400-1736715600@www.aa87.org
SUMMARY:Comité des Publications
DESCRIPTION:Réunion mensuelle. \nSalle 1 \nJoindre la réunion\n \n  \nID de réunion : 944 7943 6712 \nCode secret : 1234
URL:https://www.aa87.org/evenement/publications-2-2/2025-01-12/
LOCATION:Réunion virtuelle seulement\, Québec\, Canada
END:VEVENT
BEGIN:VEVENT
DTSTART;VALUE=DATE:20250113
DTEND;VALUE=DATE:20250114
DTSTAMP:20260422T114746
CREATED:20241228T204426Z
LAST-MODIFIED:20260308T132148Z
UID:10017267-1736726400-1736812799@www.aa87.org
SUMMARY:Réflexion quotidienne 13 janvier
DESCRIPTION:One ne guérit pas du jour au lendemain\n13 janvier\n\nNous ne sommes pas guéris de l’alcoolisme ; nous bénéficions seulement d’un sursis quotidien\, lequel dépend du maintien de notre forme spirituelle. \nLes Alcooliques Anonymes\, p. 96 \nLe fantasme le plus courant chez les alcooliques semble être celui-ci : « Pourvu que je ne boive pas\, tout ira bien. » Quant à moi\, une fois que le brouillard s’est dissipé\, j’ai pu voir pour la première fois le gâchis qu’était devenue ma vie. J’avais des problèmes familiaux\, professionnels\, financiers et juridiques ; je m’accrochais encore à de vieux préjugés religieux ; j’avais tendance à fermer les yeux sur certains aspects de ma personnalité\, car ils auraient facilement pu me convaincre que j’étais un cas désespéré et qu’il ne me restait plus qu’à m’évader\, encore une fois. Le Gros Livre m’a guidé dans la solution de tous mes problèmes. Mais cela ne s’est pas fait du jour au lendemain\, automatiquement et sans efforts de ma part. Je dois toujours reconnaître la clémence et la grâce de Dieu qui me soutiennent dans tous les problèmes auxquels je fais face. \n\nExtrait du livre Réflexions quotidiennes\nCopyright © 1991 par Alcoholics Anonymous World Services\, Inc. Tous droits réservés. \nTous les Réflexions quotidiennes
URL:https://www.aa87.org/evenement/rq0113/2025-01-13/
LOCATION:aa87.org
CATEGORIES:Réflexions Quotidiennes
END:VEVENT
END:VCALENDAR