BEGIN:VCALENDAR
VERSION:2.0
PRODID:-//Alcooliques Anonymes Région 87 - ECPv6.15.17//NONSGML v1.0//EN
CALSCALE:GREGORIAN
METHOD:PUBLISH
X-WR-CALNAME:Alcooliques Anonymes Région 87
X-ORIGINAL-URL:https://www.aa87.org
X-WR-CALDESC:Évènements pour Alcooliques Anonymes Région 87
REFRESH-INTERVAL;VALUE=DURATION:PT1H
X-Robots-Tag:noindex
X-PUBLISHED-TTL:PT1H
BEGIN:VTIMEZONE
TZID:America/Toronto
BEGIN:DAYLIGHT
TZOFFSETFROM:-0500
TZOFFSETTO:-0400
TZNAME:EDT
DTSTART:20240310T070000
END:DAYLIGHT
BEGIN:STANDARD
TZOFFSETFROM:-0400
TZOFFSETTO:-0500
TZNAME:EST
DTSTART:20241103T060000
END:STANDARD
BEGIN:DAYLIGHT
TZOFFSETFROM:-0500
TZOFFSETTO:-0400
TZNAME:EDT
DTSTART:20250309T070000
END:DAYLIGHT
BEGIN:STANDARD
TZOFFSETFROM:-0400
TZOFFSETTO:-0500
TZNAME:EST
DTSTART:20251102T060000
END:STANDARD
BEGIN:DAYLIGHT
TZOFFSETFROM:-0500
TZOFFSETTO:-0400
TZNAME:EDT
DTSTART:20260308T070000
END:DAYLIGHT
BEGIN:STANDARD
TZOFFSETFROM:-0400
TZOFFSETTO:-0500
TZNAME:EST
DTSTART:20261101T060000
END:STANDARD
END:VTIMEZONE
BEGIN:VEVENT
DTSTART;VALUE=DATE:20250201
DTEND;VALUE=DATE:20250202
DTSTAMP:20260422T103050
CREATED:20241122T221245Z
LAST-MODIFIED:20241122T225420Z
UID:10009939-1738368000-1738454399@www.aa87.org
SUMMARY:Réflexion quotidienne 01 février
DESCRIPTION:﻿﻿﻿﻿﻿﻿﻿\n \n\nTous les Réflexions quotidiennes
URL:https://www.aa87.org/evenement/rq0201/2025-02-01/
LOCATION:aa87.org
CATEGORIES:Réflexions Quotidiennes
END:VEVENT
BEGIN:VEVENT
DTSTART;VALUE=DATE:20250202
DTEND;VALUE=DATE:20250203
DTSTAMP:20260422T103050
CREATED:20250113T230618Z
LAST-MODIFIED:20260405T225255Z
UID:10018355-1738454400-1738540799@www.aa87.org
SUMMARY:Réflexion quotidienne 02 février
DESCRIPTION:Capituler pour être secouru\n2 février\n\nCe qui caractérise l’alcoolique type est un fond narcissique et égocentrique\, dominé par une impression d’omnipotence\, prêt à tout pour se protéger… Intérieurement\, l’alcoolique n’accepte aucune forme de contrôle\, humaine ou divine. L’alcoolique est et doit demeurer maître de sa destinée. Il se battra à mort pour défendre cette position. \nLe mouvement des AA devient adulte\, p. 319 \nLa question suivante est pour moi un grand mystère : « Pourquoi certains d’entre nous meurent-ils d’une mort alcoolique\, luttant pour préserver l’« indépendance » de leur ego\, alors que d’autres semblent devenir abstinents sans effort chez les AA ? » Une Puissance supérieure m’a aidé en me faisant cadeau de la sobriété le jour où mon désir\, inexplicable autrement\, de cesser de boire a coïncidé avec mon désir d’accepter les suggestions que me faisaient les membres des AA. J’ai dû capituler\, car c’est seulement en me tournant vers Dieu et mes frères et sœurs AA que je pouvais être secouru. \n\nExtrait du livre Réflexions quotidiennes\nCopyright © 1991 par Alcoholics Anonymous World Services\, Inc. Tous droits réservés. \nTous les Réflexions quotidiennes
URL:https://www.aa87.org/evenement/rq0202/2025-02-02/
LOCATION:aa87.org
CATEGORIES:Réflexions Quotidiennes
END:VEVENT
BEGIN:VEVENT
DTSTART;TZID=America/Toronto:20250202T100000
DTEND;TZID=America/Toronto:20250202T113000
DTSTAMP:20260422T103050
CREATED:20241218T132830Z
LAST-MODIFIED:20260301T160120Z
UID:10025138-1738490400-1738495800@www.aa87.org
SUMMARY:Correctional Facilities Committee
DESCRIPTION:Réunion mensuelle virtuelle seulement. \nSalle 1 \nJoindre la réunion\n \n  \nID de réunion : 944 7943 6712\nCode secret : 1234
URL:https://www.aa87.org/evenement/correctional-facilities-committee/2025-02-02/
LOCATION:
END:VEVENT
BEGIN:VEVENT
DTSTART;VALUE=DATE:20250203
DTEND;VALUE=DATE:20250204
DTSTAMP:20260422T103050
CREATED:20250113T233507Z
LAST-MODIFIED:20260405T225451Z
UID:10018385-1738540800-1738627199@www.aa87.org
SUMMARY:Réflexion quotidienne 03 février
DESCRIPTION:Remplir le vide\n3 février\n\nNous n’avions qu’une petite question à nous poser : « Est-ce que je crois ou veux croire en l’existence d’une Puissance supérieure à moi-même ? » Aussitôt qu’un homme peut affirmer qu’il croit\, ou qu’il veut bien essayer de croire\, pour nous\, il se trouve incontestablement sur la bonne voie. \nLes Alcooliques Anonymes\, p. 53 \nL’étude des principes scientifiques m’a toujours fasciné. Poursuivant la Connaissance absolue\, je me suis éloigné des gens\, émotivement et physiquement. Dieu et la spiritualité n’étaient que pures spéculations dénuées de sens. J’étais un homme de science moderne\, et la connaissance était ma puissance supérieure. Exprimée dans les équations appropriées\, la vie n’était guère plus qu’un autre problème à résoudre. Pourtant\, mon moi intérieur se mourait de la solution qu’avait adoptée l’homme que j’étais à l’extérieur pour régler les problèmes de la vie\, car cette solution était l’alcool. Malgré mon intelligence\, l’alcool était devenu ma puissance supérieure. Ce n’est que grâce à l’amour inconditionnel qui émanait des membres et des groupes des AA que j’ai pu écarter l’alcool comme puissance supérieure. Le grand vide était rempli. Je n’étais plus seul\, séparé de la vie. J’avais trouvé une vraie Puissance supérieure\, j’avais trouvé l’amour de Dieu. Il n’y a plus qu’une équation qui compte pour moi\, désormais : Dieu est dans les AA. \n\nExtrait du livre Réflexions quotidiennes\nCopyright © 1991 par Alcoholics Anonymous World Services\, Inc. Tous droits réservés. \nTous les Réflexions quotidiennes
URL:https://www.aa87.org/evenement/rq0203/2025-02-03/
LOCATION:aa87.org
CATEGORIES:Réflexions Quotidiennes
END:VEVENT
BEGIN:VEVENT
DTSTART;TZID=America/Toronto:20250203T060000
DTEND;TZID=America/Toronto:20250203T060000
DTSTAMP:20260422T103050
CREATED:20250205T002249Z
LAST-MODIFIED:20251229T223501Z
UID:10012754-1738562400-1738562400@www.aa87.org
SUMMARY:Réunion des RSG du District 87-13
DESCRIPTION:Rencontre mensuelle en présence.
URL:https://www.aa87.org/evenement/district-13-2-2/2025-02-03/
LOCATION:Centre St-Zotique\, 75\, carré Sir Georges-Étienne Cartier\, salle 215\, Montréal QC\, H4C 3A1\, 75\, carré Sir Georges-Étienne Cartier\, salle 215\, Montréal\, Québec\, H4C 3A1\, Canada
CATEGORIES:Activité / Activity,District 13,District AA87
END:VEVENT
BEGIN:VEVENT
DTSTART;TZID=America/Toronto:20250203T190000
DTEND;TZID=America/Toronto:20250203T210000
DTSTAMP:20260422T103050
CREATED:20241217T005615Z
LAST-MODIFIED:20260302T004538Z
UID:10013964-1738609200-1738616400@www.aa87.org
SUMMARY:Réunion des RSG du District 87-19
DESCRIPTION:Réunion mensuelle hybride. \nSalle 2 \nJoindre la réunion\n \nID de réunion : 918 2068 6211\nCode secret : 1234
URL:https://www.aa87.org/evenement/district-19-2-2/2025-02-03/
LOCATION:BSR / ASO\, 3920\, rue Rachel Est\, Montréal QC\, H1X 1Z3\, 3920\, Rachel Est\, Montréal\, Québec\, H1X 1Z3\, Canada
CATEGORIES:Activité / Activity,District 19
ORGANIZER;CN="District 19%2C Montreal%2C Westmount":MAILTO:district19@aa87.org
END:VEVENT
BEGIN:VEVENT
DTSTART;TZID=America/Toronto:20250203T190000
DTEND;TZID=America/Toronto:20250203T210000
DTSTAMP:20260422T103050
CREATED:20241217T005830Z
LAST-MODIFIED:20260303T000358Z
UID:10011231-1738609200-1738616400@www.aa87.org
SUMMARY:Comité Congrès de la Région 87
DESCRIPTION:Salle 1. \nRencontre de l’équipe de l’orginsation du Congrès de la Région 87. \nJoindre la réunion\n \n  \nID de réunion : 944 7943 6712\nCode secret : 1234
URL:https://www.aa87.org/evenement/comite-du-congres-regional-3-2/2025-02-03/
END:VEVENT
BEGIN:VEVENT
DTSTART;TZID=America/Toronto:20250203T193000
DTEND;TZID=America/Toronto:20250203T213000
DTSTAMP:20260422T103050
CREATED:20241217T223859Z
LAST-MODIFIED:20251230T165149Z
UID:10011447-1738611000-1738618200@www.aa87.org
SUMMARY:Réunion des RSG du District 87-26
DESCRIPTION:Réunion mensuelle en présence.
URL:https://www.aa87.org/evenement/district-26-2-2/2025-02-03/
LOCATION:École Les Trois Saisons (entrée par l’arrière) 570\, boul. de Mortagne\, Boucherville QC\, J4B 5E4\, 570\, boul. de Mortagne\, Boucherville\, Québec\, J4B 5E4\, Canada
CATEGORIES:Activité / Activity,District 26,District AA87
ORGANIZER;CN="District 26%2C Longueuil%2C Contrec%C5%93ur":MAILTO:district26@aa87.org
END:VEVENT
BEGIN:VEVENT
DTSTART;VALUE=DATE:20250204
DTEND;VALUE=DATE:20250205
DTSTAMP:20260422T103050
CREATED:20250119T132205Z
LAST-MODIFIED:20260405T230129Z
UID:10018415-1738627200-1738713599@www.aa87.org
SUMMARY:Réflexion quotidienne 04 février
DESCRIPTION:Sans la foi\n4 février\n\nLa méthode des AA pose parfois plus de difficultés à ceux qui ont perdu ou rejeté la foi qu’à ceux qui ne l’ont jamais eue\, car les premiers ont l’impression d’avoir déjà fait l’expérience de la foi sans obtenir les résultats attendus. Ils ont vécu un temps avec la foi et un temps sans la foi. \nLes douze étapes et les douze traditions\, p. 32 \nJ’étais si sûr que Dieu m’avait trahi que j’ai fini par me rebeller\, même si je savais que c’était inutile\, et je me suis soûlé une dernière fois. Ma foi ne s’était pas transformée en amertume par hasard. Ceux qui ont déjà eu une grande foi touchent le fond plus durement. J’ai mis beaucoup de temps à ranimer ma foi\, même après être entré dans les AA. Intellectuellement\, j’étais réconforté d’avoir survécu à pareille chute\, mais mon cœur demeurait insensible. Pourtant\, j’ai persévéré dans le programme des AA ; je n’avais pas le choix\, car les autres solutions étaient trop affreuses. J’ai continué à fréquenter les AA et\, petit à petit\, ma foi est ressuscitée. \n\nExtrait du livre Réflexions quotidiennes\nCopyright © 1991 par Alcoholics Anonymous World Services\, Inc. Tous droits réservés. \nTous les Réflexions quotidiennes
URL:https://www.aa87.org/evenement/rq0204/2025-02-04/
LOCATION:aa87.org
CATEGORIES:Réflexions Quotidiennes
END:VEVENT
BEGIN:VEVENT
DTSTART;TZID=America/Toronto:20250204T193000
DTEND;TZID=America/Toronto:20250204T213000
DTSTAMP:20260422T103050
CREATED:20241217T224421Z
LAST-MODIFIED:20260228T232542Z
UID:10012098-1738697400-1738704600@www.aa87.org
SUMMARY:Réunion des RSG du District 87-21
DESCRIPTION:Rencontre mensuelle en présence.
URL:https://www.aa87.org/evenement/district-21-2-2/2025-02-04/
LOCATION:Centre communautaire Richard Goulet\, 170 rue St-Antoine Nord\, Granby\, Québec\, J2G 5G8\, Canada
CATEGORIES:Activité / Activity,District 21,District AA87
ORGANIZER;CN="District 21%2C Granby%2C Cowansville":MAILTO:district21@aa87.org
END:VEVENT
BEGIN:VEVENT
DTSTART;VALUE=DATE:20250205
DTEND;VALUE=DATE:20250206
DTSTAMP:20260422T103050
CREATED:20250121T233639Z
LAST-MODIFIED:20260406T183537Z
UID:10018477-1738713600-1738799999@www.aa87.org
SUMMARY:Réflexion quotidienne 05 février
DESCRIPTION:Une merveilleuse libération\n5 février\n\nDès que j’ai cessé d’argumenter\, j’ai pu commencer à voir et à ressentir. Aussitôt\, en douceur et petit à petit\, la Deuxième Étape a commencé à s’infiltrer dans ma vie. Je ne puis préciser dans quelle circonstance ni quel jour je me suis mis à croire en une Puissance supérieure à moi-même\, mais aujourd’hui\, il est certain que cette foi\, je l’ai. Pour l’acquérir\, il m’a suffi d’arrêter de me battre et d’appliquer le reste du programme des AA avec autant d’enthousiasme que possible. \nLes douze étapes et les douze traditions \, p. 30-31 \nAprès avoir passé des années à vivre comme un déchaîné et comme un entêté\, j’ai trouvé dans la Deuxième Étape une merveilleuse façon de me libérer de ma grande solitude. Il n’y a plus rien d’aussi pénible ou d’aussi insurmontable maintenant dans mon cheminement. Il se trouve toujours quelqu’un avec qui je peux partager les fardeaux de la vie. La Deuxième Étape m’a permis de renforcer mes liens avec Dieu\, et je me rends compte que ma folie et mon ego allaient de pair ; pour me débarrasser de l’une\, je dois abandonner l’autre à quelqu’un qui a les épaules beaucoup plus larges que les miennes. \n\nExtrait du livre Réflexions quotidiennes\nCopyright © 1991 par Alcoholics Anonymous World Services\, Inc. Tous droits réservés. \nTous les Réflexions quotidiennes
URL:https://www.aa87.org/evenement/rq0205/2025-02-05/
LOCATION:aa87.org
CATEGORIES:Réflexions Quotidiennes
END:VEVENT
BEGIN:VEVENT
DTSTART;TZID=America/Toronto:20250205T190000
DTEND;TZID=America/Toronto:20250205T210000
DTSTAMP:20260422T103050
CREATED:20231217T165210Z
LAST-MODIFIED:20260303T000857Z
UID:10025001-1738782000-1738789200@www.aa87.org
SUMMARY:Comité de l'Information publique +
DESCRIPTION:Salle 1\nJoindre la réunion\n\n  \nID de réunion : 944 7943 6712\nCode secret : 1234
URL:https://www.aa87.org/evenement/information-publique/2025-02-05/
LOCATION:BSR / ASO\, 3920\, rue Rachel Est\, Montréal QC\, H1X 1Z3\, 3920\, Rachel Est\, Montréal\, Québec\, H1X 1Z3\, Canada
CATEGORIES:Activité / Activity,Comité d’Information Publique,Comités / Committees
END:VEVENT
BEGIN:VEVENT
DTSTART;TZID=America/Toronto:20250205T193000
DTEND;TZID=America/Toronto:20250205T213000
DTSTAMP:20260422T103050
CREATED:20241218T005737Z
LAST-MODIFIED:20241219T014259Z
UID:10014024-1738783800-1738791000@www.aa87.org
SUMMARY:Réunion des RSG du District 87-16
DESCRIPTION:Rencontre mensuelle en présence.
URL:https://www.aa87.org/evenement/district-16-2-2-3-2/2025-02-05/
LOCATION:Centre communautaire\, 53\, rue Rabastalière\, St-Bruno QC\, J3V 1Y7\, 53\, rue Rabastalière\, St-Bruno\, Québec\, J3V 1Y7\, Canada
CATEGORIES:District 16
ORGANIZER;CN="District 16%2C Bel%C5%93il%2C St-Hilaire":MAILTO:district16@aa87.org
END:VEVENT
BEGIN:VEVENT
DTSTART;VALUE=DATE:20250206
DTEND;VALUE=DATE:20250207
DTSTAMP:20260422T103050
CREATED:20250123T005122Z
LAST-MODIFIED:20260406T183800Z
UID:10018533-1738800000-1738886399@www.aa87.org
SUMMARY:Réflexion quotidienne 06 février
DESCRIPTION:UN POINT DE RALLIEMENT\n6 février\n\nAinsi donc\, la Deuxième Étape constitue notre point de ralliement à tous. Agnostiques\, athées ou anciens croyants\, nous pouvons tous nous y retrouver. \nLes douze étapes et les douze traditions\, p. 39 \nJ’ai l’impression que le programme des AA est inspiré par Dieu et que Dieu est présent à toutes les réunions. Je vois\, je crois et je sais que le mouvement marche parce que je suis demeuré abstinent aujourd’hui. Je confie ma vie aux AA et à Dieu lorsque j’assiste à une réunion. Si Dieu se trouve dans mon cœur et dans celui des autres\, je deviens une petite partie d’un grand tout et je ne me pense plus unique. Si Dieu habite mon cœur et me parle par la voix des autres\, alors Dieu doit pouvoir se servir de moi pour s’adresser aux autres. Si je fais sa volonté en vivant selon les principes spirituels\, en échange je retrouverai la raison et la sobriété émotive. \n\nExtrait du livre Réflexions quotidiennes\nCopyright © 1991 par Alcoholics Anonymous World Services\, Inc. Tous droits réservés. \nTous les Réflexions quotidiennes
URL:https://www.aa87.org/evenement/rq0206/2025-02-06/
LOCATION:aa87.org
CATEGORIES:Réflexions Quotidiennes
END:VEVENT
BEGIN:VEVENT
DTSTART;TZID=America/Toronto:20250206T190000
DTEND;TZID=America/Toronto:20250206T210000
DTSTAMP:20260422T103050
CREATED:20241217T174020Z
LAST-MODIFIED:20241217T233325Z
UID:10005802-1738868400-1738875600@www.aa87.org
SUMMARY:Réunion des RSG du District 87-05
DESCRIPTION:Réunion mensuelle sur Zoom. \nParticiper à la réunion Zoom \nID de réunion : 86244183943
URL:https://www.aa87.org/evenement/district-05-2/2025-02-06/
LOCATION:Place à l’emploi\, 125 Chem. du Coteau-Rouge\, Longueuil\, QC J4J 1W7\, Canada
CATEGORIES:Activité / Activity,District 05,District AA87
ORGANIZER;CN="District 5%2C Longueuil%2C St-Lambert":MAILTO:district05@aa87.org
END:VEVENT
BEGIN:VEVENT
DTSTART;TZID=America/Toronto:20250206T190000
DTEND;TZID=America/Toronto:20250206T220000
DTSTAMP:20260422T103050
CREATED:20231217T001039Z
LAST-MODIFIED:20251227T153833Z
UID:10017878-1738868400-1738879200@www.aa87.org
SUMMARY:Comité de direction
DESCRIPTION:Salle 4
URL:https://www.aa87.org/evenement/comite-de-direction-3/2025-02-06/
LOCATION:Réunion Virtuelle\, Québec\, Canada
CATEGORIES:Comité de direction/Steering Committee
END:VEVENT
BEGIN:VEVENT
DTSTART;TZID=America/Toronto:20250206T193000
DTEND;TZID=America/Toronto:20250206T213000
DTSTAMP:20260422T103050
CREATED:20241217T204941Z
LAST-MODIFIED:20241227T151343Z
UID:10014143-1738870200-1738877400@www.aa87.org
SUMMARY:Réunion des RSG du District 87-07
DESCRIPTION:Réunion mensuelle en présence.
URL:https://www.aa87.org/evenement/district-07-2-2/2025-02-06/
LOCATION:St. Mary’s Church\, 735\, Miller\, Greenfield Park QC\, 735\, Miller\, Greenfield Park\, Québec\, Canada
CATEGORIES:District 07
ORGANIZER;CN="District 7%2C Ch%C3%A2teauguay%2C St-Lambert%2C Valleyfield":MAILTO:district07@aa87.org
END:VEVENT
BEGIN:VEVENT
DTSTART;TZID=America/Toronto:20250206T193000
DTEND;TZID=America/Toronto:20250206T213000
DTSTAMP:20260422T103050
CREATED:20241217T205207Z
LAST-MODIFIED:20241218T013855Z
UID:10014203-1738870200-1738877400@www.aa87.org
SUMMARY:Réunion des RSG du District 87-14
DESCRIPTION:Réunion mensuelle en présence.
URL:https://www.aa87.org/evenement/district-14-2/2025-02-06/
LOCATION:3225 rue Courchesne Sorel-Tracy  Local 210\, 3225 rue Courchesne\, Sorel-Tracy\, QC\, J3R 3A7\, Canada
CATEGORIES:Activité / Activity,District 14,District AA87
ORGANIZER;CN="District 14%2C Sorel%2C Tracy et environs":MAILTO:district14@aa87.org
END:VEVENT
BEGIN:VEVENT
DTSTART;VALUE=DATE:20250207
DTEND;VALUE=DATE:20250208
DTSTAMP:20260422T103050
CREATED:20250125T233741Z
LAST-MODIFIED:20250125T233953Z
UID:10018752-1738886400-1738972799@www.aa87.org
SUMMARY:Réflexion quotidienne 07 février
DESCRIPTION:Un sentier vers la foi\n7 février\n\nL’humilité authentique et l’ouverture d’esprit peuvent nous conduire à la foi\, et chaque réunion des AA nous offre l’assurance que Dieu nous rendra la raison si nous établissons avec Lui des rapports sains. \nLes douze étapes et les douze traditions\, p. 39 \nMa dernière cuite m’avait mené à l’hôpital\, complètement démoli. C’est là que j’ai pu voir mon passé défiler devant moi. Je me suis rendu compte que tous les cauchemars que j’avais pu faire étaient devenus réalité. Mon entêtement et mon obsession face à l’alcool m’avaient mené au fond d’un trou noir\, rempli d’hallucinations\, de pertes de mémoire et de désespoir. Enfin vaincu\, j’ai demandé à Dieu de m’aider. J’ai senti sa présence qui me demandait de croire. Je ne suis plus obsédé par l’alcool et ma paranoïa s’est évanouie. Je n’ai plus peur. Je sais que je mène une vie saine\, physiquement et mentalement. \n\nExtrait du livre Réflexions quotidiennes\nCopyright © 1991 par Alcoholics Anonymous World Services\, Inc. Tous droits réservés. \nTous les Réflexions quotidiennes
URL:https://www.aa87.org/evenement/rq0207/2025-02-07/
LOCATION:aa87.org
CATEGORIES:Réflexions Quotidiennes
END:VEVENT
BEGIN:VEVENT
DTSTART;VALUE=DATE:20250208
DTEND;VALUE=DATE:20250209
DTSTAMP:20260422T103050
CREATED:20250126T020952Z
LAST-MODIFIED:20250126T021544Z
UID:10018782-1738972800-1739059199@www.aa87.org
SUMMARY:Réflexion quotidienne 08 février
DESCRIPTION:Maîtriser le « vieil homme »\n8 février\n\nMême quand nous nous conformons ainsi\, la joie et la paix continuent à nous échapper. Voilà le point où se retrouvent maintenant beaucoup de vieux membres\, et c’est littéralement infernal. Comment pouvons-nous amener notre inconscient qui engendre encore tellement de peurs\, de compulsions et d’aspirations insensées\, à se conformer à ce que nous croyons\, à ce que nous pensons et à ce que nous voulons réellement ? Comment persuader ce « M. Hyde » stupide et déchaîné qui se cache en nous ? Voilà notre principale tâche. \nLes meilleurs articles de Bill\, p. 43 \nAssister régulièrement aux réunions\, servir et aider les autres\, c’est là une recette que beaucoup appliquent avec succès. Si je m’écarte de ces principes de base\, mes vieilles habitudes refont surface et mon ancien moi reparaît avec toutes ses peurs et ses défauts. Le but ultime de tout membre des AA est l’abstinence permanente\, vécue un jour à la fois. \n\nExtrait du livre Réflexions quotidiennes\nCopyright © 1991 par Alcoholics Anonymous World Services\, Inc. Tous droits réservés. \nTous les Réflexions quotidiennes
URL:https://www.aa87.org/evenement/rq0208/2025-02-08/
LOCATION:aa87.org
CATEGORIES:Réflexions Quotidiennes
END:VEVENT
BEGIN:VEVENT
DTSTART;TZID=America/Toronto:20250208T090000
DTEND;TZID=America/Toronto:20250208T150000
DTSTAMP:20260422T103050
CREATED:20250111T152135Z
LAST-MODIFIED:20250205T003703Z
UID:10017751-1739005200-1739026800@www.aa87.org
SUMMARY:Réunion du Comité Régional
DESCRIPTION:La réunion régionale se tiendra à Candiac le 8 Février prochain et Il y aura un brunch a partir de 8 heures dans la salle Montcalm\nComplexe Roméo V. Patenaude\n135 Chemin Haendel\, Candiac\nJ5R-1R7 \nVoir l’annonce contenant la table virtuelle des documents 
URL:https://www.aa87.org/evenement/reunion-du-comite-regional-2/
LOCATION:Complexe Roméo V. Patenaude\, 135 Chemin Haendel\, Candiac\, QC\, J5R-1R7\, Canada
CATEGORIES:Comité régional
END:VEVENT
BEGIN:VEVENT
DTSTART;VALUE=DATE:20250209
DTEND;VALUE=DATE:20250210
DTSTAMP:20260422T103050
CREATED:20250201T234525Z
LAST-MODIFIED:20250201T235048Z
UID:10019018-1739059200-1739145599@www.aa87.org
SUMMARY:Réflexion quotidienne 09 février
DESCRIPTION:« Le côté spirituel »\n9 février\n\nCombien de fois\, dans des réunions\, n’entendons-nous pas le conférencier déclarer : « Mais il me manque encore l’aspect spirituel. » Pourtant\, avant de faire cette affirmation\, il a décrit une transformation intérieure miraculeuse\, non seulement sa libération de l’alcool mais un changement d’attitude total devant la vie. Pour tous ceux qui l’écoutent\, il semble évident qu’il a reçu un grand cadeau\, « mais il ne semble pas le savoir. » Nous savons très bien qu’il cherche et que\, dans six mois ou un an\, il nous dira qu’il a trouvé la foi en Dieu. \nLe langage du coeur\, p. 289-290 \nUne expérience spirituelle\, ce peut être la réalisation que la vie\, qui avait paru creuse et vide de sens\, est maintenant pleine de joie et de plénitude. Dans ma vie\, la prière et la méditation quotidiennes jointes à la pratique des Douze Étapes\, me procurent aujourd’hui la paix intérieure et le sentiment d’appartenance qui me manquaient quand je buvais. \n\nExtrait du livre Réflexions quotidiennes\nCopyright © 1991 par Alcoholics Anonymous World Services\, Inc. Tous droits réservés. \nTous les Réflexions quotidiennes
URL:https://www.aa87.org/evenement/rq0209/2025-02-09/
LOCATION:aa87.org
CATEGORIES:Réflexions Quotidiennes
END:VEVENT
BEGIN:VEVENT
DTSTART;VALUE=DATE:20250210
DTEND;VALUE=DATE:20250211
DTSTAMP:20260422T103050
CREATED:20241103T135239Z
LAST-MODIFIED:20241103T141225Z
UID:10009087-1739145600-1739231999@www.aa87.org
SUMMARY:Réflexion quotidienne 10 février
DESCRIPTION:﻿﻿﻿﻿﻿﻿\n \n\nTous les Réflexions quotidiennes
URL:https://www.aa87.org/evenement/rq0210/2025-02-10/
LOCATION:aa87.org
CATEGORIES:Réflexions Quotidiennes
END:VEVENT
BEGIN:VEVENT
DTSTART;TZID=America/Toronto:20250210T190000
DTEND;TZID=America/Toronto:20250210T210000
DTSTAMP:20260422T103050
CREATED:20241218T000243Z
LAST-MODIFIED:20260315T215743Z
UID:10040094-1739214000-1739221200@www.aa87.org
SUMMARY:Réunion des RSG du District 87-10
DESCRIPTION:Réunion mensuelle hybride \nSalle 2 \nJoindre la réunion\n \n  \nID de réunion : 918 2068 6211\nCode secret : 1234
URL:https://www.aa87.org/evenement/district-10-2-2/2025-02-10/
LOCATION:BSR / ASO\, 3920\, rue Rachel Est\, Montréal QC\, H1X 1Z3\, 3920\, Rachel Est\, Montréal\, Québec\, H1X 1Z3\, Canada
CATEGORIES:District 10
END:VEVENT
BEGIN:VEVENT
DTSTART;TZID=America/Toronto:20250210T190000
DTEND;TZID=America/Toronto:20250210T210000
DTSTAMP:20260422T103050
CREATED:20241218T133550Z
LAST-MODIFIED:20241218T133807Z
UID:10015238-1739214000-1739221200@www.aa87.org
SUMMARY:Helpline Committee
DESCRIPTION:Réunion mensuelle virtuelle seulement. 2e lundi. \nSalle 3 \nParticiper à la réunion Zoom \nhttps://zoom.us/j/91087779314?pwd=Yll2VGovWExTZ3cxL1hydzZmME1QUT09
URL:https://www.aa87.org/evenement/helpline-committee/2025-02-10/
LOCATION:
END:VEVENT
BEGIN:VEVENT
DTSTART;TZID=America/Toronto:20250210T193000
DTEND;TZID=America/Toronto:20250210T213000
DTSTAMP:20260422T103050
CREATED:20241217T205751Z
LAST-MODIFIED:20251230T050629Z
UID:10013904-1739215800-1739223000@www.aa87.org
SUMMARY:Réunion des RSG du District 87-15
DESCRIPTION:Réunion mensuelle en présence.
URL:https://www.aa87.org/evenement/district-15-2-2/2025-02-10/
LOCATION:136-A Jacques-Cartier Nord\, St-Jean-sur-Richelieu\, Québec\, Canada
CATEGORIES:District 15
ORGANIZER;CN="District 15%2C St-Jean-sur-Richelieu":MAILTO:district15@aa87.org
END:VEVENT
BEGIN:VEVENT
DTSTART;VALUE=DATE:20250211
DTEND;VALUE=DATE:20250212
DTSTAMP:20260422T103050
CREATED:20250201T235549Z
LAST-MODIFIED:20250202T000021Z
UID:10019048-1739232000-1739318399@www.aa87.org
SUMMARY:Réflexion quotidienne 11 février
DESCRIPTION:Les limites de l’autonomie\n11 février\n\nNous nous sommes interrogés sur la cause de nos peurs. N’était-ce pas parce que notre auto-suffisance nous avait lâchés ? \nLes Alcooliques Anonymes\, p. 76 \nTous mes défauts me séparent de la volonté de Dieu. Quand je mets de côté mon association avec lui\, j’affronte le monde et mon alcoolisme tout seul et je dois me débrouiller par mes propres moyens. Jamais je n’ai trouvé la sécurité et le bonheur en ne faisant qu’à ma tête ; tout ce que j’ai pu obtenir\, c’est une vie de peur et de mécontentement. Dieu me montre le sentier qui me conduit à Lui\, à la sérénité et au réconfort dont Il me gratifie. Mais je dois d’abord être disposé à reconnaître mes peurs et à comprendre leur cause et leur pouvoir sur moi. Je demande souvent à Dieu de m’aider à voir comment je m’éloigne de lui. \n\nExtrait du livre Réflexions quotidiennes\nCopyright © 1991 par Alcoholics Anonymous World Services\, Inc. Tous droits réservés. \nTous les Réflexions quotidiennes
URL:https://www.aa87.org/evenement/rq0211/2025-02-11/
LOCATION:aa87.org
CATEGORIES:Réflexions Quotidiennes
END:VEVENT
BEGIN:VEVENT
DTSTART;TZID=America/Toronto:20250211T183000
DTEND;TZID=America/Toronto:20250211T210000
DTSTAMP:20260422T103050
CREATED:20250207T201435Z
LAST-MODIFIED:20260314T020214Z
UID:10019275-1739298600-1739307600@www.aa87.org
SUMMARY:Réunion du bulletin Écho Echo Eco
DESCRIPTION:Réunion de l’Équipe de Production Rédactionnelle du bulletin Éche Echo Eco.\nJoindre la réunion\n\nID de réunion : 910 8777 9314\nCode secret : 1234
URL:https://www.aa87.org/evenement/reunionechoechoeco/2025-02-11/
LOCATION:
END:VEVENT
BEGIN:VEVENT
DTSTART;TZID=America/Toronto:20250211T190000
DTEND;TZID=America/Toronto:20250211T210000
DTSTAMP:20260422T103050
CREATED:20241218T000653Z
LAST-MODIFIED:20251230T152505Z
UID:10014321-1739300400-1739307600@www.aa87.org
SUMMARY:Réunion des RSG du District 87-18
DESCRIPTION:Réunion mensuelle en présence.
URL:https://www.aa87.org/evenement/district-18-2-2/2025-02-11/
LOCATION:Unity Church – 3455 Girouard in Montreal
CATEGORIES:District 18
ORGANIZER;CN="District 18%2C Verdun%2C Notre-Dame-de-Gr%C3%A2ce":MAILTO:district18@aa87.org
END:VEVENT
BEGIN:VEVENT
DTSTART;VALUE=DATE:20250212
DTEND;VALUE=DATE:20250213
DTSTAMP:20260422T103050
CREATED:20250202T000445Z
LAST-MODIFIED:20250202T001305Z
UID:10019078-1739318400-1739404799@www.aa87.org
SUMMARY:Réflexion quotidienne 12 février
DESCRIPTION:« La sources de nos problèmes »\n12 février\n\nÉgoïsme et égocentrisme\, c’est là\, croyons-nous\, la source de nos problèmes. \nLes Alcooliques Anonymes\, p. 69 \nComme il est étonnant de constater que le monde et tous ceux qui l’habitent peuvent très bien fonctionner avec ou sans moi. Quel soulagement de savoir que les gens\, les lieux et les événements ne nécessitent aucunement ma gestion ou mes conseils. Et quel indicible bonheur d’en venir à croire qu’il existe une Puissance supérieure\, complètement séparée de moi. Je crois que ce sentiment de séparation entre Dieu et moi s’évanouira un jour. En attendant\, la foi doit être pour moi la voie qui me conduit au centre de ma vie. \n\nExtrait du livre Réflexions quotidiennes\nCopyright © 1991 par Alcoholics Anonymous World Services\, Inc. Tous droits réservés. \nTous les Réflexions quotidiennes
URL:https://www.aa87.org/evenement/rq0212/2025-02-12/
LOCATION:aa87.org
CATEGORIES:Réflexions Quotidiennes
END:VEVENT
END:VCALENDAR