BEGIN:VCALENDAR
VERSION:2.0
PRODID:-//Alcooliques Anonymes Région 87 - ECPv6.15.17//NONSGML v1.0//EN
CALSCALE:GREGORIAN
METHOD:PUBLISH
X-WR-CALNAME:Alcooliques Anonymes Région 87
X-ORIGINAL-URL:https://www.aa87.org
X-WR-CALDESC:Évènements pour Alcooliques Anonymes Région 87
REFRESH-INTERVAL;VALUE=DURATION:PT1H
X-Robots-Tag:noindex
X-PUBLISHED-TTL:PT1H
BEGIN:VTIMEZONE
TZID:America/Toronto
BEGIN:DAYLIGHT
TZOFFSETFROM:-0500
TZOFFSETTO:-0400
TZNAME:EDT
DTSTART:20240310T070000
END:DAYLIGHT
BEGIN:STANDARD
TZOFFSETFROM:-0400
TZOFFSETTO:-0500
TZNAME:EST
DTSTART:20241103T060000
END:STANDARD
BEGIN:DAYLIGHT
TZOFFSETFROM:-0500
TZOFFSETTO:-0400
TZNAME:EDT
DTSTART:20250309T070000
END:DAYLIGHT
BEGIN:STANDARD
TZOFFSETFROM:-0400
TZOFFSETTO:-0500
TZNAME:EST
DTSTART:20251102T060000
END:STANDARD
BEGIN:DAYLIGHT
TZOFFSETFROM:-0500
TZOFFSETTO:-0400
TZNAME:EDT
DTSTART:20260308T070000
END:DAYLIGHT
BEGIN:STANDARD
TZOFFSETFROM:-0400
TZOFFSETTO:-0500
TZNAME:EST
DTSTART:20261101T060000
END:STANDARD
END:VTIMEZONE
BEGIN:VEVENT
DTSTART;VALUE=DATE:20250501
DTEND;VALUE=DATE:20250502
DTSTAMP:20260422T060805
CREATED:20250502T121702Z
LAST-MODIFIED:20250502T130326Z
UID:10021713-1746057600-1746143999@www.aa87.org
SUMMARY:Réflexion quotidienne 1er mai
DESCRIPTION:Guérir la coeur et l’esprit\n1 mai\n\nNous avons avoué à Dieu\, à nous-mêmes et à un autre être humain la nature exacte de nos torts. \nLes douze étapes et les douze traditions\, P. 64 \nPuisque Dieu se manifeste vraiment à moi par l’intermédiaire des autres\, il est évident que si j’éloigne les autres\, j’éloigne aussi Dieu. Il est plus près de moi que je le pense et je peux le connaître en aimant les gens et en me laissant aimer d’eux. Par contre\, je ne peux ni aimer ni être aimé lorsque je laisse mes secrets bloquer le chemin. \nJe suis gouverné par la partie de moi-même que je refuse de voir. Il faut donc que j’accepte d’examiner mon côté sombre si je veux guérir mon esprit et mon cœur. C’est là la route de la liberté. Je dois marcher dans le noir pour trouver la lumière\, je dois cheminer dans la peur pour atteindre la paix. \nEn révélant mes secrets et\, par conséquent\, en me débarrassant de mon sentiment de culpabilité\, je peux vraiment changer ma façon de penser et en changeant ma façon de penser\, je peux me changer moi-même. Mon avenir dépend de mes pensées. Ce que je pense aujourd’hui détermine ce que je serai demain. \nExtrait du livre Réflexions quotidiennes\nCopyright © 1991 par Alcoholics Anonymous World Services\, Inc. Tous droits réservés. \nTous les Réflexions quotidiennes
URL:https://www.aa87.org/evenement/rq0501/2025-05-01/
CATEGORIES:Réflexions Quotidiennes
END:VEVENT
BEGIN:VEVENT
DTSTART;TZID=America/Toronto:20250501T190000
DTEND;TZID=America/Toronto:20250501T210000
DTSTAMP:20260422T060805
CREATED:20241217T174020Z
LAST-MODIFIED:20241217T233325Z
UID:10005805-1746126000-1746133200@www.aa87.org
SUMMARY:Réunion des RSG du District 87-05
DESCRIPTION:Réunion mensuelle sur Zoom. \nParticiper à la réunion Zoom \nID de réunion : 86244183943
URL:https://www.aa87.org/evenement/district-05-2/2025-05-01/
LOCATION:Place à l’emploi\, 125 Chem. du Coteau-Rouge\, Longueuil\, QC J4J 1W7\, Canada
CATEGORIES:Activité / Activity,District 05,District AA87
ORGANIZER;CN="District 5%2C Longueuil%2C St-Lambert":MAILTO:district05@aa87.org
END:VEVENT
BEGIN:VEVENT
DTSTART;TZID=America/Toronto:20250501T190000
DTEND;TZID=America/Toronto:20250501T220000
DTSTAMP:20260422T060805
CREATED:20231217T001039Z
LAST-MODIFIED:20251227T153833Z
UID:10016832-1746126000-1746136800@www.aa87.org
SUMMARY:Comité de direction
DESCRIPTION:Salle 4
URL:https://www.aa87.org/evenement/comite-de-direction-3/2025-05-01/
LOCATION:Réunion Virtuelle\, Québec\, Canada
CATEGORIES:Comité de direction/Steering Committee
END:VEVENT
BEGIN:VEVENT
DTSTART;TZID=America/Toronto:20250501T193000
DTEND;TZID=America/Toronto:20250501T213000
DTSTAMP:20260422T060805
CREATED:20241217T204941Z
LAST-MODIFIED:20241227T151343Z
UID:10014146-1746127800-1746135000@www.aa87.org
SUMMARY:Réunion des RSG du District 87-07
DESCRIPTION:Réunion mensuelle en présence.
URL:https://www.aa87.org/evenement/district-07-2-2/2025-05-01/
LOCATION:St. Mary’s Church\, 735\, Miller\, Greenfield Park QC\, 735\, Miller\, Greenfield Park\, Québec\, Canada
CATEGORIES:District 07
ORGANIZER;CN="District 7%2C Ch%C3%A2teauguay%2C St-Lambert%2C Valleyfield":MAILTO:district07@aa87.org
END:VEVENT
BEGIN:VEVENT
DTSTART;TZID=America/Toronto:20250501T193000
DTEND;TZID=America/Toronto:20250501T213000
DTSTAMP:20260422T060805
CREATED:20241217T205207Z
LAST-MODIFIED:20241218T013855Z
UID:10014206-1746127800-1746135000@www.aa87.org
SUMMARY:Réunion des RSG du District 87-14
DESCRIPTION:Réunion mensuelle en présence.
URL:https://www.aa87.org/evenement/district-14-2/2025-05-01/
LOCATION:3225 rue Courchesne Sorel-Tracy  Local 210\, 3225 rue Courchesne\, Sorel-Tracy\, QC\, J3R 3A7\, Canada
CATEGORIES:Activité / Activity,District 14,District AA87
ORGANIZER;CN="District 14%2C Sorel%2C Tracy et environs":MAILTO:district14@aa87.org
END:VEVENT
BEGIN:VEVENT
DTSTART;VALUE=DATE:20250502
DTEND;VALUE=DATE:20250503
DTSTAMP:20260422T060805
CREATED:20250502T132956Z
LAST-MODIFIED:20250502T133459Z
UID:10021737-1746144000-1746230399@www.aa87.org
SUMMARY:Réflexion quotidienne 2 mai
DESCRIPTION:Éclairer le sombre passé\n2 mai\n\nAccrochez-vous à l’idée que\, dans les mains de Dieu\, votre noir passé est ce que vous possédez de plus précieux : la clé de la vie et du bonheur des autres. Avec cette clé\, vous pourrez les sauver de la misère et de la mort. \nLes Alcooliques Anonymes\, P. 140 \nMon passé n’est plus une autobiographie mais un livre de référence que je peux consulter et prêter. Aujourd’hui\, en me rendant au travail\, il me vient à l’esprit une très belle image. Même si cette journée est sombre\, comme ça arrive parfois\, les étoiles n’en seront que plus brillantes plus tard. Très bientôt\, je serai appelé à témoigner de leur éclat. Ce jour-là\, tout mon passé fera partie de moi parce qu’il est une clé et non un verrou. \nExtrait du livre Réflexions quotidiennes\nCopyright © 1991 par Alcoholics Anonymous World Services\, Inc. Tous droits réservés. \nTous les Réflexions quotidiennes
URL:https://www.aa87.org/evenement/rq0502/2025-05-02/
CATEGORIES:Réflexions Quotidiennes
END:VEVENT
BEGIN:VEVENT
DTSTART;VALUE=DATE:20250503
DTEND;VALUE=DATE:20250504
DTSTAMP:20260422T060805
CREATED:20250502T133709Z
LAST-MODIFIED:20250502T134004Z
UID:10021755-1746230400-1746316799@www.aa87.org
SUMMARY:Réflexion quotidienne 3 mai
DESCRIPTION:Nettoyer la maison\n3 mai\n\nD’une certaine manière\, il semble moins embarrassant de nous trouver seuls avec Dieu que de faire face à une autre personne. Tant que nous ne prenons pas la peine de nous arrêter pour parler ouvertement de ce que nous avons caché si longtemps\, notre bonne disposition à mettre de l’ordre dans nos affaires reste encore grandement théorique. \nLes douze étapes et les douze traditions\, p. 70 \nIl n’était pas rare que je parle à Dieu – et à moimême – de mes défauts. Mais m’asseoir en face d’une autre personne pour discuter ouvertement de ces questions intimes était autrement difficile. Toutefois\, cette expérience m’a apporté un soulagement semblable à celui que j’avais ressenti la première fois que j’avais admis être alcoolique. J’ai commencé à apprécier la dimension spirituelle du programme et je me suis rendu compte que la Cinquième Étape n’est qu’une introduction à tout ce qui reste à venir dans les sept Étapes. \nExtrait du livre Réflexions quotidiennes\nCopyright © 1991 par Alcoholics Anonymous World Services\, Inc. Tous droits réservés. \nTous les Réflexions quotidiennes
URL:https://www.aa87.org/evenement/rq0503/2025-05-03/
CATEGORIES:Réflexions Quotidiennes
END:VEVENT
BEGIN:VEVENT
DTSTART;TZID=America/Toronto:20250503T090000
DTEND;TZID=America/Toronto:20250503T160000
DTSTAMP:20260422T060805
CREATED:20241219T001028Z
LAST-MODIFIED:20250913T135939Z
UID:10015514-1746262800-1746288000@www.aa87.org
SUMMARY:Séminaire / Structure
DESCRIPTION:Séminaire en français. Format hybride. \nSalle 3. \nParticiper à la réunion Zoom \nPrésentation d’une vision approfondie des volets Unité et Service de notre Mode de Vie. \nSeminaire structure AA 11 octobre 2025 PDF \n 
URL:https://www.aa87.org/evenement/seminaire/2025-05-03/
LOCATION:BSR / ASO\, 3920\, rue Rachel Est\, Montréal QC\, H1X 1Z3\, 3920\, Rachel Est\, Montréal\, Québec\, H1X 1Z3\, Canada
END:VEVENT
BEGIN:VEVENT
DTSTART;VALUE=DATE:20250504
DTEND;VALUE=DATE:20250505
DTSTAMP:20260422T060805
CREATED:20250502T105506Z
LAST-MODIFIED:20250502T105506Z
UID:10021635-1746316800-1746403199@www.aa87.org
SUMMARY:Réflexion quotidienne 04 mai
DESCRIPTION:﻿﻿﻿\n \n\nTous les Réflexions quotidiennes
URL:https://www.aa87.org/evenement/rq0504/2025-05-04/
CATEGORIES:Réflexions Quotidiennes
END:VEVENT
BEGIN:VEVENT
DTSTART;TZID=America/Toronto:20250504T100000
DTEND;TZID=America/Toronto:20250504T113000
DTSTAMP:20260422T060805
CREATED:20241218T132830Z
LAST-MODIFIED:20260301T160120Z
UID:10025141-1746352800-1746358200@www.aa87.org
SUMMARY:Correctional Facilities Committee
DESCRIPTION:Réunion mensuelle virtuelle seulement. \nSalle 1 \nJoindre la réunion\n \n  \nID de réunion : 944 7943 6712\nCode secret : 1234
URL:https://www.aa87.org/evenement/correctional-facilities-committee/2025-05-04/
LOCATION:
END:VEVENT
BEGIN:VEVENT
DTSTART;VALUE=DATE:20250505
DTEND;VALUE=DATE:20250506
DTSTAMP:20260422T060805
CREATED:20250505T080542Z
LAST-MODIFIED:20250505T081742Z
UID:10021977-1746403200-1746489599@www.aa87.org
SUMMARY:Réflexion quotidienne 05 mai
DESCRIPTION:La forêt et les arbres\n5 mai\n\n… il est facile\, à coup de rationalisations et de vœux pieux\, de déformer ce qui se présente spontanément à notre esprit. L’avantage de nous adresser à une autre personne\, c’est que nous pouvons sur-le-champ recevoir ses commentaires et ses conseils en ce qui concerne notre situation… \nLes douze étapes et les douze traditions\, p. 70 \nJe ne compte plus les fois où je me suis retrouvé en colère et frustré\, et où je me suis dit : « Les arbres m’empêchent de voir la forêt ! » J’ai fini par m’apercevoir que ce dont j’avais besoin quand je souffrais ainsi\, c’était de quelqu’un qui puisse m’aider à distinguer la forêt des arbres\, me suggérer un meilleur sentier\, m’aider à éteindre les feux ainsi qu’à éviter les pierres et les embûches. \nQuand je suis perdu dans la forêt\, je demande à Dieu de me donner le courage d’appeler un membre des AA. \nExtrait du livre Réflexions quotidiennes\nCopyright © 1991 par Alcoholics Anonymous World Services\, Inc. Tous droits réservés. \nTous les Réflexions quotidiennes
URL:https://www.aa87.org/evenement/rq0505/2025-05-05/
CATEGORIES:Réflexions Quotidiennes
END:VEVENT
BEGIN:VEVENT
DTSTART;TZID=America/Toronto:20250505T060000
DTEND;TZID=America/Toronto:20250505T060000
DTSTAMP:20260422T060805
CREATED:20250205T002249Z
LAST-MODIFIED:20251229T223501Z
UID:10019215-1746424800-1746424800@www.aa87.org
SUMMARY:Réunion des RSG du District 87-13
DESCRIPTION:Rencontre mensuelle en présence.
URL:https://www.aa87.org/evenement/district-13-2-2/2025-05-05/
LOCATION:Centre St-Zotique\, 75\, carré Sir Georges-Étienne Cartier\, salle 215\, Montréal QC\, H4C 3A1\, 75\, carré Sir Georges-Étienne Cartier\, salle 215\, Montréal\, Québec\, H4C 3A1\, Canada
CATEGORIES:Activité / Activity,District 13,District AA87
END:VEVENT
BEGIN:VEVENT
DTSTART;TZID=America/Toronto:20250505T190000
DTEND;TZID=America/Toronto:20250505T210000
DTSTAMP:20260422T060805
CREATED:20241217T005615Z
LAST-MODIFIED:20260302T004538Z
UID:10013967-1746471600-1746478800@www.aa87.org
SUMMARY:Réunion des RSG du District 87-19
DESCRIPTION:Réunion mensuelle hybride. \nSalle 2 \nJoindre la réunion\n \nID de réunion : 918 2068 6211\nCode secret : 1234
URL:https://www.aa87.org/evenement/district-19-2-2/2025-05-05/
LOCATION:BSR / ASO\, 3920\, rue Rachel Est\, Montréal QC\, H1X 1Z3\, 3920\, Rachel Est\, Montréal\, Québec\, H1X 1Z3\, Canada
CATEGORIES:Activité / Activity,District 19
ORGANIZER;CN="District 19%2C Montreal%2C Westmount":MAILTO:district19@aa87.org
END:VEVENT
BEGIN:VEVENT
DTSTART;TZID=America/Toronto:20250505T190000
DTEND;TZID=America/Toronto:20250505T210000
DTSTAMP:20260422T060805
CREATED:20241217T005830Z
LAST-MODIFIED:20260303T000358Z
UID:10011234-1746471600-1746478800@www.aa87.org
SUMMARY:Comité Congrès de la Région 87
DESCRIPTION:Salle 1. \nRencontre de l’équipe de l’orginsation du Congrès de la Région 87. \nJoindre la réunion\n \n  \nID de réunion : 944 7943 6712\nCode secret : 1234
URL:https://www.aa87.org/evenement/comite-du-congres-regional-3-2/2025-05-05/
END:VEVENT
BEGIN:VEVENT
DTSTART;TZID=America/Toronto:20250505T193000
DTEND;TZID=America/Toronto:20250505T213000
DTSTAMP:20260422T060805
CREATED:20241217T223859Z
LAST-MODIFIED:20251230T165149Z
UID:10011450-1746473400-1746480600@www.aa87.org
SUMMARY:Réunion des RSG du District 87-26
DESCRIPTION:Réunion mensuelle en présence.
URL:https://www.aa87.org/evenement/district-26-2-2/2025-05-05/
LOCATION:École Les Trois Saisons (entrée par l’arrière) 570\, boul. de Mortagne\, Boucherville QC\, J4B 5E4\, 570\, boul. de Mortagne\, Boucherville\, Québec\, J4B 5E4\, Canada
CATEGORIES:Activité / Activity,District 26,District AA87
ORGANIZER;CN="District 26%2C Longueuil%2C Contrec%C5%93ur":MAILTO:district26@aa87.org
END:VEVENT
BEGIN:VEVENT
DTSTART;TZID=America/Toronto:20250506T193000
DTEND;TZID=America/Toronto:20250506T213000
DTSTAMP:20260422T060805
CREATED:20241217T224421Z
LAST-MODIFIED:20260228T232542Z
UID:10012101-1746559800-1746567000@www.aa87.org
SUMMARY:Réunion des RSG du District 87-21
DESCRIPTION:Rencontre mensuelle en présence.
URL:https://www.aa87.org/evenement/district-21-2-2/2025-05-06/
LOCATION:Centre communautaire Richard Goulet\, 170 rue St-Antoine Nord\, Granby\, Québec\, J2G 5G8\, Canada
CATEGORIES:Activité / Activity,District 21,District AA87
ORGANIZER;CN="District 21%2C Granby%2C Cowansville":MAILTO:district21@aa87.org
END:VEVENT
BEGIN:VEVENT
DTSTART;TZID=America/Toronto:20250507T190000
DTEND;TZID=America/Toronto:20250507T210000
DTSTAMP:20260422T060805
CREATED:20231217T165210Z
LAST-MODIFIED:20260303T000857Z
UID:10025004-1746644400-1746651600@www.aa87.org
SUMMARY:Comité de l'Information publique +
DESCRIPTION:Salle 1\nJoindre la réunion\n\n  \nID de réunion : 944 7943 6712\nCode secret : 1234
URL:https://www.aa87.org/evenement/information-publique/2025-05-07/
LOCATION:BSR / ASO\, 3920\, rue Rachel Est\, Montréal QC\, H1X 1Z3\, 3920\, Rachel Est\, Montréal\, Québec\, H1X 1Z3\, Canada
CATEGORIES:Activité / Activity,Comité d’Information Publique,Comités / Committees
END:VEVENT
BEGIN:VEVENT
DTSTART;TZID=America/Toronto:20250508T190000
DTEND;TZID=America/Toronto:20250508T210000
DTSTAMP:20260422T060805
CREATED:20250122T232304Z
LAST-MODIFIED:20260314T014249Z
UID:10018554-1746730800-1746738000@www.aa87.org
SUMMARY:Réunion mensuelle du congres AA de la rive sud
DESCRIPTION:Préparation du comité du congres de la rive-sud\nJoindre la réunion\n\nID de le réunion : 81677227760\nCode secret: \nVoir l’annonce \n\n\n\n\nCongrès de la Rive Sud\nRejoignez-nous à notre événement! \n\n\n\nVoir les détails du congrès\n \n\n 
URL:https://www.aa87.org/evenement/district-05-3/2025-05-08/
LOCATION:125 Coteau Rouge Longueuil\, Québec J4J 1W7 Canada\, 125 Coteau Rouge\, Longueuil\, QC\, J4J 1W7\, Canada
CATEGORIES:District 05
ORGANIZER;CN="District 5%2C Longueuil%2C St-Lambert":MAILTO:district05@aa87.org
END:VEVENT
BEGIN:VEVENT
DTSTART;VALUE=DATE:20250510
DTEND;VALUE=DATE:20250511
DTSTAMP:20260422T060805
CREATED:20250510T121021Z
LAST-MODIFIED:20250510T121021Z
UID:10022010-1746835200-1746921599@www.aa87.org
SUMMARY:Réflexion quotidienne 10 mai
DESCRIPTION:Enfi libre !\n10 mai\n\nL’autre dividende remarquable que nous pouvons espérer de l’aveu de nos défauts à un autre être humain est l’humilité\, un mot souvent mal compris… l’humilité consiste à reconnaître clairement qui nous sommes et ce que nous sommes\, et à chercher sincèrement ensuite à devenir ce que nous pourrions être. \nLes douze étapes et les douze traditions\, p. 68 \nJe savais\, dans mon for intérieur\, que si je voulais un jour connaître la joie\, le bonheur et la liberté\, je devais raconter ma vie antérieure à une autre personne. Après l’avoir fait\, j’ai connu une joie et un soulagement indescriptibles. Presque tout de suite après ma Cinquième Étape\, je me suis senti libéré de l’esclavage de mon ego et de l’esclavage de l’alcool. Trente-six ans plus tard\, je suis toujours libre\, un jour à la fois. J’ai découvert que Dieu pouvait faire pour moi ce que je ne pouvais pas faire pour moi-même. \nExtrait du livre Réflexions quotidiennes\nCopyright © 1991 par Alcoholics Anonymous World Services\, Inc. Tous droits réservés. \nTous les Réflexions quotidiennes
URL:https://www.aa87.org/evenement/rq0510/2025-05-10/
CATEGORIES:Réflexions Quotidiennes
END:VEVENT
BEGIN:VEVENT
DTSTART;TZID=America/Toronto:20250510T080000
DTEND;TZID=America/Toronto:20250510T170000
DTSTAMP:20260422T060805
CREATED:20250425T113056Z
LAST-MODIFIED:20250425T113056Z
UID:10021536-1746864000-1746896400@www.aa87.org
SUMMARY:Eastern Ontario Spring Conference
DESCRIPTION:Voir l’annonce
URL:https://www.aa87.org/evenement/eastern-ontario-spring-conference/
END:VEVENT
BEGIN:VEVENT
DTSTART;TZID=America/Toronto:20250510T083000
DTEND;TZID=America/Toronto:20250510T100000
DTSTAMP:20260422T060805
CREATED:20241228T132124Z
LAST-MODIFIED:20241228T132516Z
UID:10017219-1746865800-1746871200@www.aa87.org
SUMMARY:39e Congrès du Cap de la Madeleine
DESCRIPTION:Voir l’annonce
URL:https://www.aa87.org/evenement/39e-congres-du-cap-de-la-madeleine/
LOCATION:1001 rang St-Malo Trois-Rivières\, Québec G8V 1X4 Canada\, 1001 rang St-Malo\, Trois-Rivières\, Québec\, G8V 1X4\, Canada
CATEGORIES:Activité / Activity
END:VEVENT
BEGIN:VEVENT
DTSTART;TZID=America/Toronto:20250510T083000
DTEND;TZID=America/Toronto:20250510T140000
DTSTAMP:20260422T060805
CREATED:20241219T012657Z
LAST-MODIFIED:20250510T134336Z
UID:10015534-1746865800-1746885600@www.aa87.org
SUMMARY:Réunion du comité régional
DESCRIPTION:Salle 0. \nPour participer à la réunion Zoom \nhttps://zoom.us/j/98498897228?pwd=MTFpQ3FxM3Y0ZnJKK3N1bGFKNnJkZz09
URL:https://www.aa87.org/evenement/reunion-du-comite-regional/2025-05-10/
LOCATION:BSR / ASO\, 3920\, rue Rachel Est\, Montréal QC\, H1X 1Z3\, 3920\, Rachel Est\, Montréal\, Québec\, H1X 1Z3\, Canada
CATEGORIES:Comité régional
END:VEVENT
BEGIN:VEVENT
DTSTART;TZID=America/Toronto:20250510T083000
DTEND;TZID=America/Toronto:20250510T214500
DTSTAMP:20260422T060805
CREATED:20250123T233701Z
LAST-MODIFIED:20250123T233820Z
UID:10018548-1746865800-1746913500@www.aa87.org
SUMMARY:44e Congres de St-Hyacinthe
DESCRIPTION:Voir l’annonce
URL:https://www.aa87.org/evenement/44e-congres-de-st-hyacinthe/
LOCATION:2700 T.D. Bouchard St-Hyacinthe\, Québec J2S 7G2 Canada\, 2700 T.D. Bouchard\, St-Hyacinthe Canada Map It\, QC\, J2S 7G2\, Canada
CATEGORIES:Activité / Activity
ORGANIZER;CN="District 24%2C Maskoutains (St-Hyacinthe)":MAILTO:district24@aa87.org
END:VEVENT
BEGIN:VEVENT
DTSTART;TZID=America/Toronto:20250510T190000
DTEND;TZID=America/Toronto:20250510T210000
DTSTAMP:20260422T060805
CREATED:20241218T000243Z
LAST-MODIFIED:20260315T215743Z
UID:10040097-1746903600-1746910800@www.aa87.org
SUMMARY:Réunion des RSG du District 87-10
DESCRIPTION:Réunion mensuelle hybride \nSalle 2 \nJoindre la réunion\n \n  \nID de réunion : 918 2068 6211\nCode secret : 1234
URL:https://www.aa87.org/evenement/district-10-2-2/2025-05-10/
LOCATION:BSR / ASO\, 3920\, rue Rachel Est\, Montréal QC\, H1X 1Z3\, 3920\, Rachel Est\, Montréal\, Québec\, H1X 1Z3\, Canada
CATEGORIES:District 10
END:VEVENT
BEGIN:VEVENT
DTSTART;VALUE=DATE:20250511
DTEND;VALUE=DATE:20250512
DTSTAMP:20260422T060805
CREATED:20250510T115603Z
LAST-MODIFIED:20250510T115603Z
UID:10021995-1746921600-1747007999@www.aa87.org
SUMMARY:Réflexion quotidienne 11 mai
DESCRIPTION:﻿﻿﻿﻿﻿﻿﻿﻿\n \n\nTous les Réflexions quotidiennes
URL:https://www.aa87.org/evenement/rq0511/2025-05-11/
CATEGORIES:Réflexions Quotidiennes
END:VEVENT
BEGIN:VEVENT
DTSTART;TZID=America/Toronto:20250512T190000
DTEND;TZID=America/Toronto:20250512T210000
DTSTAMP:20260422T060805
CREATED:20241218T002259Z
LAST-MODIFIED:20260314T111045Z
UID:10039964-1747076400-1747083600@www.aa87.org
SUMMARY:Comité des Publications
DESCRIPTION:Réunion mensuelle. \nSalle 1 \nJoindre la réunion\n \n  \nID de réunion : 944 7943 6712 \nCode secret : 1234
URL:https://www.aa87.org/evenement/publications-2-2/2025-05-12/
LOCATION:Réunion virtuelle seulement\, Québec\, Canada
END:VEVENT
BEGIN:VEVENT
DTSTART;TZID=America/Toronto:20250512T193000
DTEND;TZID=America/Toronto:20250512T213000
DTSTAMP:20260422T060805
CREATED:20241217T205751Z
LAST-MODIFIED:20251230T050629Z
UID:10013907-1747078200-1747085400@www.aa87.org
SUMMARY:Réunion des RSG du District 87-15
DESCRIPTION:Réunion mensuelle en présence.
URL:https://www.aa87.org/evenement/district-15-2-2/2025-05-12/
LOCATION:136-A Jacques-Cartier Nord\, St-Jean-sur-Richelieu\, Québec\, Canada
CATEGORIES:District 15
ORGANIZER;CN="District 15%2C St-Jean-sur-Richelieu":MAILTO:district15@aa87.org
END:VEVENT
BEGIN:VEVENT
DTSTART;TZID=America/Toronto:20250513T183000
DTEND;TZID=America/Toronto:20250513T210000
DTSTAMP:20260422T060805
CREATED:20250207T201435Z
LAST-MODIFIED:20260314T020214Z
UID:10019278-1747161000-1747170000@www.aa87.org
SUMMARY:Réunion du bulletin Écho Echo Eco
DESCRIPTION:Réunion de l’Équipe de Production Rédactionnelle du bulletin Éche Echo Eco.\nJoindre la réunion\n\nID de réunion : 910 8777 9314\nCode secret : 1234
URL:https://www.aa87.org/evenement/reunionechoechoeco/2025-05-13/
LOCATION:
END:VEVENT
BEGIN:VEVENT
DTSTART;TZID=America/Toronto:20250513T190000
DTEND;TZID=America/Toronto:20250513T210000
DTSTAMP:20260422T060805
CREATED:20241218T000653Z
LAST-MODIFIED:20251230T152505Z
UID:10014324-1747162800-1747170000@www.aa87.org
SUMMARY:Réunion des RSG du District 87-18
DESCRIPTION:Réunion mensuelle en présence.
URL:https://www.aa87.org/evenement/district-18-2-2/2025-05-13/
LOCATION:Unity Church – 3455 Girouard in Montreal
CATEGORIES:District 18
ORGANIZER;CN="District 18%2C Verdun%2C Notre-Dame-de-Gr%C3%A2ce":MAILTO:district18@aa87.org
END:VEVENT
BEGIN:VEVENT
DTSTART;TZID=America/Toronto:20250514T190000
DTEND;TZID=America/Toronto:20250514T210000
DTSTAMP:20260422T060805
CREATED:20241218T001332Z
LAST-MODIFIED:20260314T112615Z
UID:10010877-1747249200-1747256400@www.aa87.org
SUMMARY:Comité des technologies +
DESCRIPTION:Réunion mensuelle sur Teams. \nJoindre la réunion\n \n  \nID de réunion : 210 078 105 291 \nCode secret : HwMBfV \n 
URL:https://www.aa87.org/evenement/comite-des-technologies-2/2025-05-14/
LOCATION:Réunion virtuelle seulement\, Québec\, Canada
CATEGORIES:Activité / Activity,Comité des Technologies/ Technology Committee,Comités / Committees
END:VEVENT
END:VCALENDAR