BEGIN:VCALENDAR
VERSION:2.0
PRODID:-//Alcooliques Anonymes Région 87 - ECPv6.15.17//NONSGML v1.0//EN
CALSCALE:GREGORIAN
METHOD:PUBLISH
X-WR-CALNAME:Alcooliques Anonymes Région 87
X-ORIGINAL-URL:https://www.aa87.org
X-WR-CALDESC:Évènements pour Alcooliques Anonymes Région 87
REFRESH-INTERVAL;VALUE=DURATION:PT1H
X-Robots-Tag:noindex
X-PUBLISHED-TTL:PT1H
BEGIN:VTIMEZONE
TZID:America/Toronto
BEGIN:DAYLIGHT
TZOFFSETFROM:-0500
TZOFFSETTO:-0400
TZNAME:EDT
DTSTART:20240310T070000
END:DAYLIGHT
BEGIN:STANDARD
TZOFFSETFROM:-0400
TZOFFSETTO:-0500
TZNAME:EST
DTSTART:20241103T060000
END:STANDARD
BEGIN:DAYLIGHT
TZOFFSETFROM:-0500
TZOFFSETTO:-0400
TZNAME:EDT
DTSTART:20250309T070000
END:DAYLIGHT
BEGIN:STANDARD
TZOFFSETFROM:-0400
TZOFFSETTO:-0500
TZNAME:EST
DTSTART:20251102T060000
END:STANDARD
BEGIN:DAYLIGHT
TZOFFSETFROM:-0500
TZOFFSETTO:-0400
TZNAME:EDT
DTSTART:20260308T070000
END:DAYLIGHT
BEGIN:STANDARD
TZOFFSETFROM:-0400
TZOFFSETTO:-0500
TZNAME:EST
DTSTART:20261101T060000
END:STANDARD
END:VTIMEZONE
BEGIN:VEVENT
DTSTART;VALUE=DATE:20250601
DTEND;VALUE=DATE:20250602
DTSTAMP:20260422T043627
CREATED:20250622T135218Z
LAST-MODIFIED:20250622T135531Z
UID:10022350-1748736000-1748822399@www.aa87.org
SUMMARY:Réflexion quotidienne 01 juin
DESCRIPTION:﻿﻿\n \nTous les Réflexions quotidiennes
URL:https://www.aa87.org/evenement/rq0601/2025-06-01/
CATEGORIES:Réflexions Quotidiennes
END:VEVENT
BEGIN:VEVENT
DTSTART;TZID=America/Toronto:20250601T090000
DTEND;TZID=America/Toronto:20250601T170000
DTSTAMP:20260422T043627
CREATED:20241219T172106Z
LAST-MODIFIED:20241219T175417Z
UID:10015553-1748768400-1748797200@www.aa87.org
SUMMARY:Rapport du Délégué (hispanophone)
DESCRIPTION:En présence seulement.
URL:https://www.aa87.org/evenement/rapport-du-delegue-hispanophone/
LOCATION:7105 rue St-Hubert\, local 106\, Montréal
CATEGORIES:Rapport du délégué
END:VEVENT
BEGIN:VEVENT
DTSTART;TZID=America/Toronto:20250601T100000
DTEND;TZID=America/Toronto:20250601T113000
DTSTAMP:20260422T043627
CREATED:20241218T132830Z
LAST-MODIFIED:20260301T160120Z
UID:10025142-1748772000-1748777400@www.aa87.org
SUMMARY:Correctional Facilities Committee
DESCRIPTION:Réunion mensuelle virtuelle seulement. \nSalle 1 \nJoindre la réunion\n \n  \nID de réunion : 944 7943 6712\nCode secret : 1234
URL:https://www.aa87.org/evenement/correctional-facilities-committee/2025-06-01/
LOCATION:
END:VEVENT
BEGIN:VEVENT
DTSTART;TZID=America/Toronto:20250601T120000
DTEND;TZID=America/Toronto:20250601T160000
DTSTAMP:20260422T043627
CREATED:20250416T221334Z
LAST-MODIFIED:20250416T221432Z
UID:10021432-1748779200-1748793600@www.aa87.org
SUMMARY:Welcome the Newcomer Event - District 18
DESCRIPTION:District 18 annual Welcome the Newcomer event.  \nFood & fun in Girouard Park Saturday\, followed by a meeting across the street in Unity Church from 2-4pm.  \nBring your sponsees\, sponsor and newcomers. 7th tradition event. All are welcome. \nIn person\nGirouard Park (3500 av Girouard\, NDG) and Unity Church (3455 av Girouard\, NDG)\, Québec\nCanada\nMap It
URL:https://www.aa87.org/evenement/welcome-the-newcomer-event-district-18/
CATEGORIES:Activité / Activity,District 18,District AA87
ORGANIZER;CN="District 18%2C Verdun%2C Notre-Dame-de-Gr%C3%A2ce":MAILTO:district18@aa87.org
END:VEVENT
BEGIN:VEVENT
DTSTART;TZID=America/Toronto:20250602T060000
DTEND;TZID=America/Toronto:20250602T060000
DTSTAMP:20260422T043627
CREATED:20250205T002249Z
LAST-MODIFIED:20251229T223501Z
UID:10019216-1748844000-1748844000@www.aa87.org
SUMMARY:Réunion des RSG du District 87-13
DESCRIPTION:Rencontre mensuelle en présence.
URL:https://www.aa87.org/evenement/district-13-2-2/2025-06-02/
LOCATION:Centre St-Zotique\, 75\, carré Sir Georges-Étienne Cartier\, salle 215\, Montréal QC\, H4C 3A1\, 75\, carré Sir Georges-Étienne Cartier\, salle 215\, Montréal\, Québec\, H4C 3A1\, Canada
CATEGORIES:Activité / Activity,District 13,District AA87
END:VEVENT
BEGIN:VEVENT
DTSTART;TZID=America/Toronto:20250602T190000
DTEND;TZID=America/Toronto:20250602T210000
DTSTAMP:20260422T043627
CREATED:20241217T005615Z
LAST-MODIFIED:20260302T004538Z
UID:10013968-1748890800-1748898000@www.aa87.org
SUMMARY:Réunion des RSG du District 87-19
DESCRIPTION:Réunion mensuelle hybride. \nSalle 2 \nJoindre la réunion\n \nID de réunion : 918 2068 6211\nCode secret : 1234
URL:https://www.aa87.org/evenement/district-19-2-2/2025-06-02/
LOCATION:BSR / ASO\, 3920\, rue Rachel Est\, Montréal QC\, H1X 1Z3\, 3920\, Rachel Est\, Montréal\, Québec\, H1X 1Z3\, Canada
CATEGORIES:Activité / Activity,District 19
ORGANIZER;CN="District 19%2C Montreal%2C Westmount":MAILTO:district19@aa87.org
END:VEVENT
BEGIN:VEVENT
DTSTART;TZID=America/Toronto:20250602T190000
DTEND;TZID=America/Toronto:20250602T210000
DTSTAMP:20260422T043627
CREATED:20241217T005830Z
LAST-MODIFIED:20260303T000358Z
UID:10011235-1748890800-1748898000@www.aa87.org
SUMMARY:Comité Congrès de la Région 87
DESCRIPTION:Salle 1. \nRencontre de l’équipe de l’orginsation du Congrès de la Région 87. \nJoindre la réunion\n \n  \nID de réunion : 944 7943 6712\nCode secret : 1234
URL:https://www.aa87.org/evenement/comite-du-congres-regional-3-2/2025-06-02/
END:VEVENT
BEGIN:VEVENT
DTSTART;TZID=America/Toronto:20250602T193000
DTEND;TZID=America/Toronto:20250602T213000
DTSTAMP:20260422T043627
CREATED:20241217T223859Z
LAST-MODIFIED:20251230T165149Z
UID:10011451-1748892600-1748899800@www.aa87.org
SUMMARY:Réunion des RSG du District 87-26
DESCRIPTION:Réunion mensuelle en présence.
URL:https://www.aa87.org/evenement/district-26-2-2/2025-06-02/
LOCATION:École Les Trois Saisons (entrée par l’arrière) 570\, boul. de Mortagne\, Boucherville QC\, J4B 5E4\, 570\, boul. de Mortagne\, Boucherville\, Québec\, J4B 5E4\, Canada
CATEGORIES:Activité / Activity,District 26,District AA87
ORGANIZER;CN="District 26%2C Longueuil%2C Contrec%C5%93ur":MAILTO:district26@aa87.org
END:VEVENT
BEGIN:VEVENT
DTSTART;TZID=America/Toronto:20250603T193000
DTEND;TZID=America/Toronto:20250603T213000
DTSTAMP:20260422T043627
CREATED:20241217T224421Z
LAST-MODIFIED:20260228T232542Z
UID:10012102-1748979000-1748986200@www.aa87.org
SUMMARY:Réunion des RSG du District 87-21
DESCRIPTION:Rencontre mensuelle en présence.
URL:https://www.aa87.org/evenement/district-21-2-2/2025-06-03/
LOCATION:Centre communautaire Richard Goulet\, 170 rue St-Antoine Nord\, Granby\, Québec\, J2G 5G8\, Canada
CATEGORIES:Activité / Activity,District 21,District AA87
ORGANIZER;CN="District 21%2C Granby%2C Cowansville":MAILTO:district21@aa87.org
END:VEVENT
BEGIN:VEVENT
DTSTART;TZID=America/Toronto:20250604T190000
DTEND;TZID=America/Toronto:20250604T210000
DTSTAMP:20260422T043627
CREATED:20231217T165210Z
LAST-MODIFIED:20260303T000857Z
UID:10025005-1749063600-1749070800@www.aa87.org
SUMMARY:Comité de l'Information publique +
DESCRIPTION:Salle 1\nJoindre la réunion\n\n  \nID de réunion : 944 7943 6712\nCode secret : 1234
URL:https://www.aa87.org/evenement/information-publique/2025-06-04/
LOCATION:BSR / ASO\, 3920\, rue Rachel Est\, Montréal QC\, H1X 1Z3\, 3920\, Rachel Est\, Montréal\, Québec\, H1X 1Z3\, Canada
CATEGORIES:Activité / Activity,Comité d’Information Publique,Comités / Committees
END:VEVENT
BEGIN:VEVENT
DTSTART;TZID=America/Toronto:20250604T190000
DTEND;TZID=America/Toronto:20250604T210000
DTSTAMP:20260422T043627
CREATED:20241219T172219Z
LAST-MODIFIED:20250511T235346Z
UID:10015554-1749063600-1749070800@www.aa87.org
SUMMARY:Rapport du Délégué (anglophone)
DESCRIPTION:En présence seulement.
URL:https://www.aa87.org/evenement/rapport-du-delegue-anglophone/
LOCATION:Anglican Church of All Saints by the Lake\, 865 Chem. du Bord-du-Lac-Lakeshore\, Dorval\, QC\, H9S 2C7\, Canada
CATEGORIES:District 06,District AA87,Rapport du délégué
ORGANIZER;CN="District 6%2C West Island":MAILTO:district06@aa87.org
END:VEVENT
BEGIN:VEVENT
DTSTART;TZID=America/Toronto:20250605T190000
DTEND;TZID=America/Toronto:20250605T210000
DTSTAMP:20260422T043627
CREATED:20241217T174020Z
LAST-MODIFIED:20241217T233325Z
UID:10005806-1749150000-1749157200@www.aa87.org
SUMMARY:Réunion des RSG du District 87-05
DESCRIPTION:Réunion mensuelle sur Zoom. \nParticiper à la réunion Zoom \nID de réunion : 86244183943
URL:https://www.aa87.org/evenement/district-05-2/2025-06-05/
LOCATION:Place à l’emploi\, 125 Chem. du Coteau-Rouge\, Longueuil\, QC J4J 1W7\, Canada
CATEGORIES:Activité / Activity,District 05,District AA87
ORGANIZER;CN="District 5%2C Longueuil%2C St-Lambert":MAILTO:district05@aa87.org
END:VEVENT
BEGIN:VEVENT
DTSTART;TZID=America/Toronto:20250605T190000
DTEND;TZID=America/Toronto:20250605T220000
DTSTAMP:20260422T043627
CREATED:20231217T001039Z
LAST-MODIFIED:20251227T153833Z
UID:10017879-1749150000-1749160800@www.aa87.org
SUMMARY:Comité de direction
DESCRIPTION:Salle 4
URL:https://www.aa87.org/evenement/comite-de-direction-3/2025-06-05/
LOCATION:Réunion Virtuelle\, Québec\, Canada
CATEGORIES:Comité de direction/Steering Committee
END:VEVENT
BEGIN:VEVENT
DTSTART;TZID=America/Toronto:20250605T193000
DTEND;TZID=America/Toronto:20250605T213000
DTSTAMP:20260422T043627
CREATED:20241217T204941Z
LAST-MODIFIED:20241227T151343Z
UID:10014147-1749151800-1749159000@www.aa87.org
SUMMARY:Réunion des RSG du District 87-07
DESCRIPTION:Réunion mensuelle en présence.
URL:https://www.aa87.org/evenement/district-07-2-2/2025-06-05/
LOCATION:St. Mary’s Church\, 735\, Miller\, Greenfield Park QC\, 735\, Miller\, Greenfield Park\, Québec\, Canada
CATEGORIES:District 07
ORGANIZER;CN="District 7%2C Ch%C3%A2teauguay%2C St-Lambert%2C Valleyfield":MAILTO:district07@aa87.org
END:VEVENT
BEGIN:VEVENT
DTSTART;TZID=America/Toronto:20250605T193000
DTEND;TZID=America/Toronto:20250605T213000
DTSTAMP:20260422T043627
CREATED:20241217T205207Z
LAST-MODIFIED:20241218T013855Z
UID:10014207-1749151800-1749159000@www.aa87.org
SUMMARY:Réunion des RSG du District 87-14
DESCRIPTION:Réunion mensuelle en présence.
URL:https://www.aa87.org/evenement/district-14-2/2025-06-05/
LOCATION:3225 rue Courchesne Sorel-Tracy  Local 210\, 3225 rue Courchesne\, Sorel-Tracy\, QC\, J3R 3A7\, Canada
CATEGORIES:Activité / Activity,District 14,District AA87
ORGANIZER;CN="District 14%2C Sorel%2C Tracy et environs":MAILTO:district14@aa87.org
END:VEVENT
BEGIN:VEVENT
DTSTART;VALUE=DATE:20250608
DTEND;VALUE=DATE:20250609
DTSTAMP:20260422T043627
CREATED:20250622T140702Z
LAST-MODIFIED:20250622T140702Z
UID:10022368-1749340800-1749427199@www.aa87.org
SUMMARY:Réflexion quotidienne 08 juin
DESCRIPTION:﻿﻿﻿\n \nTous les Réflexions quotidiennes
URL:https://www.aa87.org/evenement/rq0608/2025-06-08/
CATEGORIES:Réflexions Quotidiennes
END:VEVENT
BEGIN:VEVENT
DTSTART;TZID=America/Toronto:20250609T190000
DTEND;TZID=America/Toronto:20250609T210000
DTSTAMP:20260422T043627
CREATED:20241218T133550Z
LAST-MODIFIED:20241218T133807Z
UID:10015242-1749495600-1749502800@www.aa87.org
SUMMARY:Helpline Committee
DESCRIPTION:Réunion mensuelle virtuelle seulement. 2e lundi. \nSalle 3 \nParticiper à la réunion Zoom \nhttps://zoom.us/j/91087779314?pwd=Yll2VGovWExTZ3cxL1hydzZmME1QUT09
URL:https://www.aa87.org/evenement/helpline-committee/2025-06-09/
LOCATION:
END:VEVENT
BEGIN:VEVENT
DTSTART;TZID=America/Toronto:20250609T193000
DTEND;TZID=America/Toronto:20250609T213000
DTSTAMP:20260422T043627
CREATED:20241217T205751Z
LAST-MODIFIED:20251230T050629Z
UID:10013908-1749497400-1749504600@www.aa87.org
SUMMARY:Réunion des RSG du District 87-15
DESCRIPTION:Réunion mensuelle en présence.
URL:https://www.aa87.org/evenement/district-15-2-2/2025-06-09/
LOCATION:136-A Jacques-Cartier Nord\, St-Jean-sur-Richelieu\, Québec\, Canada
CATEGORIES:District 15
ORGANIZER;CN="District 15%2C St-Jean-sur-Richelieu":MAILTO:district15@aa87.org
END:VEVENT
BEGIN:VEVENT
DTSTART;TZID=America/Toronto:20250610T183000
DTEND;TZID=America/Toronto:20250610T210000
DTSTAMP:20260422T043627
CREATED:20250207T201435Z
LAST-MODIFIED:20260314T020214Z
UID:10019279-1749580200-1749589200@www.aa87.org
SUMMARY:Réunion du bulletin Écho Echo Eco
DESCRIPTION:Réunion de l’Équipe de Production Rédactionnelle du bulletin Éche Echo Eco.\nJoindre la réunion\n\nID de réunion : 910 8777 9314\nCode secret : 1234
URL:https://www.aa87.org/evenement/reunionechoechoeco/2025-06-10/
LOCATION:
END:VEVENT
BEGIN:VEVENT
DTSTART;TZID=America/Toronto:20250610T190000
DTEND;TZID=America/Toronto:20250610T210000
DTSTAMP:20260422T043627
CREATED:20240609T180911Z
LAST-MODIFIED:20251128T002323Z
UID:10021884-1749582000-1749589200@www.aa87.org
SUMMARY:Réunion du Comité IP du district 01
DESCRIPTION:Réunion hybride\nEn personne\nBureau des services régional\n3920\, rue Rachel\nMontréal (Québec)\, Québec H1X 1Z3\nCanada \nSalle 5 \nNuméro de la salle : 94479436712 \nCode secret : 1234 \nParticipez à la réunion zoom
URL:https://www.aa87.org/evenement/reunion-du-comite-ip-du-district-01/2025-06-10/
LOCATION:BSR / ASO\, 3920\, rue Rachel Est\, Montréal QC\, H1X 1Z3\, 3920\, Rachel Est\, Montréal\, Québec\, H1X 1Z3\, Canada
END:VEVENT
BEGIN:VEVENT
DTSTART;TZID=America/Toronto:20250610T190000
DTEND;TZID=America/Toronto:20250610T210000
DTSTAMP:20260422T043627
CREATED:20241218T000243Z
LAST-MODIFIED:20260315T215743Z
UID:10014267-1749582000-1749589200@www.aa87.org
SUMMARY:Réunion des RSG du District 87-10
DESCRIPTION:Réunion mensuelle hybride \nSalle 2 \nJoindre la réunion\n \n  \nID de réunion : 918 2068 6211\nCode secret : 1234
URL:https://www.aa87.org/evenement/district-10-2-2/2025-06-10/
LOCATION:BSR / ASO\, 3920\, rue Rachel Est\, Montréal QC\, H1X 1Z3\, 3920\, Rachel Est\, Montréal\, Québec\, H1X 1Z3\, Canada
CATEGORIES:District 10
END:VEVENT
BEGIN:VEVENT
DTSTART;TZID=America/Toronto:20250610T190000
DTEND;TZID=America/Toronto:20250610T210000
DTSTAMP:20260422T043627
CREATED:20241218T000653Z
LAST-MODIFIED:20251230T152505Z
UID:10014325-1749582000-1749589200@www.aa87.org
SUMMARY:Réunion des RSG du District 87-18
DESCRIPTION:Réunion mensuelle en présence.
URL:https://www.aa87.org/evenement/district-18-2-2/2025-06-10/
LOCATION:Unity Church – 3455 Girouard in Montreal
CATEGORIES:District 18
ORGANIZER;CN="District 18%2C Verdun%2C Notre-Dame-de-Gr%C3%A2ce":MAILTO:district18@aa87.org
END:VEVENT
BEGIN:VEVENT
DTSTART;TZID=America/Toronto:20250611T190000
DTEND;TZID=America/Toronto:20250611T210000
DTSTAMP:20260422T043627
CREATED:20241218T001332Z
LAST-MODIFIED:20260314T112615Z
UID:10010878-1749668400-1749675600@www.aa87.org
SUMMARY:Comité des technologies +
DESCRIPTION:Réunion mensuelle sur Teams. \nJoindre la réunion\n \n  \nID de réunion : 210 078 105 291 \nCode secret : HwMBfV \n 
URL:https://www.aa87.org/evenement/comite-des-technologies-2/2025-06-11/
LOCATION:Réunion virtuelle seulement\, Québec\, Canada
CATEGORIES:Activité / Activity,Comité des Technologies/ Technology Committee,Comités / Committees
END:VEVENT
BEGIN:VEVENT
DTSTART;TZID=America/Toronto:20250611T190000
DTEND;TZID=America/Toronto:20250611T210000
DTSTAMP:20260422T043627
CREATED:20241218T001518Z
LAST-MODIFIED:20260412T212452Z
UID:10014831-1749668400-1749675600@www.aa87.org
SUMMARY:Réunion des RSG du District 87-17
DESCRIPTION:Réunion mensuelle en présence.
URL:https://www.aa87.org/evenement/district-17-2-2-2/2025-06-11/
LOCATION:Chalet Roger Rousseau 7501\, avenue Rondeau\, sous-sol\, Anjou (QC)\, H1K 4Y3\, 7501 avenue Rondeau\, Anjou\, QC\, H1K 4Y3\, Canada
CATEGORIES:Activité / Activity,District 17,District AA87
ORGANIZER;CN="District 17%2C Montr%C3%A9al Est%2C Anjou":MAILTO:district17@aa87.org
END:VEVENT
BEGIN:VEVENT
DTSTART;TZID=America/Toronto:20250611T190000
DTEND;TZID=America/Toronto:20250611T210000
DTSTAMP:20260422T043627
CREATED:20241218T001817Z
LAST-MODIFIED:20260313T175408Z
UID:10014773-1749668400-1749675600@www.aa87.org
SUMMARY:Réunion des RSG du District 87-01
DESCRIPTION:Réunion mensuelle hybride. \nSalle 2 \nJoindre la réunion\n \n  \nID de réunion : 918 2068 6211\nCode secret : 1234
URL:https://www.aa87.org/evenement/district-01-2/2025-06-11/
LOCATION:BSR / ASO\, 3920\, rue Rachel Est\, Montréal QC\, H1X 1Z3\, 3920\, Rachel Est\, Montréal\, Québec\, H1X 1Z3\, Canada
ORGANIZER;CN="District 1%2C Montr%C3%A9al%2C Outremont%2C C%C3%B4te-des-Neiges":MAILTO:district01@aa87.org
END:VEVENT
BEGIN:VEVENT
DTSTART;TZID=America/Toronto:20250611T193000
DTEND;TZID=America/Toronto:20250611T213000
DTSTAMP:20260422T043627
CREATED:20250220T180404Z
LAST-MODIFIED:20251230T164841Z
UID:10035636-1749670200-1749677400@www.aa87.org
SUMMARY:Réunion des RSG du District 87-22
DESCRIPTION:Réunion mensuelle en présence.
URL:https://www.aa87.org/evenement/reunion-des-rsg-du-district-87-22/2025-06-11/
LOCATION:Centre d’action bénévole\, 95\, rue Salaberry\, Salaberry-de-Valleyfield QC\, J6T 2H5\, 95\, rue Salaberry\, Salaberry-de-Valleyfield\, Québec\, J6T 2H5\, Canada
END:VEVENT
BEGIN:VEVENT
DTSTART;TZID=America/Toronto:20250611T193000
DTEND;TZID=America/Toronto:20250611T213000
DTSTAMP:20260422T043627
CREATED:20250521T215226Z
LAST-MODIFIED:20250521T215513Z
UID:10022182-1749670200-1749677400@www.aa87.org
SUMMARY:Réunion des RSG du District 87-16
DESCRIPTION:Rencontre mensuelle en présence.
URL:https://www.aa87.org/evenement/district-16-2-2-3-2-2/2025-06-11/
LOCATION:Centre communautaire\, 53\, rue Rabastalière\, St-Bruno QC\, J3V 1Y7\, 53\, rue Rabastalière\, St-Bruno\, Québec\, J3V 1Y7\, Canada
CATEGORIES:District 16
ORGANIZER;CN="District 16%2C Bel%C5%93il%2C St-Hilaire":MAILTO:district16@aa87.org
END:VEVENT
BEGIN:VEVENT
DTSTART;TZID=America/Toronto:20250612T190000
DTEND;TZID=America/Toronto:20250612T210000
DTSTAMP:20260422T043627
CREATED:20241218T002259Z
LAST-MODIFIED:20260314T111045Z
UID:10015007-1749754800-1749762000@www.aa87.org
SUMMARY:Comité des Publications
DESCRIPTION:Réunion mensuelle. \nSalle 1 \nJoindre la réunion\n \n  \nID de réunion : 944 7943 6712 \nCode secret : 1234
URL:https://www.aa87.org/evenement/publications-2-2/2025-06-12/
LOCATION:Réunion virtuelle seulement\, Québec\, Canada
END:VEVENT
BEGIN:VEVENT
DTSTART;TZID=America/Toronto:20250612T190000
DTEND;TZID=America/Toronto:20250612T210000
DTSTAMP:20260422T043627
CREATED:20250122T232304Z
LAST-MODIFIED:20260314T014249Z
UID:10018555-1749754800-1749762000@www.aa87.org
SUMMARY:Réunion mensuelle du congres AA de la rive sud
DESCRIPTION:Préparation du comité du congres de la rive-sud\nJoindre la réunion\n\nID de le réunion : 81677227760\nCode secret: \nVoir l’annonce \n\n\n\n\nCongrès de la Rive Sud\nRejoignez-nous à notre événement! \n\n\n\nVoir les détails du congrès\n \n\n 
URL:https://www.aa87.org/evenement/district-05-3/2025-06-12/
LOCATION:125 Coteau Rouge Longueuil\, Québec J4J 1W7 Canada\, 125 Coteau Rouge\, Longueuil\, QC\, J4J 1W7\, Canada
CATEGORIES:District 05
ORGANIZER;CN="District 5%2C Longueuil%2C St-Lambert":MAILTO:district05@aa87.org
END:VEVENT
BEGIN:VEVENT
DTSTART;TZID=America/Toronto:20250614T083000
DTEND;TZID=America/Toronto:20250614T150000
DTSTAMP:20260422T043627
CREATED:20241219T172421Z
LAST-MODIFIED:20250606T203346Z
UID:10015555-1749889800-1749913200@www.aa87.org
SUMMARY:Assemblée régionale du retour du délégué
DESCRIPTION:En présence seulement. \nAssemblée régionale du retour du délégué au District 87-17
URL:https://www.aa87.org/evenement/assemblee-regionale-du-retour-du-delegue/
LOCATION:Centre communautaire Anjou\, 7800 Boul Métropolitain E\, Anjour\, QC\, H1K 1A1\, Canada
CATEGORIES:Assemblée régionale
END:VEVENT
END:VCALENDAR