BEGIN:VCALENDAR
VERSION:2.0
PRODID:-//Alcooliques Anonymes Région 87 - ECPv6.15.17//NONSGML v1.0//EN
CALSCALE:GREGORIAN
METHOD:PUBLISH
X-ORIGINAL-URL:https://www.aa87.org
X-WR-CALDESC:Évènements pour Alcooliques Anonymes Région 87
REFRESH-INTERVAL;VALUE=DURATION:PT1H
X-Robots-Tag:noindex
X-PUBLISHED-TTL:PT1H
BEGIN:VTIMEZONE
TZID:America/Toronto
BEGIN:DAYLIGHT
TZOFFSETFROM:-0500
TZOFFSETTO:-0400
TZNAME:EDT
DTSTART:20240310T070000
END:DAYLIGHT
BEGIN:STANDARD
TZOFFSETFROM:-0400
TZOFFSETTO:-0500
TZNAME:EST
DTSTART:20241103T060000
END:STANDARD
BEGIN:DAYLIGHT
TZOFFSETFROM:-0500
TZOFFSETTO:-0400
TZNAME:EDT
DTSTART:20250309T070000
END:DAYLIGHT
BEGIN:STANDARD
TZOFFSETFROM:-0400
TZOFFSETTO:-0500
TZNAME:EST
DTSTART:20251102T060000
END:STANDARD
BEGIN:DAYLIGHT
TZOFFSETFROM:-0500
TZOFFSETTO:-0400
TZNAME:EDT
DTSTART:20260308T070000
END:DAYLIGHT
BEGIN:STANDARD
TZOFFSETFROM:-0400
TZOFFSETTO:-0500
TZNAME:EST
DTSTART:20261101T060000
END:STANDARD
END:VTIMEZONE
BEGIN:VEVENT
DTSTART;VALUE=DATE:20251001
DTEND;VALUE=DATE:20251002
DTSTAMP:20260421T225510
CREATED:20240923T001221Z
LAST-MODIFIED:20240923T002316Z
UID:10008305-1759276800-1759363199@www.aa87.org
SUMMARY:Réflexion quotidienne 01 octobre
DESCRIPTION:DE PEUR DE DEVENIR VANITEUX\n1 octobre \nIl est facile de commencer à négliger le programme spirituel et de se reposer sur ses lauriers. Si nous le faisons\, nous nous préparons de sérieux ennuis\, car l’alcool est un ennemi subtil. \nLes Alcooliques Anonymes\, P. 96 \nQuand je souffre\, je me tiens d’instinct près des amis que je me suis faits dans le mouvement. Les solutions que contiennent les Douze Étapes me soulagent de ma souffrance. Par contre\, quand je me sens bien et que tout va bien\, je deviens facilement vaniteux. Plus simplement\, par paresse\, je me tourne vers le problème plutôt que vers la solution. Il faut donc passer à l’action\, faire mon inventaire : savoir où j’en suis et où je m’en vais. Un inventaire quotidien m’indique ce que je dois changer pour retrouver mon équilibre spirituel. Avouer à Dieu et à un autre être humain ce que je découvre en moi m’aide à rester honnête et humble. \nExtrait du livre Réflexions quotidiennes\nCopyright © 1991 par Alcoholics Anonymous World Services\, Inc. Tous droits réservés. \nTous les Réflexions quotidiennes
URL:https://www.aa87.org/evenement/rq1001/2025-10-01/
LOCATION:aa87.org
CATEGORIES:Réflexions Quotidiennes
END:VEVENT
BEGIN:VEVENT
DTSTART;TZID=America/Toronto:20251001T190000
DTEND;TZID=America/Toronto:20251001T210000
DTSTAMP:20260421T225510
CREATED:20231217T165210Z
LAST-MODIFIED:20260303T000857Z
UID:10025008-1759345200-1759352400@www.aa87.org
SUMMARY:Comité de l'Information publique +
DESCRIPTION:Salle 1\nJoindre la réunion\n\n  \nID de réunion : 944 7943 6712\nCode secret : 1234
URL:https://www.aa87.org/evenement/information-publique/2025-10-01/
LOCATION:BSR / ASO\, 3920\, rue Rachel Est\, Montréal QC\, H1X 1Z3\, 3920\, Rachel Est\, Montréal\, Québec\, H1X 1Z3\, Canada
CATEGORIES:Activité / Activity,Comité d’Information Publique,Comités / Committees
END:VEVENT
BEGIN:VEVENT
DTSTART;VALUE=DATE:20251002
DTEND;VALUE=DATE:20251003
DTSTAMP:20260421T225510
CREATED:20240923T230634Z
LAST-MODIFIED:20240924T105516Z
UID:10008325-1759363200-1759449599@www.aa87.org
SUMMARY:Réflexion quotidienne 02 octobre
DESCRIPTION:« La minute de vérité»\n2 octobre\n\nEn travaillant les neuf premières Étapes nous nous préparons à l’aventure d’une vie nouvelle. Quand nous entreprenons la Dixième Étape\, nous commençons à mettre en pratique le mode de vie des AA\, jour après jour\, par beau ou mauvais temps. Mais voici venue la minute de vérité : pouvons-nous demeurer abstinents\, garder notre équilibre émotif et\, en toutes circonstances\, mener une vie qui sert à quelque chose ? \nLes douzes étapes et les douzes traditions\, p. 100 \nJe sais que les promesses se réalisent dans ma vie\, mais je veux conserver ce que j’ai acquis et le développer. Pour cela\, je pratique quotidiennement la Dixième Étape. Elle m’apprend à reconnaître que lorsque quelqu’un me perturbe\, c’est que quelque chose ne va pas en moi. L’autre a peut-être tort également\, mais je ne peux m’occuper que de mes propres émotions. Si je suis blessé ou contrarié\, je dois toujours en rechercher la cause en moi\, puis admettre et corriger mes erreurs. Cela n’est pas facile mais tant que je progresse spirituellement\, je peux considérer ces efforts comme un travail bien fait. J’ai découvert que la souffrance est une amie ; elle m’indique que ça ne tourne pas rond au niveau de mes émotions\, exactement comme la douleur physique est un indice que quelque chose ne va pas dans mon corps. En posant les gestes appropriés à l’aide des Douze Étapes\, la souffrance disparaît graduellement. \n\nExtrait du livre Réflexions quotidiennes\nCopyright © 1991 par Alcoholics Anonymous World Services\, Inc. Tous droits réservés.\n\n \nTous les Réflexions quotidiennes
URL:https://www.aa87.org/evenement/rq1002/2025-10-02/
LOCATION:aa87.org
CATEGORIES:Réflexions Quotidiennes
END:VEVENT
BEGIN:VEVENT
DTSTART;TZID=America/Toronto:20251002T190000
DTEND;TZID=America/Toronto:20251002T210000
DTSTAMP:20260421T225510
CREATED:20241218T013530Z
LAST-MODIFIED:20241218T014807Z
UID:10005810-1759431600-1759438800@www.aa87.org
SUMMARY:Réunion des RSG du District 87-05 .
DESCRIPTION:Réunion mensuelle sur Zoom. \nParticiper à la réunion Zoom \nID de réunion : 86244183943
URL:https://www.aa87.org/evenement/district-05-2-2/2025-10-02/
LOCATION:Place à l’emploi\, 125 Chem. du Coteau-Rouge\, Longueuil\, QC J4J 1W7\, Canada
CATEGORIES:Activité / Activity,District 05,District AA87
ORGANIZER;CN="District 5%2C Longueuil%2C St-Lambert":MAILTO:district05@aa87.org
END:VEVENT
BEGIN:VEVENT
DTSTART;TZID=America/Toronto:20251002T190000
DTEND;TZID=America/Toronto:20251002T220000
DTSTAMP:20260421T225510
CREATED:20231217T001039Z
LAST-MODIFIED:20251227T153833Z
UID:10016837-1759431600-1759442400@www.aa87.org
SUMMARY:Comité de direction
DESCRIPTION:Salle 4
URL:https://www.aa87.org/evenement/comite-de-direction-3/2025-10-02/
LOCATION:Réunion Virtuelle\, Québec\, Canada
CATEGORIES:Comité de direction/Steering Committee
END:VEVENT
BEGIN:VEVENT
DTSTART;TZID=America/Toronto:20251002T193000
DTEND;TZID=America/Toronto:20251002T213000
DTSTAMP:20260421T225510
CREATED:20241217T204941Z
LAST-MODIFIED:20241227T151343Z
UID:10014151-1759433400-1759440600@www.aa87.org
SUMMARY:Réunion des RSG du District 87-07
DESCRIPTION:Réunion mensuelle en présence.
URL:https://www.aa87.org/evenement/district-07-2-2/2025-10-02/
LOCATION:St. Mary’s Church\, 735\, Miller\, Greenfield Park QC\, 735\, Miller\, Greenfield Park\, Québec\, Canada
CATEGORIES:District 07
ORGANIZER;CN="District 7%2C Ch%C3%A2teauguay%2C St-Lambert%2C Valleyfield":MAILTO:district07@aa87.org
END:VEVENT
BEGIN:VEVENT
DTSTART;TZID=America/Toronto:20251002T193000
DTEND;TZID=America/Toronto:20251002T213000
DTSTAMP:20260421T225510
CREATED:20241217T205207Z
LAST-MODIFIED:20241218T013855Z
UID:10014211-1759433400-1759440600@www.aa87.org
SUMMARY:Réunion des RSG du District 87-14
DESCRIPTION:Réunion mensuelle en présence.
URL:https://www.aa87.org/evenement/district-14-2/2025-10-02/
LOCATION:3225 rue Courchesne Sorel-Tracy  Local 210\, 3225 rue Courchesne\, Sorel-Tracy\, QC\, J3R 3A7\, Canada
CATEGORIES:Activité / Activity,District 14,District AA87
ORGANIZER;CN="District 14%2C Sorel%2C Tracy et environs":MAILTO:district14@aa87.org
END:VEVENT
BEGIN:VEVENT
DTSTART;VALUE=DATE:20251003
DTEND;VALUE=DATE:20251004
DTSTAMP:20260421T225510
CREATED:20250730T000327Z
LAST-MODIFIED:20250730T000327Z
UID:10024350-1759449600-1759535999@www.aa87.org
SUMMARY:Réflexion quotidienne 03 octobre
DESCRIPTION:Le calme après la tempête\n3 octobre\n\nParlant d’expérience\, quelqu’un un jour faisait observer que la souffrance est le point de départ de tout progrès spirituel. Comme il est facile pour nous\, les AA\, de dire que c’est vrai ! \nLes douze étapes et les douze traditions\, p. 106 \nQuand mes émotions ressemblent à des montagnes russes\, je dois me rappeler que la croissance est souvent douloureuse. Mon cheminement dans le programme des AA m’a enseigné que je dois subir un changement intérieur\, même si cela est douloureux\, afin de transformer un jour mon égoïsme en générosité. Pour connaître la sérénité\, je dois franchir l’étape des tourments émotifs et des malaises qui les accompagnent\, et être reconnaissant de mon progrès spirituel. \nExtrait du livre Réflexions quotidiennes\nCopyright © 1991 par Alcoholics Anonymous World Services\, Inc. Tous droits réservés. \nTous les Réflexions quotidiennes
URL:https://www.aa87.org/evenement/rq1003/2025-10-03/
CATEGORIES:Réflexions Quotidiennes
END:VEVENT
BEGIN:VEVENT
DTSTART;VALUE=DATE:20251004
DTEND;VALUE=DATE:20251005
DTSTAMP:20260421T225510
CREATED:20250730T001915Z
LAST-MODIFIED:20250730T001915Z
UID:10024370-1759536000-1759622399@www.aa87.org
SUMMARY:Réflexion quotidienne 04 octobre
DESCRIPTION:Tailler et éclaircir\n4 octobre\n\nEn effet\, nous savons qu’il nous a fallu connaître la souffrance de l’alcoolisme avant la sobriété\, et le bouleversement émotif avant la sérénité. \nLes douze étapes et les douze traditions\, P. 106-107 \nJ’adore passer du temps dans mon jardin à soigner et à éclaircir mes plates-bandes. Un jour que je m’affairais à tailler mes massifs de fleurs\, une voisine s’est arrêtée et m’a dit : « De si belles plantes\, quel dommage de les tailler ainsi ! » J’ai répondu : « Je sais ce que vous ressentez\, mais il faut enlever les tiges en trop pour que les plants se renforcent et soient en meilleure santé. » Par la suite\, je me suis dit que mes plantes souffraient peut-être\, mais je sais que cela fait partie du plan divin et je peux constater les magnifiques résultats. Cela m’a rappelé le programme des AA et la souffrance que nous cause notre croissance. Je demande à Dieu de bien me tailler\, le moment venu\, afin que je puisse croître. \nExtrait du livre Réflexions quotidiennes\nCopyright © 1991 par Alcoholics Anonymous World Services\, Inc. Tous droits réservés. \nTous les Réflexions quotidiennes
URL:https://www.aa87.org/evenement/rq1004/2025-10-04/
CATEGORIES:Réflexions Quotidiennes
END:VEVENT
BEGIN:VEVENT
DTSTART;TZID=America/Toronto:20251004T090000
DTEND;TZID=America/Toronto:20251004T120000
DTSTAMP:20260421T225510
CREATED:20250419T213119Z
LAST-MODIFIED:20250913T133351Z
UID:10015518-1759568400-1759579200@www.aa87.org
SUMMARY:English Seminar
DESCRIPTION:Séminaire en anglais. \nSalle 5 \nParticiper à la réunion Zoom \nID de réunion : 924 7313 7786 \nCode secret : 1234 \nOne-day seminar that provide in-depth look at the Unity and Service aspects of our Way of Life. \nSéminaire sur la structure des AA-2025.pdf \n﻿﻿﻿		Your browser does not support PDFs.		Download the PDF 
URL:https://www.aa87.org/evenement/seminaire-2-2/
LOCATION:BSR / ASO\, 3920\, rue Rachel Est\, Montréal QC\, H1X 1Z3\, 3920\, Rachel Est\, Montréal\, Québec\, H1X 1Z3\, Canada
CATEGORIES:Activité / Activity,Services aux groupes / Group Services
END:VEVENT
BEGIN:VEVENT
DTSTART;VALUE=DATE:20251005
DTEND;VALUE=DATE:20251006
DTSTAMP:20260421T225510
CREATED:20241018T155533Z
LAST-MODIFIED:20241018T160250Z
UID:10008693-1759622400-1759708799@www.aa87.org
SUMMARY:Réflexion quotidienne 05 octobre
DESCRIPTION:﻿﻿﻿\n \n\nTous les Réflexions quotidiennes
URL:https://www.aa87.org/evenement/rq1005/2025-10-05/
LOCATION:aa87.org
CATEGORIES:Réflexions Quotidiennes
END:VEVENT
BEGIN:VEVENT
DTSTART;TZID=America/Toronto:20251005T100000
DTEND;TZID=America/Toronto:20251005T113000
DTSTAMP:20260421T225510
CREATED:20241218T132830Z
LAST-MODIFIED:20260301T160120Z
UID:10025146-1759658400-1759663800@www.aa87.org
SUMMARY:Correctional Facilities Committee
DESCRIPTION:Réunion mensuelle virtuelle seulement. \nSalle 1 \nJoindre la réunion\n \n  \nID de réunion : 944 7943 6712\nCode secret : 1234
URL:https://www.aa87.org/evenement/correctional-facilities-committee/2025-10-05/
LOCATION:
END:VEVENT
BEGIN:VEVENT
DTSTART;VALUE=DATE:20251006
DTEND;VALUE=DATE:20251007
DTSTAMP:20260421T225510
CREATED:20241018T153728Z
LAST-MODIFIED:20241018T160551Z
UID:10008675-1759708800-1759795199@www.aa87.org
SUMMARY:Réflexion quotidienne 06 octobre
DESCRIPTION:﻿﻿﻿﻿\n \n\nTous les Réflexions quotidiennes
URL:https://www.aa87.org/evenement/rq1006/2025-10-06/
LOCATION:aa87.org
CATEGORIES:Réflexions Quotidiennes
END:VEVENT
BEGIN:VEVENT
DTSTART;TZID=America/Toronto:20251006T060000
DTEND;TZID=America/Toronto:20251006T060000
DTSTAMP:20260421T225511
CREATED:20250205T002249Z
LAST-MODIFIED:20251229T223501Z
UID:10019219-1759730400-1759730400@www.aa87.org
SUMMARY:Réunion des RSG du District 87-13
DESCRIPTION:Rencontre mensuelle en présence.
URL:https://www.aa87.org/evenement/district-13-2-2/2025-10-06/
LOCATION:Centre St-Zotique\, 75\, carré Sir Georges-Étienne Cartier\, salle 215\, Montréal QC\, H4C 3A1\, 75\, carré Sir Georges-Étienne Cartier\, salle 215\, Montréal\, Québec\, H4C 3A1\, Canada
CATEGORIES:Activité / Activity,District 13,District AA87
END:VEVENT
BEGIN:VEVENT
DTSTART;TZID=America/Toronto:20251006T190000
DTEND;TZID=America/Toronto:20251006T210000
DTSTAMP:20260421T225511
CREATED:20241217T005615Z
LAST-MODIFIED:20260302T004538Z
UID:10013972-1759777200-1759784400@www.aa87.org
SUMMARY:Réunion des RSG du District 87-19
DESCRIPTION:Réunion mensuelle hybride. \nSalle 2 \nJoindre la réunion\n \nID de réunion : 918 2068 6211\nCode secret : 1234
URL:https://www.aa87.org/evenement/district-19-2-2/2025-10-06/
LOCATION:BSR / ASO\, 3920\, rue Rachel Est\, Montréal QC\, H1X 1Z3\, 3920\, Rachel Est\, Montréal\, Québec\, H1X 1Z3\, Canada
CATEGORIES:Activité / Activity,District 19
ORGANIZER;CN="District 19%2C Montreal%2C Westmount":MAILTO:district19@aa87.org
END:VEVENT
BEGIN:VEVENT
DTSTART;TZID=America/Toronto:20251006T190000
DTEND;TZID=America/Toronto:20251006T210000
DTSTAMP:20260421T225511
CREATED:20241217T005830Z
LAST-MODIFIED:20260303T000358Z
UID:10011239-1759777200-1759784400@www.aa87.org
SUMMARY:Comité Congrès de la Région 87
DESCRIPTION:Salle 1. \nRencontre de l’équipe de l’orginsation du Congrès de la Région 87. \nJoindre la réunion\n \n  \nID de réunion : 944 7943 6712\nCode secret : 1234
URL:https://www.aa87.org/evenement/comite-du-congres-regional-3-2/2025-10-06/
END:VEVENT
BEGIN:VEVENT
DTSTART;TZID=America/Toronto:20251006T193000
DTEND;TZID=America/Toronto:20251006T213000
DTSTAMP:20260421T225511
CREATED:20241217T223859Z
LAST-MODIFIED:20251230T165149Z
UID:10011455-1759779000-1759786200@www.aa87.org
SUMMARY:Réunion des RSG du District 87-26
DESCRIPTION:Réunion mensuelle en présence.
URL:https://www.aa87.org/evenement/district-26-2-2/2025-10-06/
LOCATION:École Les Trois Saisons (entrée par l’arrière) 570\, boul. de Mortagne\, Boucherville QC\, J4B 5E4\, 570\, boul. de Mortagne\, Boucherville\, Québec\, J4B 5E4\, Canada
CATEGORIES:Activité / Activity,District 26,District AA87
ORGANIZER;CN="District 26%2C Longueuil%2C Contrec%C5%93ur":MAILTO:district26@aa87.org
END:VEVENT
BEGIN:VEVENT
DTSTART;VALUE=DATE:20251007
DTEND;VALUE=DATE:20251008
DTSTAMP:20260421T225511
CREATED:20250730T002842Z
LAST-MODIFIED:20250730T002842Z
UID:10024385-1759795200-1759881599@www.aa87.org
SUMMARY:Réflexion quotidienne 07 octobre
DESCRIPTION:Surveillance quotidienne\n7 octobre\n\nNous avons poursuivi notre inventaire personnel… \nLes douze étapes et les douze traditions\, p. 100 \nLe principe spirituel qui sous-tend la Dixième Étape – « tout malaise\, quelle qu’en soit la cause\, est l’indice qu’en nous-mêmes quelque chose ne va pas» – ne souffre aucune exception. Peu importe si les autres me semblent déraisonnables\, c’est à moi qu’il revient de ne pas réagir négativement. Peu importe ce qui se passe autour de moi\, je garde toujours le privilège et la responsabilité de choisir ma propre réaction. C’est moi qui crée ma propre réalité. \nDans mon inventaire quotidien\, je sais que je dois cesser de juger les autres. Quand je le fais\, il est probable que je me juge moi-même. La personne qui me perturbe le plus est celle qui a le plus à m’enseigner. J’ai beaucoup à apprendre d’elle et je devrais l’en remercier dans mon cœur. \nExtrait du livre Réflexions quotidiennes\nCopyright © 1991 par Alcoholics Anonymous World Services\, Inc. Tous droits réservés. \nTous les Réflexions quotidiennes
URL:https://www.aa87.org/evenement/reflexion-quotidienne-07-octobre/2025-10-07/
CATEGORIES:Réflexions Quotidiennes
END:VEVENT
BEGIN:VEVENT
DTSTART;TZID=America/Toronto:20251007T193000
DTEND;TZID=America/Toronto:20251007T213000
DTSTAMP:20260421T225511
CREATED:20241217T224421Z
LAST-MODIFIED:20260228T232542Z
UID:10012106-1759865400-1759872600@www.aa87.org
SUMMARY:Réunion des RSG du District 87-21
DESCRIPTION:Rencontre mensuelle en présence.
URL:https://www.aa87.org/evenement/district-21-2-2/2025-10-07/
LOCATION:Centre communautaire Richard Goulet\, 170 rue St-Antoine Nord\, Granby\, Québec\, J2G 5G8\, Canada
CATEGORIES:Activité / Activity,District 21,District AA87
ORGANIZER;CN="District 21%2C Granby%2C Cowansville":MAILTO:district21@aa87.org
END:VEVENT
BEGIN:VEVENT
DTSTART;VALUE=DATE:20251008
DTEND;VALUE=DATE:20251009
DTSTAMP:20260421T225511
CREATED:20250730T121612Z
LAST-MODIFIED:20250730T121612Z
UID:10024400-1759881600-1759967999@www.aa87.org
SUMMARY:Réflexion quotidienne 08 octobre
DESCRIPTION:L’inventaire de chaque jour\n8 octobre\n\n. . .  [Nous avons] promptement admis nos torts dès que nous nous en sommes aperçus. \nLes Alcooliques Anonymes\, p. 67 \nJe commençais à aborder ma nouvelle vie sans alcool avec un enthousiasme inhabituel chez moi. De nouveaux amis surgissaient et je raccommodais d’anciennes amitiés bafouées. La vie était passionnante. Je m’étais même mis à aimer mon travail\, allant jusqu’à rédiger un rapport sur le service médiocre offert à certains clients. Un jour\, un confrère de travail m’a appris que le patron était fort mécontent à cause d’un rapport qui avait été transmis sans son approbation et qui l’avait mis dans ses petits souliers face à nos supérieurs. Je savais que j’étais la cause de tout cela et je commençai à me sentir responsable des problèmes de mon patron. En tentant de me rassurer\, mon confrère me dit que je n’avais pas à m’excuser\, mais j’étais convaincu qu’il me fallait faire quelque chose\, peu importe la tournure que prendraient les événements. Quand j’ai confessé à mon patron que j’étais la cause de ses difficultés\, il a paru surpris. Néanmoins\, notre rencontre a pris une tournure inattendue\, et nous sommes tombés d’accord tous les deux pour entretenir une collaboration étroite et efficace à l’avenir. \nExtrait du livre Réflexions quotidiennes\nCopyright © 1991 par Alcoholics Anonymous World Services\, Inc. Tous droits réservés. \nTous les Réflexions quotidiennes
URL:https://www.aa87.org/evenement/rq1008/2025-10-08/
CATEGORIES:Réflexions Quotidiennes
END:VEVENT
BEGIN:VEVENT
DTSTART;TZID=America/Toronto:20251008T190000
DTEND;TZID=America/Toronto:20251008T210000
DTSTAMP:20260421T225511
CREATED:20241218T001332Z
LAST-MODIFIED:20260314T112615Z
UID:10010882-1759950000-1759957200@www.aa87.org
SUMMARY:Comité des technologies +
DESCRIPTION:Réunion mensuelle sur Teams. \nJoindre la réunion\n \n  \nID de réunion : 210 078 105 291 \nCode secret : HwMBfV \n 
URL:https://www.aa87.org/evenement/comite-des-technologies-2/2025-10-08/
LOCATION:Réunion virtuelle seulement\, Québec\, Canada
CATEGORIES:Activité / Activity,Comité des Technologies/ Technology Committee,Comités / Committees
END:VEVENT
BEGIN:VEVENT
DTSTART;TZID=America/Toronto:20251008T190000
DTEND;TZID=America/Toronto:20251008T210000
DTSTAMP:20260421T225511
CREATED:20241218T001518Z
LAST-MODIFIED:20260412T212452Z
UID:10014833-1759950000-1759957200@www.aa87.org
SUMMARY:Réunion des RSG du District 87-17
DESCRIPTION:Réunion mensuelle en présence.
URL:https://www.aa87.org/evenement/district-17-2-2-2/2025-10-08/
LOCATION:Chalet Roger Rousseau 7501\, avenue Rondeau\, sous-sol\, Anjou (QC)\, H1K 4Y3\, 7501 avenue Rondeau\, Anjou\, QC\, H1K 4Y3\, Canada
CATEGORIES:Activité / Activity,District 17,District AA87
ORGANIZER;CN="District 17%2C Montr%C3%A9al Est%2C Anjou":MAILTO:district17@aa87.org
END:VEVENT
BEGIN:VEVENT
DTSTART;TZID=America/Toronto:20251008T190000
DTEND;TZID=America/Toronto:20251008T210000
DTSTAMP:20260421T225511
CREATED:20241218T001817Z
LAST-MODIFIED:20260313T175408Z
UID:10014775-1759950000-1759957200@www.aa87.org
SUMMARY:Réunion des RSG du District 87-01
DESCRIPTION:Réunion mensuelle hybride. \nSalle 2 \nJoindre la réunion\n \n  \nID de réunion : 918 2068 6211\nCode secret : 1234
URL:https://www.aa87.org/evenement/district-01-2/2025-10-08/
LOCATION:BSR / ASO\, 3920\, rue Rachel Est\, Montréal QC\, H1X 1Z3\, 3920\, Rachel Est\, Montréal\, Québec\, H1X 1Z3\, Canada
ORGANIZER;CN="District 1%2C Montr%C3%A9al%2C Outremont%2C C%C3%B4te-des-Neiges":MAILTO:district01@aa87.org
END:VEVENT
BEGIN:VEVENT
DTSTART;TZID=America/Toronto:20251008T193000
DTEND;TZID=America/Toronto:20251008T213000
DTSTAMP:20260421T225511
CREATED:20250220T180404Z
LAST-MODIFIED:20251230T164841Z
UID:10035640-1759951800-1759959000@www.aa87.org
SUMMARY:Réunion des RSG du District 87-22
DESCRIPTION:Réunion mensuelle en présence.
URL:https://www.aa87.org/evenement/reunion-des-rsg-du-district-87-22/2025-10-08/
LOCATION:Centre d’action bénévole\, 95\, rue Salaberry\, Salaberry-de-Valleyfield QC\, J6T 2H5\, 95\, rue Salaberry\, Salaberry-de-Valleyfield\, Québec\, J6T 2H5\, Canada
END:VEVENT
BEGIN:VEVENT
DTSTART;TZID=America/Toronto:20251008T193000
DTEND;TZID=America/Toronto:20251008T213000
DTSTAMP:20260421T225511
CREATED:20250521T215226Z
LAST-MODIFIED:20250521T215513Z
UID:10022184-1759951800-1759959000@www.aa87.org
SUMMARY:Réunion des RSG du District 87-16
DESCRIPTION:Rencontre mensuelle en présence.
URL:https://www.aa87.org/evenement/district-16-2-2-3-2-2/2025-10-08/
LOCATION:Centre communautaire\, 53\, rue Rabastalière\, St-Bruno QC\, J3V 1Y7\, 53\, rue Rabastalière\, St-Bruno\, Québec\, J3V 1Y7\, Canada
CATEGORIES:District 16
ORGANIZER;CN="District 16%2C Bel%C5%93il%2C St-Hilaire":MAILTO:district16@aa87.org
END:VEVENT
BEGIN:VEVENT
DTSTART;VALUE=DATE:20251009
DTEND;VALUE=DATE:20251010
DTSTAMP:20260421T225511
CREATED:20250730T122608Z
LAST-MODIFIED:20250730T122608Z
UID:10024415-1759968000-1760054399@www.aa87.org
SUMMARY:Réflexion quotidienne 09 octobre
DESCRIPTION:Un principe spitrituel\n9 octobre\n\nDans la vie spirituelle\, il y a un principe voulant que tout malaise\, quelle qu’en soit la cause\, soit l’indice qu’en nous-mêmes\, quelque chose ne va pas. \nLes douze étapes et les douze traditions\, p. 102 \nJe n’avais jamais vraiment bien compris le principe spirituel de la Dixième Étape\, jusqu’au jour où il m’est arrivé l’expérience suivante. J’étais en train de lire dans ma chambre aux petites heures du matin\, quand tout à coup j’ai entendu aboyer mes chiens dans la cour. Comme les voisins n’apprécient pas ce genre de tumulte\, j’ai aussitôt fait rentrer les chiens\, partagé entre la colère\, la honte et la crainte d’être blâmé. Quelques semaines plus tard\, la même chose s’est produite. Cette fois\, comme j’étais en paix avec moi-même\, j’ai pu accepter la situation en me disant qu’il est normal que des chiens jappent\, et je les ai fait rentrer avec calme. Ces deux incidents m’ont appris que si je réagis de manière différente à deux événements presque identiques\, ce n’est pas l’événement qui est important mais ma condition spirituelle. Les émotions viennent de l’intérieur et non des circonstances extérieures. Quand je suis en forme spirituellement\, je réagis positivement. \nExtrait du livre Réflexions quotidiennes\nCopyright © 1991 par Alcoholics Anonymous World Services\, Inc. Tous droits réservés. \nTous les Réflexions quotidiennes
URL:https://www.aa87.org/evenement/rq1009/2025-10-09/
CATEGORIES:Réflexions Quotidiennes
END:VEVENT
BEGIN:VEVENT
DTSTART;TZID=America/Toronto:20251009T190000
DTEND;TZID=America/Toronto:20251009T210000
DTSTAMP:20260421T225511
CREATED:20250122T232304Z
LAST-MODIFIED:20260314T014249Z
UID:10018559-1760036400-1760043600@www.aa87.org
SUMMARY:Réunion mensuelle du congres AA de la rive sud
DESCRIPTION:Préparation du comité du congres de la rive-sud\nJoindre la réunion\n\nID de le réunion : 81677227760\nCode secret: \nVoir l’annonce \n\n\n\n\nCongrès de la Rive Sud\nRejoignez-nous à notre événement! \n\n\n\nVoir les détails du congrès\n \n\n 
URL:https://www.aa87.org/evenement/district-05-3/2025-10-09/
LOCATION:125 Coteau Rouge Longueuil\, Québec J4J 1W7 Canada\, 125 Coteau Rouge\, Longueuil\, QC\, J4J 1W7\, Canada
CATEGORIES:District 05
ORGANIZER;CN="District 5%2C Longueuil%2C St-Lambert":MAILTO:district05@aa87.org
END:VEVENT
BEGIN:VEVENT
DTSTART;VALUE=DATE:20251010
DTEND;VALUE=DATE:20251011
DTSTAMP:20260421T225511
CREATED:20250731T132459Z
LAST-MODIFIED:20250731T132459Z
UID:10024430-1760054400-1760140799@www.aa87.org
SUMMARY:Réflexion quotidienne 10 octobre
DESCRIPTION:Guéris-toi\, toi-même\n10 octobre\n\nSi quelqu’un nous offense et que nous en sommes aigris\, là aussi\, nous sommes en faute. \nLes douze étapes et les douze traditions\, p. 102 \nQuelle liberté j’ai ressentie quand on m’a fait lire ce passage ! J’ai vu tout à coup qu’il m’était possible d’agir sur ma colère ; plutôt que d’essayer de corriger l’autre\, je pouvais me corriger\, moi. Je crois que ce principe ne souffre aucune exception. Quand je suis furieux\, ma colère est toujours égocentrique. Je dois me rappeler que je ne suis qu’un être humain et que je fais de mon mieux\, même si c’est parfois très peu. Je prie Dieu pour qu’il me délivre de ma colère et fasse de moi un être libre. \nExtrait du livre Réflexions quotidiennes\nCopyright © 1991 par Alcoholics Anonymous World Services\, Inc. Tous droits réservés. \nTous les Réflexions quotidiennes
URL:https://www.aa87.org/evenement/rq1010/2025-10-10/
CATEGORIES:Réflexions Quotidiennes
END:VEVENT
BEGIN:VEVENT
DTSTART;TZID=America/Toronto:20251010T190000
DTEND;TZID=America/Toronto:20251010T210000
DTSTAMP:20260421T225511
CREATED:20241218T000243Z
LAST-MODIFIED:20260315T215743Z
UID:10040101-1760122800-1760130000@www.aa87.org
SUMMARY:Réunion des RSG du District 87-10
DESCRIPTION:Réunion mensuelle hybride \nSalle 2 \nJoindre la réunion\n \n  \nID de réunion : 918 2068 6211\nCode secret : 1234
URL:https://www.aa87.org/evenement/district-10-2-2/2025-10-10/
LOCATION:BSR / ASO\, 3920\, rue Rachel Est\, Montréal QC\, H1X 1Z3\, 3920\, Rachel Est\, Montréal\, Québec\, H1X 1Z3\, Canada
CATEGORIES:District 10
END:VEVENT
BEGIN:VEVENT
DTSTART;VALUE=DATE:20251011
DTEND;VALUE=DATE:20251012
DTSTAMP:20260421T225511
CREATED:20250731T133715Z
LAST-MODIFIED:20250731T133715Z
UID:10024445-1760140800-1760227199@www.aa87.org
SUMMARY:Réflexion quotidienne 11 octobre
DESCRIPTION:Maîtrise de soi\n11 octobre\n\nNotre premier objectif sera d’acquérir de la maîtrise de soi. \nLes douze étapes et les douze traditions\, p. 103 \nEn me rendant au travail le matin\, j’en profite pour faire mon examen de conscience. Un jour\, durant le trajet\, j’ai commencé à passer en revue mes progrès\, depuis que je suis abstinent\, et je n’ai pas aimé ce que j’ai constaté. J’espérais que ces pensées troublantes s’évanouiraient au travail\, mais les contrariétés se sont accumulées ce jour-là\, et mon malaise n’a fait que croître et ma tension intérieure\, monter. \nJe me suis assis à une table en retrait à la cafétéria\, et je me suis demandé comment tirer profit du reste de la journée. Autrefois\, quand ça n’allait pas\, je cherchais instinctivement à réagir. Mais pendant le peu de temps que j’avais passé chez les AA\, j’avais appris à prendre du recul et à m’examiner moi-même. Je me suis aperçu que\, même si je n’étais pas comme je voulais être\, j’avais appris à ne pas réagir comme autrefois. Mes anciens comportements n’avaient réussi qu’à causer souffrances et chagrin\, chez moi et chez les autres. Je suis retourné à mon poste\, décidé à faire une bonne journée de travail et remerciant Dieu de m’avoir donné une occasion de progresser ce jour-là. \n\nExtrait du livre Réflexions quotidiennes\nCopyright © 1991 par Alcoholics Anonymous World Services\, Inc. Tous droits réservés. \nTous les Réflexions quotidiennes
URL:https://www.aa87.org/evenement/rq1011/2025-10-11/
CATEGORIES:Réflexions Quotidiennes
END:VEVENT
END:VCALENDAR