BEGIN:VCALENDAR
VERSION:2.0
PRODID:-//Alcooliques Anonymes Région 87 - ECPv6.15.17//NONSGML v1.0//EN
CALSCALE:GREGORIAN
METHOD:PUBLISH
X-ORIGINAL-URL:https://www.aa87.org
X-WR-CALDESC:Évènements pour Alcooliques Anonymes Région 87
REFRESH-INTERVAL;VALUE=DURATION:PT1H
X-Robots-Tag:noindex
X-PUBLISHED-TTL:PT1H
BEGIN:VTIMEZONE
TZID:America/Toronto
BEGIN:DAYLIGHT
TZOFFSETFROM:-0500
TZOFFSETTO:-0400
TZNAME:EDT
DTSTART:20260308T070000
END:DAYLIGHT
BEGIN:STANDARD
TZOFFSETFROM:-0400
TZOFFSETTO:-0500
TZNAME:EST
DTSTART:20261101T060000
END:STANDARD
BEGIN:DAYLIGHT
TZOFFSETFROM:-0500
TZOFFSETTO:-0400
TZNAME:EDT
DTSTART:20270314T070000
END:DAYLIGHT
BEGIN:STANDARD
TZOFFSETFROM:-0400
TZOFFSETTO:-0500
TZNAME:EST
DTSTART:20271107T060000
END:STANDARD
BEGIN:DAYLIGHT
TZOFFSETFROM:-0500
TZOFFSETTO:-0400
TZNAME:EDT
DTSTART:20280312T070000
END:DAYLIGHT
BEGIN:STANDARD
TZOFFSETFROM:-0400
TZOFFSETTO:-0500
TZNAME:EST
DTSTART:20281105T060000
END:STANDARD
END:VTIMEZONE
BEGIN:VEVENT
DTSTART;VALUE=DATE:20270301
DTEND;VALUE=DATE:20270302
DTSTAMP:20260422T050756
CREATED:20250221T230618Z
LAST-MODIFIED:20250221T231203Z
UID:10020499-1803859200-1803945599@www.aa87.org
SUMMARY:Réflexion quotidienne 1 mars
DESCRIPTION:Ça marche !\n1 mars\n\nÇa marche ! Ça marche vraiment ! \nLes Alcooliques Anonymes\, p. 99 \nQuand je suis devenu abstinent\, je n’ai d’abord eu confiance qu’au programme des Alcooliques anonymes. C’étaient le désespoir et la peur qui me gardaient abstinent (il se peut aussi qu’un parrain bienveillant et coriace n’ait pas nui !). La foi en une Puissance supérieure n’est venue que beaucoup plus tard. Elle est venue lentement\, au début\, une fois que j’ai commencé aux réunions à écouter les autres témoigner de leur vécu\, un vécu que je n’avais jamais affronté abstinent\, mais qu’eux pouvaient affronter grâce à une force venue d’une Puissance supérieure. Leurs témoignages m’ont amené à croire que je pourrais\, moi aussi\, « prendre » une Puissance supérieure. Avec le temps\, j’ai appris qu’il est possible d’avoir une Puissance supérieure\, une foi qui fonctionne dans toutes les circonstances. Aujourd’hui\, cette foi ainsi que l’honnêteté\, l’ouverture d’esprit et le désir de mettre les Étapes en pratique\, me donnent la sérénité recherchée. Ça marche\, ça marche vraiment ! \n\nExtrait du livre Réflexions quotidiennes\nCopyright © 1991 par Alcoholics Anonymous World Services\, Inc. Tous droits réservés. \nTous les Réflexions quotidiennes
URL:https://www.aa87.org/evenement/rq0301/2027-03-01/
LOCATION:aa87.org
CATEGORIES:Réflexions Quotidiennes
END:VEVENT
BEGIN:VEVENT
DTSTART;TZID=America/Toronto:20270301T190000
DTEND;TZID=America/Toronto:20270301T210000
DTSTAMP:20260422T050756
CREATED:20241217T005615Z
LAST-MODIFIED:20260302T004538Z
UID:10013989-1803927600-1803934800@www.aa87.org
SUMMARY:Réunion des RSG du District 87-19
DESCRIPTION:Réunion mensuelle hybride. \nSalle 2 \nJoindre la réunion\n \nID de réunion : 918 2068 6211\nCode secret : 1234
URL:https://www.aa87.org/evenement/district-19-2-2/2027-03-01/
LOCATION:BSR / ASO\, 3920\, rue Rachel Est\, Montréal QC\, H1X 1Z3\, 3920\, Rachel Est\, Montréal\, Québec\, H1X 1Z3\, Canada
CATEGORIES:Activité / Activity,District 19
ORGANIZER;CN="District 19%2C Montreal%2C Westmount":MAILTO:district19@aa87.org
END:VEVENT
BEGIN:VEVENT
DTSTART;TZID=America/Toronto:20270301T190000
DTEND;TZID=America/Toronto:20270301T210000
DTSTAMP:20260422T050756
CREATED:20241217T005830Z
LAST-MODIFIED:20260303T000358Z
UID:10011256-1803927600-1803934800@www.aa87.org
SUMMARY:Comité Congrès de la Région 87
DESCRIPTION:Salle 1. \nRencontre de l’équipe de l’orginsation du Congrès de la Région 87. \nJoindre la réunion\n \n  \nID de réunion : 944 7943 6712\nCode secret : 1234
URL:https://www.aa87.org/evenement/comite-du-congres-regional-3-2/2027-03-01/
END:VEVENT
BEGIN:VEVENT
DTSTART;TZID=America/Toronto:20270301T193000
DTEND;TZID=America/Toronto:20270301T213000
DTSTAMP:20260422T050756
CREATED:20241217T223859Z
LAST-MODIFIED:20251230T165149Z
UID:10011472-1803929400-1803936600@www.aa87.org
SUMMARY:Réunion des RSG du District 87-26
DESCRIPTION:Réunion mensuelle en présence.
URL:https://www.aa87.org/evenement/district-26-2-2/2027-03-01/
LOCATION:École Les Trois Saisons (entrée par l’arrière) 570\, boul. de Mortagne\, Boucherville QC\, J4B 5E4\, 570\, boul. de Mortagne\, Boucherville\, Québec\, J4B 5E4\, Canada
CATEGORIES:Activité / Activity,District 26,District AA87
ORGANIZER;CN="District 26%2C Longueuil%2C Contrec%C5%93ur":MAILTO:district26@aa87.org
END:VEVENT
BEGIN:VEVENT
DTSTART;VALUE=DATE:20270302
DTEND;VALUE=DATE:20270303
DTSTAMP:20260422T050756
CREATED:20250301T004743Z
LAST-MODIFIED:20250301T005059Z
UID:10020529-1803945600-1804031999@www.aa87.org
SUMMARY:Réflexion quotidienne 2 mars
DESCRIPTION:L’espoir\n2 mars\n\nNe vous découragez pas. \nLes Alcooliques Anonymes\, p. 67  \nPeu d’expériences valent moins à mes yeux que la sobriété rapidement acquise. Trop souvent\, le découragement est le seul dividende que je retire d’attentes irréalistes\, sans parler de l’apitoiement sur moi-même ou de l’épuisement qui me guette lorsque je veux changer le monde en un jour. Le découragement est un signal d’alarme qui m’indique que je me suis peut-être écarté de la voie de Dieu. La meilleure façon de me réaliser pleinement\, c’est de reconnaître mes limites et de considérer le temps non comme une menace\, mais comme un don. \nLa clé de l’espoir déverrouille la porte du découragement. Le mode de vie des AA est pour moi la promesse qu’en ne prenant pas un premier verre aujourd’hui\, je peux continuer d’espérer. Comme je sais maintenant que je ne perds pas ce que je partage\, chaque fois que j’encourage\, je reçois du courage. Grâce à Dieu et au mouvement des AA\, je m’achemine lentement avec d’autres vers le bonheur. Je dois toujours me rappeler que la puissance qui est en moi est beaucoup plus grande que toutes mes peurs. J’espère pratiquer toujours la patience\, car je suis sur la bonne voie. \n\nExtrait du livre Réflexions quotidiennes\nCopyright © 1991 par Alcoholics Anonymous World Services\, Inc. Tous droits réservés. \nTous les Réflexions quotidiennes
URL:https://www.aa87.org/evenement/rq0302/2027-03-02/
LOCATION:aa87.org
CATEGORIES:Réflexions Quotidiennes
END:VEVENT
BEGIN:VEVENT
DTSTART;TZID=America/Toronto:20270302T190000
DTEND;TZID=America/Toronto:20270302T210000
DTSTAMP:20260422T050756
CREATED:20251229T223612Z
LAST-MODIFIED:20251229T223613Z
UID:10034266-1804014000-1804021200@www.aa87.org
SUMMARY:Réunion des RSG du District 87-13
DESCRIPTION:Rencontre mensuelle en présence.
URL:https://www.aa87.org/evenement/district-13-2-2-2/2027-03-02/
LOCATION:Centre St-Zotique\, 75\, carré Sir Georges-Étienne Cartier\, salle 215\, Montréal QC\, H4C 3A1\, 75\, carré Sir Georges-Étienne Cartier\, salle 215\, Montréal\, Québec\, H4C 3A1\, Canada
CATEGORIES:Activité / Activity,District 13,District AA87
END:VEVENT
BEGIN:VEVENT
DTSTART;TZID=America/Toronto:20270302T190000
DTEND;TZID=America/Toronto:20270302T210000
DTSTAMP:20260422T050756
CREATED:20251230T174102Z
LAST-MODIFIED:20251230T174746Z
UID:10036169-1804014000-1804021200@www.aa87.org
SUMMARY:Réunion des RSG du District 87-32
DESCRIPTION:Réunion mensuelle en présence. Adresse à déterminer.
URL:https://www.aa87.org/evenement/reunion-des-rsg-du-district-87-32/2027-03-02/
CATEGORIES:Activité / Activity,District 32
END:VEVENT
BEGIN:VEVENT
DTSTART;TZID=America/Toronto:20270302T190000
DTEND;TZID=America/Toronto:20270302T210000
DTSTAMP:20260422T050756
CREATED:20260405T001857Z
LAST-MODIFIED:20260405T214833Z
UID:10040682-1804014000-1804021200@www.aa87.org
SUMMARY:Groupe de travail sur le parrainage de service
DESCRIPTION:Réunion mensuelle virtuelle seulement \nSalle 1 \nJoindre la réunion\n \nID de le réunion : 944 7943 6712\nCode secret: 1234
URL:https://www.aa87.org/evenement/groupe-de-travail-sur-le-parrainage-de-service/2027-03-02/
LOCATION:
END:VEVENT
BEGIN:VEVENT
DTSTART;TZID=America/Toronto:20270302T193000
DTEND;TZID=America/Toronto:20270302T213000
DTSTAMP:20260422T050756
CREATED:20241217T224421Z
LAST-MODIFIED:20260228T232542Z
UID:10012123-1804015800-1804023000@www.aa87.org
SUMMARY:Réunion des RSG du District 87-21
DESCRIPTION:Rencontre mensuelle en présence.
URL:https://www.aa87.org/evenement/district-21-2-2/2027-03-02/
LOCATION:Centre communautaire Richard Goulet\, 170 rue St-Antoine Nord\, Granby\, Québec\, J2G 5G8\, Canada
CATEGORIES:Activité / Activity,District 21,District AA87
ORGANIZER;CN="District 21%2C Granby%2C Cowansville":MAILTO:district21@aa87.org
END:VEVENT
BEGIN:VEVENT
DTSTART;VALUE=DATE:20270303
DTEND;VALUE=DATE:20270304
DTSTAMP:20260422T050756
CREATED:20250301T005353Z
LAST-MODIFIED:20250301T005815Z
UID:10020559-1804032000-1804118399@www.aa87.org
SUMMARY:Réflexion quotidienne 3 mars
DESCRIPTION:Vaincre l’entêtement\n3 mars\n\nNous sommes donc les principaux artisans de nos malheurs. Ils viennent de nous\, et l’alcoolique four- nit l’exemple parfait de la volonté personnelle déchaînée\, même si\, la plupart du temps\, il ne s’en rend pas compte. Avant toute chose\, nous\, les alcooliques\, devons nous corriger de notre égoïsme\, sinon il nous tuera ! \nLes Alcooliques Anonymes\, p. 70 \nPendant bien des années\, ma vie a été centrée sur moi. J’étais rongé par mon ego de toutes sortes de façons : égocentrisme\, apitoiement sur mon sort\, autosatisfaction ; tout cela venait de mon orgueil. Depuis\, le mouvement des Alcooliques anonymes m’a fait cadeau des Étapes et des Traditions que je peux mettre en pratique dans ma vie quotidienne\, d’un groupe et d’un parrain ainsi que de la possibilité\, si je le désire\, de mettre mon orgueil de côté dans toutes les circonstances de ma vie. Tant que je n’ai pas jeté un regard honnête sur moi-même et découvert que\, dans beaucoup de circonstances\, le problème venait de moi ; tant que je n’ai pas appris à bien réagir au-dedans comme au-dehors ; tant que je n’ai pas réussi à oublier mes attentes et à comprendre que ma sérénité en dépendait\, je n’ai pas connu la sérénité et ma sobriété n’a pas été assurée. \n\nExtrait du livre Réflexions quotidiennes\nCopyright © 1991 par Alcoholics Anonymous World Services\, Inc. Tous droits réservés. \nTous les Réflexions quotidiennes
URL:https://www.aa87.org/evenement/rq0303/2027-03-03/
LOCATION:aa87.org
CATEGORIES:Réflexions Quotidiennes
END:VEVENT
BEGIN:VEVENT
DTSTART;TZID=America/Toronto:20270303T193000
DTEND;TZID=America/Toronto:20270303T213000
DTSTAMP:20260422T050756
CREATED:20260220T183208Z
LAST-MODIFIED:20260220T183208Z
UID:10038556-1804102200-1804109400@www.aa87.org
SUMMARY:Réunion des RSG du District 87-16
DESCRIPTION:Rencontre mensuelle en présence.
URL:https://www.aa87.org/evenement/district-16-2-2-3-2-2-2-2/2027-03-03/
LOCATION:Centre communautaire\, 53\, rue Rabastalière\, St-Bruno QC\, J3V 1Y7\, 53\, rue Rabastalière\, St-Bruno\, Québec\, J3V 1Y7\, Canada
CATEGORIES:District 16
ORGANIZER;CN="District 16%2C Bel%C5%93il%2C St-Hilaire":MAILTO:district16@aa87.org
END:VEVENT
BEGIN:VEVENT
DTSTART;VALUE=DATE:20270304
DTEND;VALUE=DATE:20270305
DTSTAMP:20260422T050756
CREATED:20250303T015845Z
LAST-MODIFIED:20250303T020305Z
UID:10020601-1804118400-1804204799@www.aa87.org
SUMMARY:Réflexion quotidienne 4 mars
DESCRIPTION:Désherber mon jardin\n4 mars\n\nL’essence de toute croissance réside dans le désir\nde changer pour le mieux et d’endosser pour toujours\nla responsabilité que cela entraîne. \nRéflexions de Bill\, p. 115 \nAu moment d’entreprendre la Troisième Étape\,\nj’étais délivré de l’obsession de boire\, mais j’ai chèrement\npayé pour apprendre qu’une sobriété constante\nrequiert un effort constant. \nDe temps à autre\, je m’arrête pour voir où j’en\nsuis. Chaque fois\, je constate que le désherbage\nde mon jardin progresse\, mais je découvre aussi\nde nouvelles mauvaises herbes dans des endroits\nque je croyais avoir nettoyés pour de bon. Tout en\nrevenant en arrière pour enlever ces nouvelles\npousses (c’est plus facile quand elles sont jeunes)\,\nje prends le temps d’admirer la croissance\nde mes légumes et de mes fleurs. C’est la récompense\nde mes efforts. Ma sobriété croît et porte\ndes fruits. \n\nExtrait du livre Réflexions quotidiennes\nCopyright © 1991 par Alcoholics Anonymous World Services\, Inc. Tous droits réservés. \nTous les Réflexions quotidiennes
URL:https://www.aa87.org/evenement/rq0304/2027-03-04/
LOCATION:aa87.org
CATEGORIES:Réflexions Quotidiennes
END:VEVENT
BEGIN:VEVENT
DTSTART;TZID=America/Toronto:20270304T190000
DTEND;TZID=America/Toronto:20270304T210000
DTSTAMP:20260422T050756
CREATED:20251229T205224Z
LAST-MODIFIED:20260303T001359Z
UID:10013215-1804186800-1804194000@www.aa87.org
SUMMARY:Réunion des RSG du District 87-05
DESCRIPTION:Réunion mensuelle hybride \nJoindre la réunion\n \nID de réunion : 862 4418 3943\nCode secret :
URL:https://www.aa87.org/evenement/district-05-2-2-2/2027-03-04/
LOCATION:Place à l’emploi\, 125 Chem. du Coteau-Rouge\, Longueuil\, QC J4J 1W7\, Canada
CATEGORIES:Activité / Activity,District 05,District AA87
ORGANIZER;CN="District 5%2C Longueuil%2C St-Lambert":MAILTO:district05@aa87.org
END:VEVENT
BEGIN:VEVENT
DTSTART;TZID=America/Toronto:20270304T190000
DTEND;TZID=America/Toronto:20270304T220000
DTSTAMP:20260422T050756
CREATED:20251227T154306Z
LAST-MODIFIED:20260313T173521Z
UID:10017896-1804186800-1804197600@www.aa87.org
SUMMARY:Comité de direction
DESCRIPTION:Hybride\nSalle 4\nJoindre la réunion\n\n 
URL:https://www.aa87.org/evenement/comite-de-direction-3-2/2027-03-04/
LOCATION:BSR / ASO\, 3920\, rue Rachel Est\, Montréal QC\, H1X 1Z3\, 3920\, Rachel Est\, Montréal\, Québec\, H1X 1Z3\, Canada
CATEGORIES:Comité de direction/Steering Committee,Comités / Committees
END:VEVENT
BEGIN:VEVENT
DTSTART;TZID=America/Toronto:20270304T193000
DTEND;TZID=America/Toronto:20270304T213000
DTSTAMP:20260422T050756
CREATED:20251229T220820Z
LAST-MODIFIED:20251229T220820Z
UID:10014168-1804188600-1804195800@www.aa87.org
SUMMARY:Réunion des RSG du District 87-07
DESCRIPTION:Réunion mensuelle en présence.
URL:https://www.aa87.org/evenement/district-07-2-2-2/2027-03-04/
LOCATION:St. Mary’s Church\, 735\, Miller\, Greenfield Park QC\, 735\, Miller\, Greenfield Park\, Québec\, Canada
CATEGORIES:District 07
ORGANIZER;CN="District 7%2C Ch%C3%A2teauguay%2C St-Lambert%2C Valleyfield":MAILTO:district07@aa87.org
END:VEVENT
BEGIN:VEVENT
DTSTART;TZID=America/Toronto:20270304T193000
DTEND;TZID=America/Toronto:20270304T213000
DTSTAMP:20260422T050756
CREATED:20251231T040549Z
LAST-MODIFIED:20260313T173725Z
UID:10014228-1804188600-1804195800@www.aa87.org
SUMMARY:Réunion des RSG du District 87-14
DESCRIPTION:Rencontre mensuelle hybride \nSalle 5 \nJoindre la réunion\n \n  \nID de réunion: 924 7313 7786\nCode secret: 1234
URL:https://www.aa87.org/evenement/district-14-2-2-2/2027-03-04/
LOCATION:3225 rue Courchesne Sorel-Tracy  Local 210\, 3225 rue Courchesne\, Sorel-Tracy\, QC\, J3R 3A7\, Canada
ORGANIZER;CN="District 14%2C Sorel%2C Tracy et environs":MAILTO:district14@aa87.org
END:VEVENT
BEGIN:VEVENT
DTSTART;VALUE=DATE:20270305
DTEND;VALUE=DATE:20270306
DTSTAMP:20260422T050756
CREATED:20250802T040313Z
LAST-MODIFIED:20250802T040313Z
UID:10024492-1804204800-1804291199@www.aa87.org
SUMMARY:Réflexion quotidienne 05 mars
DESCRIPTION:La tâche de toute une vie\n5 mars\n\nMais comment faire au juste pour « ne pas s’en faire » dans de telles conditions ? C’est ce que je voudrais savoir. \nLes douze étapes et les douze traditions\, p. 29 \nJe n’ai jamais eu la réputation d’être patient. Combien de fois n’ai-je pas demandé : « Pourquoi at tendre quand je peux tout avoir dès maintenant ? » Quand on m’a présenté les Douze Étapes pour la première fois\, j’étais comme un enfant dans une boutique de jouets. Je brûlais d’impatience d’atteindre la Douzième Étape. Ça ne prendrait sûrement pas plus que quelques mois ; du moins\, c’est ce que je croyais. Je me rends compte\, maintenant\, que la pratique des Douze Étapes est la tâche de toute une vie. \nExtrait du livre Réflexions quotidiennes\nCopyright © 1991 par Alcoholics Anonymous World Services\, Inc. Tous droits réservés. \nTous les Réflexions quotidiennes
URL:https://www.aa87.org/evenement/rq0305/2027-03-05/
CATEGORIES:Réflexions Quotidiennes
END:VEVENT
BEGIN:VEVENT
DTSTART;VALUE=DATE:20270306
DTEND;VALUE=DATE:20270307
DTSTAMP:20260422T050756
CREATED:20250803T223813Z
LAST-MODIFIED:20250803T223813Z
UID:10024510-1804291200-1804377599@www.aa87.org
SUMMARY:Réflexion quotidienne 06 mars
DESCRIPTION:L’idée de la foi\n6 mars\n\nNe laissez aucun de vos préjugés contre les termes de spiritualité vous empêcher de vous demander honnêtement ce qu’ils peuvent signifier pour vous.  \nLes Alcooliques Anonymes\, p. 53  \nL’idée de la foi est un très gros morceau à avaler quand la peur\, le doute et la colère m’habitent et m’entourent. Parfois\, la simple intention de faire une chose différente\, une chose que je n’ai pas l’habitude de faire\, peut devenir par la suite un acte de foi si je la fais régulièrement\, sans passer mon temps à me demander si c’est la bonne chose à faire. Quand je connais une mauvaise journée et que tout va mal\, une réunion ou une conversation avec un autre alcoolique peut souvent me distraire juste assez pour me convaincre que tout n’est pas aussi impossible ou insurmontable que je le croyais. De la même manière\, assister à une réunion ou parler à un autre alcoolique sont des actes de foi puisque je crois que j’empêche la progression de ma maladie. Ce sont là des moyens de m’approcher lentement de la foi en une Puissance supérieure. \nExtrait du livre Réflexions quotidiennes\nCopyright © 1991 par Alcoholics Anonymous World Services\, Inc. Tous droits réservés. \nTous les Réflexions quotidiennes
URL:https://www.aa87.org/evenement/rq0306/2027-03-06/
CATEGORIES:Réflexions Quotidiennes
END:VEVENT
BEGIN:VEVENT
DTSTART;VALUE=DATE:20270307
DTEND;VALUE=DATE:20270308
DTSTAMP:20260422T050756
CREATED:20250803T224634Z
LAST-MODIFIED:20250803T224634Z
UID:10024528-1804377600-1804463999@www.aa87.org
SUMMARY:Réflexion quotidienne 07 mars
DESCRIPTION:La clé de la bonne volonté\n7 mars\n\nDès que nous avons mis dans la serrure la clé de notre bonne volonté et que la porte s’est ouverte\, même légèrement\, nous avons constaté qu’il est toujours possible de l’ouvrir encore davantage. \nLes douze étapes et les douze traditions\, p. 41 \nAujourd’hui\, mon désir d’abandonner à une Puissance supérieure mon orgueil et mon entêtement s’est révélé le seul élément indispensable à la solution de tous mes problèmes. Même une once de bonne volonté\, si elle est sincère\, suffit à laisser Dieu entrer en moi pour se charger de n’importe quel problème\, souffrance ou obsession. Mon réconfort est directement proportionnel à la bonne volonté dont je fais preuve à tout moment pour renoncer à mon entêtement et pour laisser la volonté de Dieu se manifester dans ma vie. Cette clé de la bonne volonté est un outil puissant qui transforme en sérénité mes soucis et mes craintes. \n\nExtrait du livre Réflexions quotidiennes\nCopyright © 1991 par Alcoholics Anonymous World Services\, Inc. Tous droits réservés. \nTous les Réflexions quotidiennes
URL:https://www.aa87.org/evenement/rq0307/2027-03-07/
CATEGORIES:Réflexions Quotidiennes
END:VEVENT
BEGIN:VEVENT
DTSTART;TZID=America/Toronto:20270307T100000
DTEND;TZID=America/Toronto:20270307T113000
DTSTAMP:20260422T050756
CREATED:20241218T132830Z
LAST-MODIFIED:20260301T160120Z
UID:10025163-1804413600-1804419000@www.aa87.org
SUMMARY:Correctional Facilities Committee
DESCRIPTION:Réunion mensuelle virtuelle seulement. \nSalle 1 \nJoindre la réunion\n \n  \nID de réunion : 944 7943 6712\nCode secret : 1234
URL:https://www.aa87.org/evenement/correctional-facilities-committee/2027-03-07/
LOCATION:
END:VEVENT
BEGIN:VEVENT
DTSTART;TZID=America/Toronto:20270307T140000
DTEND;TZID=America/Toronto:20270307T160000
DTSTAMP:20260422T050756
CREATED:20260214T021105Z
LAST-MODIFIED:20260302T004343Z
UID:10038187-1804428000-1804435200@www.aa87.org
SUMMARY:Réunion du comité MONQYPAA
DESCRIPTION:Réunion Hybride \nEn présence \nBureau des services de la Région 87\n3920\, rue Rachel Est\nMontréal (Québec) H1X 1Z3\nMapIt \nJoindre la réunion\n\n  \nID de réunion: 924 7313 7786\nCode secret: 1234
URL:https://www.aa87.org/evenement/reunionducomitemonqypaa/2027-03-07/
LOCATION:BSR / ASO\, 3920\, rue Rachel Est\, Montréal QC\, H1X 1Z3\, 3920\, Rachel Est\, Montréal\, Québec\, H1X 1Z3\, Canada
ORGANIZER;CN="District 10%2C Montr%C3%A9al%2C Plateau-Centre-Ville":MAILTO:district10@aa87.org
END:VEVENT
BEGIN:VEVENT
DTSTART;VALUE=DATE:20270308
DTEND;VALUE=DATE:20270309
DTSTAMP:20260422T050756
CREATED:20250308T115356Z
LAST-MODIFIED:20260419T224450Z
UID:10041942-1804464000-1804550399@www.aa87.org
SUMMARY:Réflexion quotidienne 8 mars
DESCRIPTION:Confier sa vie\n8 mars\n\nHommes ou femmes\, tous ceux qui ont joint les rangs des AA avec l’intention d’y rester\, ont déjà\, sans s’en rendre compte\, franchi le pas de la Troisième Étape. N’est-il pas exact que pour tout ce qui touche l’alcool\, chacun d’eux a décidé de placer sa vie sous les soins\, la protection et les bons conseils des Alcooliques anonymes ?… Tous les nouveaux bien disposés sont persuadés qu’il n’existe pas pour leur navire fatigué d’autre port de salut que le mouvement. Si ce n’est pas là confier sa volonté et sa vie à la Providence telle qu’on vient de la découvrir\, alors qu’est-ce que c’est ?  \nLes douze étapes et les douze traditions\, p. 41-42 \nMa soumission à Dieu a été la première étape de mon rétablissement. Je crois que notre mouvement recherche une spiritualité qui établit un nouveau type de liens avec Dieu. En m’efforçant de suivre la voie des Étapes\, je sens une liberté qui me donne la possibilité de penser par moi-même. Ma dépendance m’emprisonnait\, sans possibilité d’évasion\, et me rendait incapable de me libérer de mon obsession\, mais les AA me procurent un moyen de m’en sortir. Le partage\, l’entraide et le dévouement sont des dons que nous nous offrons mutuellement et les miens s’accroissent au fur et à mesure que se transforme mon attitude envers Dieu. J’apprends à me soumettre à la volonté de Dieu dans ma vie\, à me respecter et à conserver ces deux attitudes en donnant aux autres ce que je reçois. \n\nExtrait du livre Réflexions quotidiennes\nCopyright © 1991 par Alcoholics Anonymous World Services\, Inc. Tous droits réservés. \nTous les Réflexions quotidiennes
URL:https://www.aa87.org/evenement/rq0308/2027-03-08/
LOCATION:aa87.org
CATEGORIES:Réflexions Quotidiennes
END:VEVENT
BEGIN:VEVENT
DTSTART;TZID=America/Toronto:20270308T190000
DTEND;TZID=America/Toronto:20270308T210000
DTSTAMP:20260422T050756
CREATED:20260220T182321Z
LAST-MODIFIED:20260314T015602Z
UID:10015263-1804532400-1804539600@www.aa87.org
SUMMARY:Helpline Committee
DESCRIPTION:Réunion mensuelle virtuelle seulement. 2e lundi. \nSalle 3 \nJoindre la réunion\n\n  \nID de réunion : 91087779314\nCode secret : 1234
URL:https://www.aa87.org/evenement/helpline-committee-2/2027-03-08/
LOCATION:
END:VEVENT
BEGIN:VEVENT
DTSTART;TZID=America/Toronto:20270308T190000
DTEND;TZID=America/Toronto:20270308T210000
DTSTAMP:20260422T050756
CREATED:20260405T010324Z
LAST-MODIFIED:20260405T010324Z
UID:10040743-1804532400-1804539600@www.aa87.org
SUMMARY:Communication internes
DESCRIPTION:Réunion mensuelle virtuelle seulement \nSalle 1 \nJoindre la réunion\n \nID de le réunion : 944 7943 6712\nCode secret: 1234
URL:https://www.aa87.org/evenement/communication-internes/2027-03-08/
LOCATION:
END:VEVENT
BEGIN:VEVENT
DTSTART;TZID=America/Toronto:20270308T193000
DTEND;TZID=America/Toronto:20270308T213000
DTSTAMP:20260422T050756
CREATED:20241217T205751Z
LAST-MODIFIED:20251230T050629Z
UID:10013929-1804534200-1804541400@www.aa87.org
SUMMARY:Réunion des RSG du District 87-15
DESCRIPTION:Réunion mensuelle en présence.
URL:https://www.aa87.org/evenement/district-15-2-2/2027-03-08/
LOCATION:136-A Jacques-Cartier Nord\, St-Jean-sur-Richelieu\, Québec\, Canada
CATEGORIES:District 15
ORGANIZER;CN="District 15%2C St-Jean-sur-Richelieu":MAILTO:district15@aa87.org
END:VEVENT
BEGIN:VEVENT
DTSTART;VALUE=DATE:20270309
DTEND;VALUE=DATE:20270310
DTSTAMP:20260422T050756
CREATED:20250308T120213Z
LAST-MODIFIED:20260419T225854Z
UID:10041986-1804550400-1804633199@www.aa87.org
SUMMARY:Réflexion quotidienne 9 mars
DESCRIPTION:Ne plus faire à ma tête\n9 mars\n\nNous avons décidé de confier notre volonté et notre vie aux soins de Dieu tel que nous Le concevions.  \nLes douze étapes et les douze traditions\, p. 40  \nMalgré toute la bonne volonté du monde\, comment peut-on confier sa volonté et sa vie aux soins de Dieu tel qu’on le conçoit ? En cherchant à répondre à cette question\, j’ai pris conscience de la sagesse de la Troisième Étape qui comporte deux parties. \nBien des fois\, j’aurais pu mourir ou être blessé à l’époque où je buvais\, mais cela n’est jamais arrivé. Je devais être protégé par quelqu’un ou par quelque chose. Je crois que ma vie a toujours été sous la protection de Dieu. Lui seul décide du nombre de jours qu’il me sera donné de passer sur cette terre. \nLa question de la volonté (ma volonté ou celle de Dieu) est pour moi la partie la plus difficile de l’Étape. Ce n’est qu’après avoir beaucoup souffert sur le plan émotif\, en tentant sans succès de me rétablir tout seul\, que j’accepte enfin de m’en remettre à la volonté de Dieu. La capitulation\, c’est comme le calme après la tempête. Quand ma volonté est en accord avec celle de Dieu à mon égard\, je trouve la paix intérieure. \n\nExtrait du livre Réflexions quotidiennes\nCopyright © 1991 par Alcoholics Anonymous World Services\, Inc. Tous droits réservés. \nTous les Réflexions quotidiennes
URL:https://www.aa87.org/evenement/rq0309/2027-03-09/
LOCATION:aa87.org
CATEGORIES:Réflexions Quotidiennes
END:VEVENT
BEGIN:VEVENT
DTSTART;TZID=America/Toronto:20270309T183000
DTEND;TZID=America/Toronto:20270309T210000
DTSTAMP:20260422T050756
CREATED:20250207T201435Z
LAST-MODIFIED:20260314T020214Z
UID:10019300-1804617000-1804626000@www.aa87.org
SUMMARY:Réunion du bulletin Écho Echo Eco
DESCRIPTION:Réunion de l’Équipe de Production Rédactionnelle du bulletin Éche Echo Eco.\nJoindre la réunion\n\nID de réunion : 910 8777 9314\nCode secret : 1234
URL:https://www.aa87.org/evenement/reunionechoechoeco/2027-03-09/
LOCATION:
END:VEVENT
BEGIN:VEVENT
DTSTART;TZID=America/Toronto:20270309T190000
DTEND;TZID=America/Toronto:20270309T210000
DTSTAMP:20260422T050756
CREATED:20241218T000653Z
LAST-MODIFIED:20251230T152505Z
UID:10014344-1804618800-1804626000@www.aa87.org
SUMMARY:Réunion des RSG du District 87-18
DESCRIPTION:Réunion mensuelle en présence.
URL:https://www.aa87.org/evenement/district-18-2-2/2027-03-09/
LOCATION:Unity Church – 3455 Girouard in Montreal
CATEGORIES:District 18
ORGANIZER;CN="District 18%2C Verdun%2C Notre-Dame-de-Gr%C3%A2ce":MAILTO:district18@aa87.org
END:VEVENT
BEGIN:VEVENT
DTSTART;TZID=America/Toronto:20270309T190000
DTEND;TZID=America/Toronto:20270309T210000
DTSTAMP:20260422T050757
CREATED:20260327T151328Z
LAST-MODIFIED:20260327T153342Z
UID:10040194-1804618800-1804626000@www.aa87.org
SUMMARY:Réunion des RSG du District 87-10
DESCRIPTION:Réunion mensuelle hybride \nSalle 2 \nJoindre la réunion\n \n  \nID de réunion : 918 2068 6211\nCode secret : 1234
URL:https://www.aa87.org/evenement/district-10-2-2-2/2027-03-09/
LOCATION:BSR / ASO\, 3920\, rue Rachel Est\, Montréal QC\, H1X 1Z3\, 3920\, Rachel Est\, Montréal\, Québec\, H1X 1Z3\, Canada
CATEGORIES:District 10
END:VEVENT
BEGIN:VEVENT
DTSTART;TZID=America/Toronto:20270309T190000
DTEND;TZID=America/Toronto:20270309T210000
DTSTAMP:20260422T050757
CREATED:20260405T011414Z
LAST-MODIFIED:20260405T220904Z
UID:10040803-1804618800-1804626000@www.aa87.org
SUMMARY: Public Information English Module
DESCRIPTION:Réunion mensuelle virtuelle seulement \nSalle 1 \nJoindre la réunion\n \nID de le réunion : 944 7943 6712\nCode secret: 1234
URL:https://www.aa87.org/evenement/public-information-english-module/2027-03-09/
LOCATION:
END:VEVENT
END:VCALENDAR