BEGIN:VCALENDAR
VERSION:2.0
PRODID:-//Alcooliques Anonymes Région 87 - ECPv6.15.17//NONSGML v1.0//EN
CALSCALE:GREGORIAN
METHOD:PUBLISH
X-WR-CALNAME:Alcooliques Anonymes Région 87
X-ORIGINAL-URL:https://www.aa87.org
X-WR-CALDESC:Évènements pour Alcooliques Anonymes Région 87
REFRESH-INTERVAL;VALUE=DURATION:PT1H
X-Robots-Tag:noindex
X-PUBLISHED-TTL:PT1H
BEGIN:VTIMEZONE
TZID:America/Toronto
BEGIN:DAYLIGHT
TZOFFSETFROM:-0500
TZOFFSETTO:-0400
TZNAME:EDT
DTSTART:20270314T070000
END:DAYLIGHT
BEGIN:STANDARD
TZOFFSETFROM:-0400
TZOFFSETTO:-0500
TZNAME:EST
DTSTART:20271107T060000
END:STANDARD
BEGIN:DAYLIGHT
TZOFFSETFROM:-0500
TZOFFSETTO:-0400
TZNAME:EDT
DTSTART:20280312T070000
END:DAYLIGHT
BEGIN:STANDARD
TZOFFSETFROM:-0400
TZOFFSETTO:-0500
TZNAME:EST
DTSTART:20281105T060000
END:STANDARD
BEGIN:DAYLIGHT
TZOFFSETFROM:-0500
TZOFFSETTO:-0400
TZNAME:EDT
DTSTART:20290311T070000
END:DAYLIGHT
BEGIN:STANDARD
TZOFFSETFROM:-0400
TZOFFSETTO:-0500
TZNAME:EST
DTSTART:20291104T060000
END:STANDARD
END:VTIMEZONE
BEGIN:VEVENT
DTSTART;VALUE=DATE:20280601
DTEND;VALUE=DATE:20280602
DTSTAMP:20260423T033750
CREATED:20250622T135218Z
LAST-MODIFIED:20250622T135531Z
UID:10022353-1843430400-1843516799@www.aa87.org
SUMMARY:Réflexion quotidienne 01 juin
DESCRIPTION:﻿﻿\n \nTous les Réflexions quotidiennes
URL:https://www.aa87.org/evenement/rq0601/2028-06-01/
CATEGORIES:Réflexions Quotidiennes
END:VEVENT
BEGIN:VEVENT
DTSTART;TZID=America/Toronto:20280601T190000
DTEND;TZID=America/Toronto:20280601T210000
DTSTAMP:20260423T033750
CREATED:20251229T205224Z
LAST-MODIFIED:20260303T001359Z
UID:10013230-1843498800-1843506000@www.aa87.org
SUMMARY:Réunion des RSG du District 87-05
DESCRIPTION:Réunion mensuelle hybride \nJoindre la réunion\n \nID de réunion : 862 4418 3943\nCode secret :
URL:https://www.aa87.org/evenement/district-05-2-2-2/2028-06-01/
LOCATION:Place à l’emploi\, 125 Chem. du Coteau-Rouge\, Longueuil\, QC J4J 1W7\, Canada
CATEGORIES:Activité / Activity,District 05,District AA87
ORGANIZER;CN="District 5%2C Longueuil%2C St-Lambert":MAILTO:district05@aa87.org
END:VEVENT
BEGIN:VEVENT
DTSTART;TZID=America/Toronto:20280601T190000
DTEND;TZID=America/Toronto:20280601T220000
DTSTAMP:20260423T033750
CREATED:20251227T154306Z
LAST-MODIFIED:20260313T173521Z
UID:10017911-1843498800-1843509600@www.aa87.org
SUMMARY:Comité de direction
DESCRIPTION:Hybride\nSalle 4\nJoindre la réunion\n\n 
URL:https://www.aa87.org/evenement/comite-de-direction-3-2/2028-06-01/
LOCATION:BSR / ASO\, 3920\, rue Rachel Est\, Montréal QC\, H1X 1Z3\, 3920\, Rachel Est\, Montréal\, Québec\, H1X 1Z3\, Canada
CATEGORIES:Comité de direction/Steering Committee,Comités / Committees
END:VEVENT
BEGIN:VEVENT
DTSTART;TZID=America/Toronto:20280601T193000
DTEND;TZID=America/Toronto:20280601T213000
DTSTAMP:20260423T033750
CREATED:20251229T220820Z
LAST-MODIFIED:20251229T220820Z
UID:10014183-1843500600-1843507800@www.aa87.org
SUMMARY:Réunion des RSG du District 87-07
DESCRIPTION:Réunion mensuelle en présence.
URL:https://www.aa87.org/evenement/district-07-2-2-2/2028-06-01/
LOCATION:St. Mary’s Church\, 735\, Miller\, Greenfield Park QC\, 735\, Miller\, Greenfield Park\, Québec\, Canada
CATEGORIES:District 07
ORGANIZER;CN="District 7%2C Ch%C3%A2teauguay%2C St-Lambert%2C Valleyfield":MAILTO:district07@aa87.org
END:VEVENT
BEGIN:VEVENT
DTSTART;TZID=America/Toronto:20280601T193000
DTEND;TZID=America/Toronto:20280601T213000
DTSTAMP:20260423T033750
CREATED:20251231T040549Z
LAST-MODIFIED:20260313T173725Z
UID:10014243-1843500600-1843507800@www.aa87.org
SUMMARY:Réunion des RSG du District 87-14
DESCRIPTION:Rencontre mensuelle hybride \nSalle 5 \nJoindre la réunion\n \n  \nID de réunion: 924 7313 7786\nCode secret: 1234
URL:https://www.aa87.org/evenement/district-14-2-2-2/2028-06-01/
LOCATION:3225 rue Courchesne Sorel-Tracy  Local 210\, 3225 rue Courchesne\, Sorel-Tracy\, QC\, J3R 3A7\, Canada
ORGANIZER;CN="District 14%2C Sorel%2C Tracy et environs":MAILTO:district14@aa87.org
END:VEVENT
BEGIN:VEVENT
DTSTART;TZID=America/Toronto:20280603T100000
DTEND;TZID=America/Toronto:20280603T120000
DTSTAMP:20260423T033750
CREATED:20251108T131908Z
LAST-MODIFIED:20260418T121844Z
UID:10041854-1843639200-1843646400@www.aa87.org
SUMMARY:Réunion de La Vigne
DESCRIPTION:Une invitation à tous les Représentants de La Vigne. \nJoindre la réunion\n \n  \nID de réunion : 918 2068 6211\nMot de passe : 1234 \nVoir l’annonce
URL:https://www.aa87.org/evenement/reunion-de-la-vigne-2025-12-06/2028-06-03/
CATEGORIES:La Vigne
LOCATION:
END:VEVENT
BEGIN:VEVENT
DTSTART;TZID=America/Toronto:20280604T100000
DTEND;TZID=America/Toronto:20280604T113000
DTSTAMP:20260423T033750
CREATED:20241218T132830Z
LAST-MODIFIED:20260301T160120Z
UID:10025178-1843725600-1843731000@www.aa87.org
SUMMARY:Correctional Facilities Committee
DESCRIPTION:Réunion mensuelle virtuelle seulement. \nSalle 1 \nJoindre la réunion\n \n  \nID de réunion : 944 7943 6712\nCode secret : 1234
URL:https://www.aa87.org/evenement/correctional-facilities-committee/2028-06-04/
LOCATION:
END:VEVENT
BEGIN:VEVENT
DTSTART;TZID=America/Toronto:20280604T140000
DTEND;TZID=America/Toronto:20280604T160000
DTSTAMP:20260423T033750
CREATED:20260214T021105Z
LAST-MODIFIED:20260302T004343Z
UID:10038202-1843740000-1843747200@www.aa87.org
SUMMARY:Réunion du comité MONQYPAA
DESCRIPTION:Réunion Hybride \nEn présence \nBureau des services de la Région 87\n3920\, rue Rachel Est\nMontréal (Québec) H1X 1Z3\nMapIt \nJoindre la réunion\n\n  \nID de réunion: 924 7313 7786\nCode secret: 1234
URL:https://www.aa87.org/evenement/reunionducomitemonqypaa/2028-06-04/
LOCATION:BSR / ASO\, 3920\, rue Rachel Est\, Montréal QC\, H1X 1Z3\, 3920\, Rachel Est\, Montréal\, Québec\, H1X 1Z3\, Canada
ORGANIZER;CN="District 10%2C Montr%C3%A9al%2C Plateau-Centre-Ville":MAILTO:district10@aa87.org
END:VEVENT
BEGIN:VEVENT
DTSTART;TZID=America/Toronto:20280605T190000
DTEND;TZID=America/Toronto:20280605T210000
DTSTAMP:20260423T033750
CREATED:20241217T005615Z
LAST-MODIFIED:20260302T004538Z
UID:10014004-1843844400-1843851600@www.aa87.org
SUMMARY:Réunion des RSG du District 87-19
DESCRIPTION:Réunion mensuelle hybride. \nSalle 2 \nJoindre la réunion\n \nID de réunion : 918 2068 6211\nCode secret : 1234
URL:https://www.aa87.org/evenement/district-19-2-2/2028-06-05/
LOCATION:BSR / ASO\, 3920\, rue Rachel Est\, Montréal QC\, H1X 1Z3\, 3920\, Rachel Est\, Montréal\, Québec\, H1X 1Z3\, Canada
CATEGORIES:Activité / Activity,District 19
ORGANIZER;CN="District 19%2C Montreal%2C Westmount":MAILTO:district19@aa87.org
END:VEVENT
BEGIN:VEVENT
DTSTART;TZID=America/Toronto:20280605T190000
DTEND;TZID=America/Toronto:20280605T210000
DTSTAMP:20260423T033750
CREATED:20241217T005830Z
LAST-MODIFIED:20260303T000358Z
UID:10011271-1843844400-1843851600@www.aa87.org
SUMMARY:Comité Congrès de la Région 87
DESCRIPTION:Salle 1. \nRencontre de l’équipe de l’orginsation du Congrès de la Région 87. \nJoindre la réunion\n \n  \nID de réunion : 944 7943 6712\nCode secret : 1234
URL:https://www.aa87.org/evenement/comite-du-congres-regional-3-2/2028-06-05/
END:VEVENT
BEGIN:VEVENT
DTSTART;TZID=America/Toronto:20280605T193000
DTEND;TZID=America/Toronto:20280605T213000
DTSTAMP:20260423T033750
CREATED:20241217T223859Z
LAST-MODIFIED:20251230T165149Z
UID:10011487-1843846200-1843853400@www.aa87.org
SUMMARY:Réunion des RSG du District 87-26
DESCRIPTION:Réunion mensuelle en présence.
URL:https://www.aa87.org/evenement/district-26-2-2/2028-06-05/
LOCATION:École Les Trois Saisons (entrée par l’arrière) 570\, boul. de Mortagne\, Boucherville QC\, J4B 5E4\, 570\, boul. de Mortagne\, Boucherville\, Québec\, J4B 5E4\, Canada
CATEGORIES:Activité / Activity,District 26,District AA87
ORGANIZER;CN="District 26%2C Longueuil%2C Contrec%C5%93ur":MAILTO:district26@aa87.org
END:VEVENT
BEGIN:VEVENT
DTSTART;TZID=America/Toronto:20280606T190000
DTEND;TZID=America/Toronto:20280606T210000
DTSTAMP:20260423T033750
CREATED:20251229T223612Z
LAST-MODIFIED:20251229T223613Z
UID:10034281-1843930800-1843938000@www.aa87.org
SUMMARY:Réunion des RSG du District 87-13
DESCRIPTION:Rencontre mensuelle en présence.
URL:https://www.aa87.org/evenement/district-13-2-2-2/2028-06-06/
LOCATION:Centre St-Zotique\, 75\, carré Sir Georges-Étienne Cartier\, salle 215\, Montréal QC\, H4C 3A1\, 75\, carré Sir Georges-Étienne Cartier\, salle 215\, Montréal\, Québec\, H4C 3A1\, Canada
CATEGORIES:Activité / Activity,District 13,District AA87
END:VEVENT
BEGIN:VEVENT
DTSTART;TZID=America/Toronto:20280606T190000
DTEND;TZID=America/Toronto:20280606T210000
DTSTAMP:20260423T033750
CREATED:20251230T174102Z
LAST-MODIFIED:20251230T174746Z
UID:10036184-1843930800-1843938000@www.aa87.org
SUMMARY:Réunion des RSG du District 87-32
DESCRIPTION:Réunion mensuelle en présence. Adresse à déterminer.
URL:https://www.aa87.org/evenement/reunion-des-rsg-du-district-87-32/2028-06-06/
CATEGORIES:Activité / Activity,District 32
END:VEVENT
BEGIN:VEVENT
DTSTART;TZID=America/Toronto:20280606T190000
DTEND;TZID=America/Toronto:20280606T210000
DTSTAMP:20260423T033750
CREATED:20260405T001857Z
LAST-MODIFIED:20260405T214833Z
UID:10040697-1843930800-1843938000@www.aa87.org
SUMMARY:Groupe de travail sur le parrainage de service
DESCRIPTION:Réunion mensuelle virtuelle seulement \nSalle 1 \nJoindre la réunion\n \nID de le réunion : 944 7943 6712\nCode secret: 1234
URL:https://www.aa87.org/evenement/groupe-de-travail-sur-le-parrainage-de-service/2028-06-06/
LOCATION:
END:VEVENT
BEGIN:VEVENT
DTSTART;TZID=America/Toronto:20280606T193000
DTEND;TZID=America/Toronto:20280606T213000
DTSTAMP:20260423T033750
CREATED:20241217T224421Z
LAST-MODIFIED:20260228T232542Z
UID:10012138-1843932600-1843939800@www.aa87.org
SUMMARY:Réunion des RSG du District 87-21
DESCRIPTION:Rencontre mensuelle en présence.
URL:https://www.aa87.org/evenement/district-21-2-2/2028-06-06/
LOCATION:Centre communautaire Richard Goulet\, 170 rue St-Antoine Nord\, Granby\, Québec\, J2G 5G8\, Canada
CATEGORIES:Activité / Activity,District 21,District AA87
ORGANIZER;CN="District 21%2C Granby%2C Cowansville":MAILTO:district21@aa87.org
END:VEVENT
BEGIN:VEVENT
DTSTART;TZID=America/Toronto:20280607T193000
DTEND;TZID=America/Toronto:20280607T213000
DTSTAMP:20260423T033750
CREATED:20260220T183208Z
LAST-MODIFIED:20260220T183208Z
UID:10038571-1844019000-1844026200@www.aa87.org
SUMMARY:Réunion des RSG du District 87-16
DESCRIPTION:Rencontre mensuelle en présence.
URL:https://www.aa87.org/evenement/district-16-2-2-3-2-2-2-2/2028-06-07/
LOCATION:Centre communautaire\, 53\, rue Rabastalière\, St-Bruno QC\, J3V 1Y7\, 53\, rue Rabastalière\, St-Bruno\, Québec\, J3V 1Y7\, Canada
CATEGORIES:District 16
ORGANIZER;CN="District 16%2C Bel%C5%93il%2C St-Hilaire":MAILTO:district16@aa87.org
END:VEVENT
BEGIN:VEVENT
DTSTART;VALUE=DATE:20280608
DTEND;VALUE=DATE:20280609
DTSTAMP:20260423T033750
CREATED:20250622T140702Z
LAST-MODIFIED:20250622T140702Z
UID:10022371-1844035200-1844121599@www.aa87.org
SUMMARY:Réflexion quotidienne 08 juin
DESCRIPTION:﻿﻿﻿\n \nTous les Réflexions quotidiennes
URL:https://www.aa87.org/evenement/rq0608/2028-06-08/
CATEGORIES:Réflexions Quotidiennes
END:VEVENT
BEGIN:VEVENT
DTSTART;TZID=America/Toronto:20280608T190000
DTEND;TZID=America/Toronto:20280608T210000
DTSTAMP:20260423T033750
CREATED:20250122T232304Z
LAST-MODIFIED:20260314T014249Z
UID:10018591-1844103600-1844110800@www.aa87.org
SUMMARY:Réunion mensuelle du congres AA de la rive sud
DESCRIPTION:Préparation du comité du congres de la rive-sud\nJoindre la réunion\n\nID de le réunion : 81677227760\nCode secret: \nVoir l’annonce \n\n\n\n\nCongrès de la Rive Sud\nRejoignez-nous à notre événement! \n\n\n\nVoir les détails du congrès\n \n\n 
URL:https://www.aa87.org/evenement/district-05-3/2028-06-08/
LOCATION:125 Coteau Rouge Longueuil\, Québec J4J 1W7 Canada\, 125 Coteau Rouge\, Longueuil\, QC\, J4J 1W7\, Canada
CATEGORIES:District 05
ORGANIZER;CN="District 5%2C Longueuil%2C St-Lambert":MAILTO:district05@aa87.org
END:VEVENT
BEGIN:VEVENT
DTSTART;TZID=America/Toronto:20280608T190000
DTEND;TZID=America/Toronto:20280608T210000
DTSTAMP:20260423T033750
CREATED:20260327T152533Z
LAST-MODIFIED:20260327T152959Z
UID:10040376-1844103600-1844110800@www.aa87.org
SUMMARY:Comité des Publications
DESCRIPTION:Réunion mensuelle. \nSalle 1 \nJoindre la réunion\n \n  \nID de réunion : 944 7943 6712 \nCode secret : 1234
URL:https://www.aa87.org/evenement/publications-2-2-2/2028-06-08/
LOCATION:Réunion virtuelle seulement\, Québec\, Canada
END:VEVENT
BEGIN:VEVENT
DTSTART;TZID=America/Toronto:20280608T193000
DTEND;TZID=America/Toronto:20280608T210000
DTSTAMP:20260423T033750
CREATED:20251227T174400Z
LAST-MODIFIED:20260314T014619Z
UID:10036885-1844105400-1844110800@www.aa87.org
SUMMARY:Comité Services aux groupes
DESCRIPTION:Réunion mensuelle virtuelle seulement. 2 jeudi. \nSalle 3 \nJoindre la réunion\n \nID de le réunion : 91087779314\nCode secret: 1234
URL:https://www.aa87.org/evenement/comite-services-aux-groupes-2/2028-06-08/
CATEGORIES:Comités / Committees
LOCATION:
END:VEVENT
BEGIN:VEVENT
DTSTART;TZID=America/Toronto:20280612T190000
DTEND;TZID=America/Toronto:20280612T210000
DTSTAMP:20260423T033750
CREATED:20260220T182321Z
LAST-MODIFIED:20260314T015602Z
UID:10015278-1844449200-1844456400@www.aa87.org
SUMMARY:Helpline Committee
DESCRIPTION:Réunion mensuelle virtuelle seulement. 2e lundi. \nSalle 3 \nJoindre la réunion\n\n  \nID de réunion : 91087779314\nCode secret : 1234
URL:https://www.aa87.org/evenement/helpline-committee-2/2028-06-12/
LOCATION:
END:VEVENT
BEGIN:VEVENT
DTSTART;TZID=America/Toronto:20280612T190000
DTEND;TZID=America/Toronto:20280612T210000
DTSTAMP:20260423T033750
CREATED:20260405T010324Z
LAST-MODIFIED:20260405T010324Z
UID:10040758-1844449200-1844456400@www.aa87.org
SUMMARY:Communication internes
DESCRIPTION:Réunion mensuelle virtuelle seulement \nSalle 1 \nJoindre la réunion\n \nID de le réunion : 944 7943 6712\nCode secret: 1234
URL:https://www.aa87.org/evenement/communication-internes/2028-06-12/
LOCATION:
END:VEVENT
BEGIN:VEVENT
DTSTART;TZID=America/Toronto:20280612T193000
DTEND;TZID=America/Toronto:20280612T213000
DTSTAMP:20260423T033750
CREATED:20241217T205751Z
LAST-MODIFIED:20251230T050629Z
UID:10013944-1844451000-1844458200@www.aa87.org
SUMMARY:Réunion des RSG du District 87-15
DESCRIPTION:Réunion mensuelle en présence.
URL:https://www.aa87.org/evenement/district-15-2-2/2028-06-12/
LOCATION:136-A Jacques-Cartier Nord\, St-Jean-sur-Richelieu\, Québec\, Canada
CATEGORIES:District 15
ORGANIZER;CN="District 15%2C St-Jean-sur-Richelieu":MAILTO:district15@aa87.org
END:VEVENT
BEGIN:VEVENT
DTSTART;TZID=America/Toronto:20280613T183000
DTEND;TZID=America/Toronto:20280613T210000
DTSTAMP:20260423T033750
CREATED:20250207T201435Z
LAST-MODIFIED:20260314T020214Z
UID:10019315-1844533800-1844542800@www.aa87.org
SUMMARY:Réunion du bulletin Écho Echo Eco
DESCRIPTION:Réunion de l’Équipe de Production Rédactionnelle du bulletin Éche Echo Eco.\nJoindre la réunion\n\nID de réunion : 910 8777 9314\nCode secret : 1234
URL:https://www.aa87.org/evenement/reunionechoechoeco/2028-06-13/
LOCATION:
END:VEVENT
BEGIN:VEVENT
DTSTART;TZID=America/Toronto:20280613T190000
DTEND;TZID=America/Toronto:20280613T210000
DTSTAMP:20260423T033750
CREATED:20241218T000653Z
LAST-MODIFIED:20251230T152505Z
UID:10014359-1844535600-1844542800@www.aa87.org
SUMMARY:Réunion des RSG du District 87-18
DESCRIPTION:Réunion mensuelle en présence.
URL:https://www.aa87.org/evenement/district-18-2-2/2028-06-13/
LOCATION:Unity Church – 3455 Girouard in Montreal
CATEGORIES:District 18
ORGANIZER;CN="District 18%2C Verdun%2C Notre-Dame-de-Gr%C3%A2ce":MAILTO:district18@aa87.org
END:VEVENT
BEGIN:VEVENT
DTSTART;TZID=America/Toronto:20280613T190000
DTEND;TZID=America/Toronto:20280613T210000
DTSTAMP:20260423T033750
CREATED:20260327T151328Z
LAST-MODIFIED:20260327T153342Z
UID:10040208-1844535600-1844542800@www.aa87.org
SUMMARY:Réunion des RSG du District 87-10
DESCRIPTION:Réunion mensuelle hybride \nSalle 2 \nJoindre la réunion\n \n  \nID de réunion : 918 2068 6211\nCode secret : 1234
URL:https://www.aa87.org/evenement/district-10-2-2-2/2028-06-13/
LOCATION:BSR / ASO\, 3920\, rue Rachel Est\, Montréal QC\, H1X 1Z3\, 3920\, Rachel Est\, Montréal\, Québec\, H1X 1Z3\, Canada
CATEGORIES:District 10
END:VEVENT
BEGIN:VEVENT
DTSTART;TZID=America/Toronto:20280613T190000
DTEND;TZID=America/Toronto:20280613T210000
DTSTAMP:20260423T033750
CREATED:20260405T011414Z
LAST-MODIFIED:20260405T220904Z
UID:10040818-1844535600-1844542800@www.aa87.org
SUMMARY: Public Information English Module
DESCRIPTION:Réunion mensuelle virtuelle seulement \nSalle 1 \nJoindre la réunion\n \nID de le réunion : 944 7943 6712\nCode secret: 1234
URL:https://www.aa87.org/evenement/public-information-english-module/2028-06-13/
LOCATION:
END:VEVENT
BEGIN:VEVENT
DTSTART;TZID=America/Toronto:20280614T190000
DTEND;TZID=America/Toronto:20280614T210000
DTSTAMP:20260423T033750
CREATED:20241218T001332Z
LAST-MODIFIED:20260314T112615Z
UID:10010914-1844622000-1844629200@www.aa87.org
SUMMARY:Comité des technologies +
DESCRIPTION:Réunion mensuelle sur Teams. \nJoindre la réunion\n \n  \nID de réunion : 210 078 105 291 \nCode secret : HwMBfV \n 
URL:https://www.aa87.org/evenement/comite-des-technologies-2/2028-06-14/
LOCATION:Réunion virtuelle seulement\, Québec\, Canada
CATEGORIES:Activité / Activity,Comité des Technologies/ Technology Committee,Comités / Committees
END:VEVENT
BEGIN:VEVENT
DTSTART;TZID=America/Toronto:20280614T190000
DTEND;TZID=America/Toronto:20280614T210000
DTSTAMP:20260423T033750
CREATED:20241218T001518Z
LAST-MODIFIED:20260412T212452Z
UID:10014865-1844622000-1844629200@www.aa87.org
SUMMARY:Réunion des RSG du District 87-17
DESCRIPTION:Réunion mensuelle en présence.
URL:https://www.aa87.org/evenement/district-17-2-2-2/2028-06-14/
LOCATION:Chalet Roger Rousseau 7501\, avenue Rondeau\, sous-sol\, Anjou (QC)\, H1K 4Y3\, 7501 avenue Rondeau\, Anjou\, QC\, H1K 4Y3\, Canada
CATEGORIES:Activité / Activity,District 17,District AA87
ORGANIZER;CN="District 17%2C Montr%C3%A9al Est%2C Anjou":MAILTO:district17@aa87.org
END:VEVENT
BEGIN:VEVENT
DTSTART;TZID=America/Toronto:20280614T190000
DTEND;TZID=America/Toronto:20280614T210000
DTSTAMP:20260423T033750
CREATED:20241218T001817Z
LAST-MODIFIED:20260313T175408Z
UID:10014807-1844622000-1844629200@www.aa87.org
SUMMARY:Réunion des RSG du District 87-01
DESCRIPTION:Réunion mensuelle hybride. \nSalle 2 \nJoindre la réunion\n \n  \nID de réunion : 918 2068 6211\nCode secret : 1234
URL:https://www.aa87.org/evenement/district-01-2/2028-06-14/
LOCATION:BSR / ASO\, 3920\, rue Rachel Est\, Montréal QC\, H1X 1Z3\, 3920\, Rachel Est\, Montréal\, Québec\, H1X 1Z3\, Canada
ORGANIZER;CN="District 1%2C Montr%C3%A9al%2C Outremont%2C C%C3%B4te-des-Neiges":MAILTO:district01@aa87.org
END:VEVENT
END:VCALENDAR