BEGIN:VCALENDAR
VERSION:2.0
PRODID:-//Alcooliques Anonymes Région 87 - ECPv6.15.17//NONSGML v1.0//EN
CALSCALE:GREGORIAN
METHOD:PUBLISH
X-WR-CALNAME:Alcooliques Anonymes Région 87
X-ORIGINAL-URL:https://www.aa87.org
X-WR-CALDESC:Évènements pour Alcooliques Anonymes Région 87
REFRESH-INTERVAL;VALUE=DURATION:PT1H
X-Robots-Tag:noindex
X-PUBLISHED-TTL:PT1H
BEGIN:VTIMEZONE
TZID:America/Toronto
BEGIN:DAYLIGHT
TZOFFSETFROM:-0500
TZOFFSETTO:-0400
TZNAME:EDT
DTSTART:20270314T070000
END:DAYLIGHT
BEGIN:STANDARD
TZOFFSETFROM:-0400
TZOFFSETTO:-0500
TZNAME:EST
DTSTART:20271107T060000
END:STANDARD
BEGIN:DAYLIGHT
TZOFFSETFROM:-0500
TZOFFSETTO:-0400
TZNAME:EDT
DTSTART:20280312T070000
END:DAYLIGHT
BEGIN:STANDARD
TZOFFSETFROM:-0400
TZOFFSETTO:-0500
TZNAME:EST
DTSTART:20281105T060000
END:STANDARD
BEGIN:DAYLIGHT
TZOFFSETFROM:-0500
TZOFFSETTO:-0400
TZNAME:EDT
DTSTART:20290311T070000
END:DAYLIGHT
BEGIN:STANDARD
TZOFFSETFROM:-0400
TZOFFSETTO:-0500
TZNAME:EST
DTSTART:20291104T060000
END:STANDARD
END:VTIMEZONE
BEGIN:VEVENT
DTSTART;VALUE=DATE:20280701
DTEND;VALUE=DATE:20280702
DTSTAMP:20260423T050650
CREATED:20250630T005018Z
LAST-MODIFIED:20250630T005056Z
UID:10022539-1846022400-1846108799@www.aa87.org
SUMMARY:Réflexion quotidienne 01 juillet
DESCRIPTION:De notre mieux\, aujourd’hui\n1 juillet\n\nLes principes que nous avons énoncés sont des guides vers la croissance. \nLes Alcooliques Anonymes\, p. 67 \nComme un sculpteur se sert de différents outils pour obtenir les effets désirés dans une œuvre d’art\, moi\, je me sers des Douze Étapes des Alcooliques anonymes pour obtenir des résultats dans ma vie. Je ne me laisse pas submerger par les problèmes de la vie\, ni par la quantité de travail à faire. Je me réconforte à l’idée que ma vie est maintenant entre les mains de ma Puissance supérieure\, ce maître artisan qui en façonne chaque partie pour créer une œuvre d’art unique. En mettant en pratique le programme des AA\, je trouverai la satisfaction car je sais que\, « en faisant de notre mieux\, aujourd’hui\, nous ne faisons que la volonté de Dieu ». \nExtrait du livre Réflexions quotidiennes\nCopyright © 1991 par Alcoholics Anonymous World Services\, Inc. Tous droits réservés. \nTous les Réflexions quotidiennes
URL:https://www.aa87.org/evenement/rq0701/2028-07-01/
CATEGORIES:Réflexions Quotidiennes
END:VEVENT
BEGIN:VEVENT
DTSTART;VALUE=DATE:20280702
DTEND;VALUE=DATE:20280703
DTSTAMP:20260423T050650
CREATED:20250630T221957Z
LAST-MODIFIED:20250630T221957Z
UID:10022554-1846108800-1846195199@www.aa87.org
SUMMARY:Réflexion quotidienne 02 juillet
DESCRIPTION:Le coeur de la vrai sobriété\n2 juillet\n\nÀ notre avis\, l’aspect spirituel de notre programme ne devrait poser de difficulté à personne. La bonne volonté\, l’honnêteté et l’ouverture d’esprit sont les éléments nécessaires pour le rétablissement. Ils sont même indispensables. \nLes Alcooliques Anonymes\, p. 634 \nSuis-je suffisamment honnête pour m’accepter et me montrer aux autres tel que je suis ? Suis-je prêt à faire absolument tout ce qui est nécessaire pour demeurer abstinent ? Ai-je assez d’ouverture d’esprit pour entendre ce que je dois entendre\, pour penser ce que je dois penser\, pour ressentir ce que je dois ressentir ? \nSi je réponds « oui » à ces questions\, j’en sais assez sur l’aspect spirituel du programme pour demeurer abstinent. En continuant de mettre en pratique les Douze Étapes\, j’arrive au cœur de la vraie sobriété : la sérénité face à moi-même\, aux autres et à Dieu tel que je le conçois. \nExtrait du livre Réflexions quotidiennes\nCopyright © 1991 par Alcoholics Anonymous World Services\, Inc. Tous droits réservés. \nTous les Réflexions quotidiennes
URL:https://www.aa87.org/evenement/rq0702/2028-07-02/
CATEGORIES:Réflexions Quotidiennes
END:VEVENT
BEGIN:VEVENT
DTSTART;TZID=America/Toronto:20280702T100000
DTEND;TZID=America/Toronto:20280702T113000
DTSTAMP:20260423T050650
CREATED:20241218T132830Z
LAST-MODIFIED:20260301T160120Z
UID:10025179-1846144800-1846150200@www.aa87.org
SUMMARY:Correctional Facilities Committee
DESCRIPTION:Réunion mensuelle virtuelle seulement. \nSalle 1 \nJoindre la réunion\n \n  \nID de réunion : 944 7943 6712\nCode secret : 1234
URL:https://www.aa87.org/evenement/correctional-facilities-committee/2028-07-02/
LOCATION:
END:VEVENT
BEGIN:VEVENT
DTSTART;TZID=America/Toronto:20280702T140000
DTEND;TZID=America/Toronto:20280702T160000
DTSTAMP:20260423T050650
CREATED:20260214T021105Z
LAST-MODIFIED:20260302T004343Z
UID:10038203-1846159200-1846166400@www.aa87.org
SUMMARY:Réunion du comité MONQYPAA
DESCRIPTION:Réunion Hybride \nEn présence \nBureau des services de la Région 87\n3920\, rue Rachel Est\nMontréal (Québec) H1X 1Z3\nMapIt \nJoindre la réunion\n\n  \nID de réunion: 924 7313 7786\nCode secret: 1234
URL:https://www.aa87.org/evenement/reunionducomitemonqypaa/2028-07-02/
LOCATION:BSR / ASO\, 3920\, rue Rachel Est\, Montréal QC\, H1X 1Z3\, 3920\, Rachel Est\, Montréal\, Québec\, H1X 1Z3\, Canada
ORGANIZER;CN="District 10%2C Montr%C3%A9al%2C Plateau-Centre-Ville":MAILTO:district10@aa87.org
END:VEVENT
BEGIN:VEVENT
DTSTART;VALUE=DATE:20280703
DTEND;VALUE=DATE:20280704
DTSTAMP:20260423T050650
CREATED:20250701T120438Z
LAST-MODIFIED:20250701T120438Z
UID:10022569-1846195200-1846281599@www.aa87.org
SUMMARY:Réflexion quotidienne 03 juillet
DESCRIPTION:L’expérience est le meilleur professeur\n3 juillet\n\nComme nous manquons d’expérience et que nous venons d’établir un premier contact conscient avec Dieu\, nous ne serons probablement pas inspirés chaque fois. \nLes Alcooliques Anonymes\, p. 98 \nCertains disent que l’expérience est le meilleur professeur ; moi\, je crois qu’elle est le seul professeur. J’ai découvert l’amour de Dieu à mon égard seulement après avoir fait l’expérience de ma dépendance de cet amour. Au départ\, je ne savais pas très bien de quel côté il orientait ma vie\, mais maintenant je sais que si j’ai l’audace de lui demander de me guider\, je dois agir comme s’il me guidait vraiment. Je demande souvent à Dieu de m’aider à me rappeler qu’il a tracé une voie pour moi. \nExtrait du livre Réflexions quotidiennes\nCopyright © 1991 par Alcoholics Anonymous World Services\, Inc. Tous droits réservés. \nTous les Réflexions quotidiennes
URL:https://www.aa87.org/evenement/rq0703/2028-07-03/
CATEGORIES:Réflexions Quotidiennes
END:VEVENT
BEGIN:VEVENT
DTSTART;TZID=America/Toronto:20280703T190000
DTEND;TZID=America/Toronto:20280703T210000
DTSTAMP:20260423T050650
CREATED:20241217T005615Z
LAST-MODIFIED:20260302T004538Z
UID:10014005-1846263600-1846270800@www.aa87.org
SUMMARY:Réunion des RSG du District 87-19
DESCRIPTION:Réunion mensuelle hybride. \nSalle 2 \nJoindre la réunion\n \nID de réunion : 918 2068 6211\nCode secret : 1234
URL:https://www.aa87.org/evenement/district-19-2-2/2028-07-03/
LOCATION:BSR / ASO\, 3920\, rue Rachel Est\, Montréal QC\, H1X 1Z3\, 3920\, Rachel Est\, Montréal\, Québec\, H1X 1Z3\, Canada
CATEGORIES:Activité / Activity,District 19
ORGANIZER;CN="District 19%2C Montreal%2C Westmount":MAILTO:district19@aa87.org
END:VEVENT
BEGIN:VEVENT
DTSTART;TZID=America/Toronto:20280703T190000
DTEND;TZID=America/Toronto:20280703T210000
DTSTAMP:20260423T050650
CREATED:20241217T005830Z
LAST-MODIFIED:20260303T000358Z
UID:10011272-1846263600-1846270800@www.aa87.org
SUMMARY:Comité Congrès de la Région 87
DESCRIPTION:Salle 1. \nRencontre de l’équipe de l’orginsation du Congrès de la Région 87. \nJoindre la réunion\n \n  \nID de réunion : 944 7943 6712\nCode secret : 1234
URL:https://www.aa87.org/evenement/comite-du-congres-regional-3-2/2028-07-03/
END:VEVENT
BEGIN:VEVENT
DTSTART;TZID=America/Toronto:20280703T193000
DTEND;TZID=America/Toronto:20280703T213000
DTSTAMP:20260423T050650
CREATED:20241217T223859Z
LAST-MODIFIED:20251230T165149Z
UID:10011488-1846265400-1846272600@www.aa87.org
SUMMARY:Réunion des RSG du District 87-26
DESCRIPTION:Réunion mensuelle en présence.
URL:https://www.aa87.org/evenement/district-26-2-2/2028-07-03/
LOCATION:École Les Trois Saisons (entrée par l’arrière) 570\, boul. de Mortagne\, Boucherville QC\, J4B 5E4\, 570\, boul. de Mortagne\, Boucherville\, Québec\, J4B 5E4\, Canada
CATEGORIES:Activité / Activity,District 26,District AA87
ORGANIZER;CN="District 26%2C Longueuil%2C Contrec%C5%93ur":MAILTO:district26@aa87.org
END:VEVENT
BEGIN:VEVENT
DTSTART;VALUE=DATE:20280704
DTEND;VALUE=DATE:20280705
DTSTAMP:20260423T050650
CREATED:20250702T234839Z
LAST-MODIFIED:20250702T234839Z
UID:10022584-1846281600-1846367999@www.aa87.org
SUMMARY:Réflexion quotidienne 04 juillet
DESCRIPTION:Une foi naturelle\n4 juillet\n\n… au plus profond de chaque être humain\, homme\, femme ou enfant\, repose l’idée fondamentale de Dieu. Elle peut être masquée par le malheur\, la vanité\, le culte d’autres valeurs\, mais elle est là\, sous une forme ou sous une autre. La foi en une Puissance supérieure à nous-mêmes et les manifestations miraculeuses de cette force dans la vie d’êtres humains sont des faits aussi anciens que l’homme lui-même. \nLes Alcooliques Anonymes\, p. 62 \nJ’ai vu un Dieu invisible à l’œuvre dans les réunions des AA d’un bout à l’autre du pays. Le miracle du rétablissement est manifeste partout. Maintenant\, je crois que Dieu est présent dans les salles de réunion et dans mon cœur. Aujourd’hui\, il est aussi naturel pour moi\, ancien agnostique\, de croire que de respirer\, de manger et de dormir. Les Douze Étapes m’ont permis de changer ma vie de bien des manières\, mais aucune ne vaut le choix d’une Puissance supérieure. \nExtrait du livre Réflexions quotidiennes\nCopyright © 1991 par Alcoholics Anonymous World Services\, Inc. Tous droits réservés. \nTous les Réflexions quotidiennes
URL:https://www.aa87.org/evenement/rq0704/2028-07-04/
CATEGORIES:Réflexions Quotidiennes
END:VEVENT
BEGIN:VEVENT
DTSTART;TZID=America/Toronto:20280704T190000
DTEND;TZID=America/Toronto:20280704T210000
DTSTAMP:20260423T050650
CREATED:20251229T223612Z
LAST-MODIFIED:20251229T223613Z
UID:10034282-1846350000-1846357200@www.aa87.org
SUMMARY:Réunion des RSG du District 87-13
DESCRIPTION:Rencontre mensuelle en présence.
URL:https://www.aa87.org/evenement/district-13-2-2-2/2028-07-04/
LOCATION:Centre St-Zotique\, 75\, carré Sir Georges-Étienne Cartier\, salle 215\, Montréal QC\, H4C 3A1\, 75\, carré Sir Georges-Étienne Cartier\, salle 215\, Montréal\, Québec\, H4C 3A1\, Canada
CATEGORIES:Activité / Activity,District 13,District AA87
END:VEVENT
BEGIN:VEVENT
DTSTART;TZID=America/Toronto:20280704T190000
DTEND;TZID=America/Toronto:20280704T210000
DTSTAMP:20260423T050650
CREATED:20251230T174102Z
LAST-MODIFIED:20251230T174746Z
UID:10036185-1846350000-1846357200@www.aa87.org
SUMMARY:Réunion des RSG du District 87-32
DESCRIPTION:Réunion mensuelle en présence. Adresse à déterminer.
URL:https://www.aa87.org/evenement/reunion-des-rsg-du-district-87-32/2028-07-04/
CATEGORIES:Activité / Activity,District 32
END:VEVENT
BEGIN:VEVENT
DTSTART;TZID=America/Toronto:20280704T190000
DTEND;TZID=America/Toronto:20280704T210000
DTSTAMP:20260423T050650
CREATED:20260405T001857Z
LAST-MODIFIED:20260405T214833Z
UID:10040698-1846350000-1846357200@www.aa87.org
SUMMARY:Groupe de travail sur le parrainage de service
DESCRIPTION:Réunion mensuelle virtuelle seulement \nSalle 1 \nJoindre la réunion\n \nID de le réunion : 944 7943 6712\nCode secret: 1234
URL:https://www.aa87.org/evenement/groupe-de-travail-sur-le-parrainage-de-service/2028-07-04/
LOCATION:
END:VEVENT
BEGIN:VEVENT
DTSTART;TZID=America/Toronto:20280704T193000
DTEND;TZID=America/Toronto:20280704T213000
DTSTAMP:20260423T050650
CREATED:20241217T224421Z
LAST-MODIFIED:20260228T232542Z
UID:10012139-1846351800-1846359000@www.aa87.org
SUMMARY:Réunion des RSG du District 87-21
DESCRIPTION:Rencontre mensuelle en présence.
URL:https://www.aa87.org/evenement/district-21-2-2/2028-07-04/
LOCATION:Centre communautaire Richard Goulet\, 170 rue St-Antoine Nord\, Granby\, Québec\, J2G 5G8\, Canada
CATEGORIES:Activité / Activity,District 21,District AA87
ORGANIZER;CN="District 21%2C Granby%2C Cowansville":MAILTO:district21@aa87.org
END:VEVENT
BEGIN:VEVENT
DTSTART;VALUE=DATE:20280705
DTEND;VALUE=DATE:20280706
DTSTAMP:20260423T050650
CREATED:20250705T014157Z
LAST-MODIFIED:20250705T014157Z
UID:10022599-1846368000-1846454399@www.aa87.org
SUMMARY:Réflexion quotidienne 05 juillet
DESCRIPTION:Une nouvelle orientation\n5 juillet\n\nNos possibilités humaines\, dirigées par notre volonté\, n’étaient pas suffisantes ; nous avons lamentablement échoué… Chaque jour\, le souci de la volonté de Dieu doit être présent dans notre esprit et se manifester dans toute notre conduite. \nLes Alcooliques Anonymes\, p. 51 ET 96 \nOn dit que l’alcoolique n’a « pas de volonté ». Pourtant\, je suis l’une des personnes les plus entêtées du monde ! Je sais maintenant que mon incroyable obstination ne peut me sauver la vie. Mon problème n’en est pas un de faiblesse de volonté mais d’orientation. Quand j’arrive\, sans fausse modestie\, à accepter mes limites réelles et à demander à Dieu de me guider\, mes pires défauts deviennent mes plus grands atouts. Mon obstination\, lorsqu’elle est bien orientée\, me permet de persévérer jusqu’à ce que les promesses du programme deviennent pour moi une réalité quotidienne. \nExtrait du livre Réflexions quotidiennes\nCopyright © 1991 par Alcoholics Anonymous World Services\, Inc. Tous droits réservés. \nTous les Réflexions quotidiennes
URL:https://www.aa87.org/evenement/rq0705/2028-07-05/
CATEGORIES:Réflexions Quotidiennes
END:VEVENT
BEGIN:VEVENT
DTSTART;TZID=America/Toronto:20280705T193000
DTEND;TZID=America/Toronto:20280705T213000
DTSTAMP:20260423T050650
CREATED:20260220T183208Z
LAST-MODIFIED:20260220T183208Z
UID:10038572-1846438200-1846445400@www.aa87.org
SUMMARY:Réunion des RSG du District 87-16
DESCRIPTION:Rencontre mensuelle en présence.
URL:https://www.aa87.org/evenement/district-16-2-2-3-2-2-2-2/2028-07-05/
LOCATION:Centre communautaire\, 53\, rue Rabastalière\, St-Bruno QC\, J3V 1Y7\, 53\, rue Rabastalière\, St-Bruno\, Québec\, J3V 1Y7\, Canada
CATEGORIES:District 16
ORGANIZER;CN="District 16%2C Bel%C5%93il%2C St-Hilaire":MAILTO:district16@aa87.org
END:VEVENT
BEGIN:VEVENT
DTSTART;VALUE=DATE:20280706
DTEND;VALUE=DATE:20280707
DTSTAMP:20260423T050650
CREATED:20241103T130937Z
LAST-MODIFIED:20241103T130937Z
UID:10009021-1846454400-1846540799@www.aa87.org
SUMMARY:Réflexion quotidienne 06 juillet
DESCRIPTION:﻿﻿﻿﻿﻿\n \n\nTous les Réflexions quotidiennes
URL:https://www.aa87.org/evenement/rq0706/2028-07-06/
LOCATION:aa87.org
CATEGORIES:Réflexions Quotidiennes
END:VEVENT
BEGIN:VEVENT
DTSTART;TZID=America/Toronto:20280706T190000
DTEND;TZID=America/Toronto:20280706T210000
DTSTAMP:20260423T050650
CREATED:20251229T205224Z
LAST-MODIFIED:20260303T001359Z
UID:10013231-1846522800-1846530000@www.aa87.org
SUMMARY:Réunion des RSG du District 87-05
DESCRIPTION:Réunion mensuelle hybride \nJoindre la réunion\n \nID de réunion : 862 4418 3943\nCode secret :
URL:https://www.aa87.org/evenement/district-05-2-2-2/2028-07-06/
LOCATION:Place à l’emploi\, 125 Chem. du Coteau-Rouge\, Longueuil\, QC J4J 1W7\, Canada
CATEGORIES:Activité / Activity,District 05,District AA87
ORGANIZER;CN="District 5%2C Longueuil%2C St-Lambert":MAILTO:district05@aa87.org
END:VEVENT
BEGIN:VEVENT
DTSTART;TZID=America/Toronto:20280706T190000
DTEND;TZID=America/Toronto:20280706T220000
DTSTAMP:20260423T050650
CREATED:20251227T154306Z
LAST-MODIFIED:20260313T173521Z
UID:10017912-1846522800-1846533600@www.aa87.org
SUMMARY:Comité de direction
DESCRIPTION:Hybride\nSalle 4\nJoindre la réunion\n\n 
URL:https://www.aa87.org/evenement/comite-de-direction-3-2/2028-07-06/
LOCATION:BSR / ASO\, 3920\, rue Rachel Est\, Montréal QC\, H1X 1Z3\, 3920\, Rachel Est\, Montréal\, Québec\, H1X 1Z3\, Canada
CATEGORIES:Comité de direction/Steering Committee,Comités / Committees
END:VEVENT
BEGIN:VEVENT
DTSTART;TZID=America/Toronto:20280706T193000
DTEND;TZID=America/Toronto:20280706T213000
DTSTAMP:20260423T050650
CREATED:20251229T220820Z
LAST-MODIFIED:20251229T220820Z
UID:10014184-1846524600-1846531800@www.aa87.org
SUMMARY:Réunion des RSG du District 87-07
DESCRIPTION:Réunion mensuelle en présence.
URL:https://www.aa87.org/evenement/district-07-2-2-2/2028-07-06/
LOCATION:St. Mary’s Church\, 735\, Miller\, Greenfield Park QC\, 735\, Miller\, Greenfield Park\, Québec\, Canada
CATEGORIES:District 07
ORGANIZER;CN="District 7%2C Ch%C3%A2teauguay%2C St-Lambert%2C Valleyfield":MAILTO:district07@aa87.org
END:VEVENT
BEGIN:VEVENT
DTSTART;TZID=America/Toronto:20280706T193000
DTEND;TZID=America/Toronto:20280706T213000
DTSTAMP:20260423T050650
CREATED:20251231T040549Z
LAST-MODIFIED:20260313T173725Z
UID:10014244-1846524600-1846531800@www.aa87.org
SUMMARY:Réunion des RSG du District 87-14
DESCRIPTION:Rencontre mensuelle hybride \nSalle 5 \nJoindre la réunion\n \n  \nID de réunion: 924 7313 7786\nCode secret: 1234
URL:https://www.aa87.org/evenement/district-14-2-2-2/2028-07-06/
LOCATION:3225 rue Courchesne Sorel-Tracy  Local 210\, 3225 rue Courchesne\, Sorel-Tracy\, QC\, J3R 3A7\, Canada
ORGANIZER;CN="District 14%2C Sorel%2C Tracy et environs":MAILTO:district14@aa87.org
END:VEVENT
BEGIN:VEVENT
DTSTART;VALUE=DATE:20280707
DTEND;VALUE=DATE:20280708
DTSTAMP:20260423T050650
CREATED:20250707T013539Z
LAST-MODIFIED:20250707T013539Z
UID:10022614-1846540800-1846627199@www.aa87.org
SUMMARY:Réflexion quotidienne 07 juillet
DESCRIPTION:… Et s’en libérer\n7 juillet\n\n… en particulier la peur qui nous faisait craindre de perdre un bien déjà acquis ou celle de ne pas obtenir ce que nous demandions. À toujours exiger sans jamais obtenir satisfaction\, nous étions constamment perturbés et frustrés. Nous ne pouvions donc connaître la paix à moins de trouver le moyen de réduire nos exigences. Chacun connaît bien la différence entre une exigence et une simple attente. \nLes douze étapes et les douze traditions\, p. 88 \nJe ne peux connaître la paix que si je renonce à mes attentes. Quand je me mets à rêver à ce que je désire et à ce qui devrait arriver\, je vis dans la peur ou dans une attente anxieuse qui ne contribue pas à ma sobriété émotive. Je dois capituler\, encore et encore\, devant la réalité de ma dépendance vis-à-vis de Dieu. Alors seulement\, puis-je trouver la paix\, la gratitude et la sécurité spirituelle. \nExtrait du livre Réflexions quotidiennes\nCopyright © 1991 par Alcoholics Anonymous World Services\, Inc. Tous droits réservés. \nTous les Réflexions quotidiennes
URL:https://www.aa87.org/evenement/rq0707/2028-07-07/
CATEGORIES:Réflexions Quotidiennes
END:VEVENT
BEGIN:VEVENT
DTSTART;VALUE=DATE:20280708
DTEND;VALUE=DATE:20280709
DTSTAMP:20260423T050650
CREATED:20250707T141446Z
LAST-MODIFIED:20250707T141446Z
UID:10022630-1846627200-1846713599@www.aa87.org
SUMMARY:Réflexion quotidienne 08 juillet
DESCRIPTION:Une liberté croissante\n8 juillet\n\nC’est par la Septième Étape que nous changeons d’attitude\, ce qui nous permet\, guidés par l’humilité\, de sortir de nous-mêmes pour aller vers les autres et vers Dieu. \nLes douze étapes et les douze traditions\, P. 88 \nQuand j’ai enfin demandé à Dieu de me débarrasser de ce qui me coupait de lui et de la lumière de l’Esprit\, j’ai entrepris un voyage plus merveilleux que tout ce que j’avais imaginé. J’ai été libéré de ces traits de caractère qui m’enfermaient en moimême. Grâce à cette Étape d’humilité\, je me sens propre. \nJe suis particulièrement conscient de cette Étape parce que je peux maintenant être utile à Dieu et à mes frères et sœurs. Je sais que Dieu me donne la force d’accomplir sa volonté et me rend prêt à accueillir toute personne et toute chose qui se trouvera sur ma route aujourd’hui. Je m’en remets vraiment à lui et je le remercie pour la joie d’être utile aujourd’hui. \nExtrait du livre Réflexions quotidiennes\nCopyright © 1991 par Alcoholics Anonymous World Services\, Inc. Tous droits réservés. \nTous les Réflexions quotidiennes
URL:https://www.aa87.org/evenement/rq0708/2028-07-08/
CATEGORIES:Réflexions Quotidiennes
END:VEVENT
BEGIN:VEVENT
DTSTART;VALUE=DATE:20280709
DTEND;VALUE=DATE:20280710
DTSTAMP:20260423T050650
CREATED:20250707T224155Z
LAST-MODIFIED:20250707T224155Z
UID:10022647-1846713600-1846799999@www.aa87.org
SUMMARY:Réflexion quotidienne 09 juillet
DESCRIPTION:Je suis un instrument\n9 juillet\n\nNous Lui avons humblement demandé de faire disparaître nos défauts. \nLes douze étapes et les douze traditions\, p. 81 \nL’humilité est un sujet difficile. Être humble\, ce n’est pas me diminuer plus que je ne le dois ; c’est admettre que je fais certaines choses bien\, c’est savoir accepter de bonne grâce un compliment. \nDieu ne peut faire pour moi que ce qu’il peutfaire par moi. Je suis humble quand je reconnais que c’est Dieu qui agit\, pas moi. En sachant cela\, comment pourrais-je m’enorgueillir de mes réussites ? Je ne suis qu’un instrument\, et tout ce que je semble accomplir est fait par Dieu à travers moi. Chaque jour\, je demande à Dieu de faire disparaître mes défauts afin que je puisse librement m’occuper d’aimer et de servir dans les AA. \nExtrait du livre Réflexions quotidiennes\nCopyright © 1991 par Alcoholics Anonymous World Services\, Inc. Tous droits réservés. \nTous les Réflexions quotidiennes
URL:https://www.aa87.org/evenement/rq0709/2028-07-09/
CATEGORIES:Réflexions Quotidiennes
END:VEVENT
BEGIN:VEVENT
DTSTART;VALUE=DATE:20280710
DTEND;VALUE=DATE:20280711
DTSTAMP:20260423T050650
CREATED:20250708T222313Z
LAST-MODIFIED:20250708T222313Z
UID:10022662-1846800000-1846886399@www.aa87.org
SUMMARY:Réflexion quotidienne 10 juillet
DESCRIPTION:Vers la paix et la sérénité\n10 juillet\n\nPuis\, une fois que nous avons accepté de regarder bien en face certains de nos défauts\, que nous en avons parlé avec une autre personne et que nous étions prêts à ce qu’ils soient éliminés\, notre perception de l’humilité commence à s’élargir. \nLes douze étapes et les douze traditions\, p. 86 \nQuand survient une situation qui détruit ma sérénité\, la souffrance me pousse souvent à demander à Dieu de me faire savoir quel rôle j’ai joué dans cette situation. J’admets mon impuissance et je lui demande humblement de m’aider à accepter. Je cherche à voir comment mes défauts ont contribué à créer cette situation. Aurais-je pu être plus patient ? Ai-je été intolérant ? Ai-je cherché à tout prix à faire à ma tête ? Ai-je eu peur ? Après avoir découvert ces défauts\, je mets de côté ma confiance en moi et je demande humblement à Dieu de me débarrasser de mes faiblesses. La situation ne changera peut-être pas\, mais l’exercice de l’humilité me rendra la paix et la sérénité qui viennent naturellement quand je m’en remets à une Puissance supérieure. \nExtrait du livre Réflexions quotidiennes\nCopyright © 1991 par Alcoholics Anonymous World Services\, Inc. Tous droits réservés. \nTous les Réflexions quotidiennes
URL:https://www.aa87.org/evenement/rq0710/2028-07-10/
CATEGORIES:Réflexions Quotidiennes
END:VEVENT
BEGIN:VEVENT
DTSTART;TZID=America/Toronto:20280710T190000
DTEND;TZID=America/Toronto:20280710T210000
DTSTAMP:20260423T050650
CREATED:20260220T182321Z
LAST-MODIFIED:20260314T015602Z
UID:10015279-1846868400-1846875600@www.aa87.org
SUMMARY:Helpline Committee
DESCRIPTION:Réunion mensuelle virtuelle seulement. 2e lundi. \nSalle 3 \nJoindre la réunion\n\n  \nID de réunion : 91087779314\nCode secret : 1234
URL:https://www.aa87.org/evenement/helpline-committee-2/2028-07-10/
LOCATION:
END:VEVENT
BEGIN:VEVENT
DTSTART;TZID=America/Toronto:20280710T190000
DTEND;TZID=America/Toronto:20280710T210000
DTSTAMP:20260423T050650
CREATED:20260405T010324Z
LAST-MODIFIED:20260405T010324Z
UID:10040759-1846868400-1846875600@www.aa87.org
SUMMARY:Communication internes
DESCRIPTION:Réunion mensuelle virtuelle seulement \nSalle 1 \nJoindre la réunion\n \nID de le réunion : 944 7943 6712\nCode secret: 1234
URL:https://www.aa87.org/evenement/communication-internes/2028-07-10/
LOCATION:
END:VEVENT
BEGIN:VEVENT
DTSTART;TZID=America/Toronto:20280710T193000
DTEND;TZID=America/Toronto:20280710T213000
DTSTAMP:20260423T050650
CREATED:20241217T205751Z
LAST-MODIFIED:20251230T050629Z
UID:10013945-1846870200-1846877400@www.aa87.org
SUMMARY:Réunion des RSG du District 87-15
DESCRIPTION:Réunion mensuelle en présence.
URL:https://www.aa87.org/evenement/district-15-2-2/2028-07-10/
LOCATION:136-A Jacques-Cartier Nord\, St-Jean-sur-Richelieu\, Québec\, Canada
CATEGORIES:District 15
ORGANIZER;CN="District 15%2C St-Jean-sur-Richelieu":MAILTO:district15@aa87.org
END:VEVENT
BEGIN:VEVENT
DTSTART;VALUE=DATE:20280711
DTEND;VALUE=DATE:20280712
DTSTAMP:20260423T050650
CREATED:20250709T132209Z
LAST-MODIFIED:20250709T132209Z
UID:10022677-1846886400-1846972799@www.aa87.org
SUMMARY:Réflexion quotidienne 11 juillet
DESCRIPTION:Un tournant\n11 juillet\n\nIl s’est produit un tournant important dans notre vie quand l’humilité est devenue une valeur recherchée plutôt qu’une obligation. \nLes douze étapes et les douze traditions\, p. 87 \nOu bien le mode de vie des AA devient une source de joie\, ou bien je retourne au monde sombre et désespéré de l’alcoolisme. La joie surgit quand je considère Dieu et l’humilité comme des choses désirables plutôt que comme un fardeau. Ma vie sombre s’illumine quand je prends conscience que la franchise et l’honnêteté de mon inventaire personnel rempliront mes jours de sérénité\, de liberté et de joie. Ma confiance en ma Puissance supérieure s’accentue et l’éclat de la gratitude m’irradie. J’ai la conviction qu’être humble\, c’est être franc et honnête avec moi-même et avec ma Puissance supérieure. L’humilité devient alors « une valeur recherchée plutôt qu’une obligation ». \nExtrait du livre Réflexions quotidiennes\nCopyright © 1991 par Alcoholics Anonymous World Services\, Inc. Tous droits réservés. \nTous les Réflexions quotidiennes
URL:https://www.aa87.org/evenement/rq0711/2028-07-11/
CATEGORIES:Réflexions Quotidiennes
END:VEVENT
BEGIN:VEVENT
DTSTART;TZID=America/Toronto:20280711T183000
DTEND;TZID=America/Toronto:20280711T210000
DTSTAMP:20260423T050650
CREATED:20250207T201435Z
LAST-MODIFIED:20260314T020214Z
UID:10019316-1846953000-1846962000@www.aa87.org
SUMMARY:Réunion du bulletin Écho Echo Eco
DESCRIPTION:Réunion de l’Équipe de Production Rédactionnelle du bulletin Éche Echo Eco.\nJoindre la réunion\n\nID de réunion : 910 8777 9314\nCode secret : 1234
URL:https://www.aa87.org/evenement/reunionechoechoeco/2028-07-11/
LOCATION:
END:VEVENT
BEGIN:VEVENT
DTSTART;TZID=America/Toronto:20280711T190000
DTEND;TZID=America/Toronto:20280711T210000
DTSTAMP:20260423T050650
CREATED:20241218T000653Z
LAST-MODIFIED:20251230T152505Z
UID:10014360-1846954800-1846962000@www.aa87.org
SUMMARY:Réunion des RSG du District 87-18
DESCRIPTION:Réunion mensuelle en présence.
URL:https://www.aa87.org/evenement/district-18-2-2/2028-07-11/
LOCATION:Unity Church – 3455 Girouard in Montreal
CATEGORIES:District 18
ORGANIZER;CN="District 18%2C Verdun%2C Notre-Dame-de-Gr%C3%A2ce":MAILTO:district18@aa87.org
END:VEVENT
END:VCALENDAR