BEGIN:VCALENDAR
VERSION:2.0
PRODID:-//Alcooliques Anonymes Région 87 - ECPv6.15.17//NONSGML v1.0//EN
CALSCALE:GREGORIAN
METHOD:PUBLISH
X-ORIGINAL-URL:https://www.aa87.org
X-WR-CALDESC:Évènements pour Alcooliques Anonymes Région 87
REFRESH-INTERVAL;VALUE=DURATION:PT1H
X-Robots-Tag:noindex
X-PUBLISHED-TTL:PT1H
BEGIN:VTIMEZONE
TZID:America/Toronto
BEGIN:DAYLIGHT
TZOFFSETFROM:-0500
TZOFFSETTO:-0400
TZNAME:EDT
DTSTART:20270314T070000
END:DAYLIGHT
BEGIN:STANDARD
TZOFFSETFROM:-0400
TZOFFSETTO:-0500
TZNAME:EST
DTSTART:20271107T060000
END:STANDARD
BEGIN:DAYLIGHT
TZOFFSETFROM:-0500
TZOFFSETTO:-0400
TZNAME:EDT
DTSTART:20280312T070000
END:DAYLIGHT
BEGIN:STANDARD
TZOFFSETFROM:-0400
TZOFFSETTO:-0500
TZNAME:EST
DTSTART:20281105T060000
END:STANDARD
BEGIN:DAYLIGHT
TZOFFSETFROM:-0500
TZOFFSETTO:-0400
TZNAME:EDT
DTSTART:20290311T070000
END:DAYLIGHT
BEGIN:STANDARD
TZOFFSETFROM:-0400
TZOFFSETTO:-0500
TZNAME:EST
DTSTART:20291104T060000
END:STANDARD
END:VTIMEZONE
BEGIN:VEVENT
DTSTART;VALUE=DATE:20280901
DTEND;VALUE=DATE:20280902
DTSTAMP:20260423T074725
CREATED:20250726T114117Z
LAST-MODIFIED:20250726T114117Z
UID:10024068-1851379200-1851465599@www.aa87.org
SUMMARY:Réflexion quotidienne 01 septembre
DESCRIPTION:Le désir de grandir\n1 septembre\n\nPour en recevoir d’autres [des fruits]\, notre réveil doit se poursuivre. \nRéflexions de Bill\, P. 8 \nLa sobriété vient combler dans mon âme le vide douloureux creusé par l’alcoolisme. Souvent\, je me sens si bien physiquement que je m’imagine que le travail est terminé. La joie\, cependant\, n’est pas seulement l’absence de souffrance mais aussi le don d’un réveil spirituel continu. La joie naît d’une étude incessante et dynamique\, de l’application des principes de rétablissement dans ma vie quotidienne\, du partage de mon expérience avec les autres. Ma Puissance supérieure m’offre bien des occasions de renforcer mon réveil spirituel. Il me suffit d’aborder mon rétablissement avec le désir de grandir. Aujourd’hui\, je suis disposé à grandir. \nExtrait du livre Réflexions quotidiennes\nCopyright © 1991 par Alcoholics Anonymous World Services\, Inc. Tous droits réservés. \nTous les Réflexions quotidiennes
URL:https://www.aa87.org/evenement/rq0901/2028-09-01/
CATEGORIES:Réflexions Quotidiennes
END:VEVENT
BEGIN:VEVENT
DTSTART;VALUE=DATE:20280902
DTEND;VALUE=DATE:20280903
DTSTAMP:20260423T074725
CREATED:20250726T131820Z
LAST-MODIFIED:20250726T131820Z
UID:10024083-1851465600-1851551999@www.aa87.org
SUMMARY:Réflexion quotidienne 02 septembre
DESCRIPTION:« Une raison de croire »\n2 septembre\n\nLa volonté de progresser est l’essence de tout progrès spirituel. \nRéflexions de Bill\, p. 171 \nIl y a quelque part une chanson qui dit à peu près ceci : « … et je cherche une raison de croire… ». Elle me rappelle qu’à une certaine époque\, j’étais incapable de trouver une seule raison de croire que ma vie allait bien. Même si les AA m’avaient sauvé la vie\, trois mois plus tard je retournais boire. Quelqu’un m’a dit : « Tu n’as pas besoin de croire. Il te suffit de vouloir croire que tu as une raison devivre\, même si tu ne la connais pas encore toimême\, même si tu ne sais pas toujours comment vivre. » Après m’être rendu compte à quel point je voulais croire que j’avais bel et bien une raison de vivre\, j’ai pu commencer à mettre les Étapes en pratique. Maintenant\, quand je dis : « Je suis disposé… »\, j’utilise la clé qui m’ouvre la porte de l’action\, de l’honnêteté et de l’intervention d’une Puissance supérieure dans ma vie. \nExtrait du livre Réflexions quotidiennes\nCopyright © 1991 par Alcoholics Anonymous World Services\, Inc. Tous droits réservés. \nTous les Réflexions quotidiennes
URL:https://www.aa87.org/evenement/rq0902/2028-09-02/
CATEGORIES:Réflexions Quotidiennes
END:VEVENT
BEGIN:VEVENT
DTSTART;VALUE=DATE:20280903
DTEND;VALUE=DATE:20280904
DTSTAMP:20260423T074725
CREATED:20250727T120301Z
LAST-MODIFIED:20250727T120301Z
UID:10024098-1851552000-1851638399@www.aa87.org
SUMMARY:Réflexion quotidienne 03 septembre
DESCRIPTION:Bâtir une vie nouvelle\n3 septembre\n\nÀ notre avis\, celui qui prétend qu’il suffit de ne pas boire n’a pas assez réfléchi à la question. \nLes Alcooliques Anonymes\, P. 93 \nQuand je réfléchis à la Neuvième Étape\, je me dis que l’abstinence doit me suffire. Je n’ai qu’à me rappeler dans quel état désespéré je me trouvais avant de devenir abstinent et à quel point j’étais prêt à faire n’importe quoi pour le demeurer. Pourtant\, l’abstinence ne suffit pas à ceux qui m’entourent et je dois voir à utiliser ce don de Dieu pour leur bâtir une vie nouvelle. De plus\, il importe que je sois disponible pour en aider d’autres qui désirent connaître le mode de vie des AA. \nJe demande à Dieu de m’aider à partager le don de la sobriété\, afin que les dividendes rejaillissent sur ceux que je connais et que j’aime. \nExtrait du livre Réflexions quotidiennes\nCopyright © 1991 par Alcoholics Anonymous World Services\, Inc. Tous droits réservés. \nTous les Réflexions quotidiennes
URL:https://www.aa87.org/evenement/rq0903/2028-09-03/
CATEGORIES:Réflexions Quotidiennes
END:VEVENT
BEGIN:VEVENT
DTSTART;TZID=America/Toronto:20280903T100000
DTEND;TZID=America/Toronto:20280903T113000
DTSTAMP:20260423T074725
CREATED:20241218T132830Z
LAST-MODIFIED:20260301T160120Z
UID:10025181-1851588000-1851593400@www.aa87.org
SUMMARY:Correctional Facilities Committee
DESCRIPTION:Réunion mensuelle virtuelle seulement. \nSalle 1 \nJoindre la réunion\n \n  \nID de réunion : 944 7943 6712\nCode secret : 1234
URL:https://www.aa87.org/evenement/correctional-facilities-committee/2028-09-03/
LOCATION:
END:VEVENT
BEGIN:VEVENT
DTSTART;TZID=America/Toronto:20280903T140000
DTEND;TZID=America/Toronto:20280903T160000
DTSTAMP:20260423T074725
CREATED:20260214T021105Z
LAST-MODIFIED:20260302T004343Z
UID:10038205-1851602400-1851609600@www.aa87.org
SUMMARY:Réunion du comité MONQYPAA
DESCRIPTION:Réunion Hybride \nEn présence \nBureau des services de la Région 87\n3920\, rue Rachel Est\nMontréal (Québec) H1X 1Z3\nMapIt \nJoindre la réunion\n\n  \nID de réunion: 924 7313 7786\nCode secret: 1234
URL:https://www.aa87.org/evenement/reunionducomitemonqypaa/2028-09-03/
LOCATION:BSR / ASO\, 3920\, rue Rachel Est\, Montréal QC\, H1X 1Z3\, 3920\, Rachel Est\, Montréal\, Québec\, H1X 1Z3\, Canada
ORGANIZER;CN="District 10%2C Montr%C3%A9al%2C Plateau-Centre-Ville":MAILTO:district10@aa87.org
END:VEVENT
BEGIN:VEVENT
DTSTART;VALUE=DATE:20280904
DTEND;VALUE=DATE:20280905
DTSTAMP:20260423T074725
CREATED:20250727T122534Z
LAST-MODIFIED:20250727T122534Z
UID:10024113-1851638400-1851724799@www.aa87.org
SUMMARY:Réflexion quotidienne 04 septembre
DESCRIPTION:Reconsruction\n4 septembre\n\nOui nous avons un long travail de reconstruction devant nous. \nLes Alcooliques Anonymes\, p. 93 \nReconstruire ma vie\, voilà l’objectif primordial de mon rétablissement. Pour cela\, j’évite de prendre un premier verre\, un jour à la fois. Je réussirai d’autant plus facilement dans cette tâche que je mettrai en pratique les Étapes de notre mouvement. La vie spirituelle n’est pas une théorie ; elle est efficace à condition de la vivre. La Deuxième Étape m’avait mis sur la route d’un voyage spirituel ; la Neuvième Étape me permet d’arriver à la destination finale des premières Étapes\, à la préparation à une vie spirituelle. Sans les lumières et la force d’une Puissance supérieure\, il me sera impossible de franchir les différentes étapes de la reconstruction. J’ai conscience que Dieu travaille pour moi et par moi. La preuve en est que Dieu a fait pour moi ce que je ne pouvais pas faire pour moi-même ; il m’a délivré de l’obsession de boire. Je dois chaque jour continuer de rechercher la volonté de Dieu. Il m’accorde un sursis quotidien et me donnera la force dont j’ai besoin pour mon travail de reconstruction. \nExtrait du livre Réflexions quotidiennes\nCopyright © 1991 par Alcoholics Anonymous World Services\, Inc. Tous droits réservés. \nTous les Réflexions quotidiennes
URL:https://www.aa87.org/evenement/rq0904/2028-09-04/
CATEGORIES:Réflexions Quotidiennes
END:VEVENT
BEGIN:VEVENT
DTSTART;TZID=America/Toronto:20280904T190000
DTEND;TZID=America/Toronto:20280904T210000
DTSTAMP:20260423T074725
CREATED:20241217T005615Z
LAST-MODIFIED:20260302T004538Z
UID:10014007-1851706800-1851714000@www.aa87.org
SUMMARY:Réunion des RSG du District 87-19
DESCRIPTION:Réunion mensuelle hybride. \nSalle 2 \nJoindre la réunion\n \nID de réunion : 918 2068 6211\nCode secret : 1234
URL:https://www.aa87.org/evenement/district-19-2-2/2028-09-04/
LOCATION:BSR / ASO\, 3920\, rue Rachel Est\, Montréal QC\, H1X 1Z3\, 3920\, Rachel Est\, Montréal\, Québec\, H1X 1Z3\, Canada
CATEGORIES:Activité / Activity,District 19
ORGANIZER;CN="District 19%2C Montreal%2C Westmount":MAILTO:district19@aa87.org
END:VEVENT
BEGIN:VEVENT
DTSTART;TZID=America/Toronto:20280904T190000
DTEND;TZID=America/Toronto:20280904T210000
DTSTAMP:20260423T074725
CREATED:20241217T005830Z
LAST-MODIFIED:20260303T000358Z
UID:10011274-1851706800-1851714000@www.aa87.org
SUMMARY:Comité Congrès de la Région 87
DESCRIPTION:Salle 1. \nRencontre de l’équipe de l’orginsation du Congrès de la Région 87. \nJoindre la réunion\n \n  \nID de réunion : 944 7943 6712\nCode secret : 1234
URL:https://www.aa87.org/evenement/comite-du-congres-regional-3-2/2028-09-04/
END:VEVENT
BEGIN:VEVENT
DTSTART;TZID=America/Toronto:20280904T193000
DTEND;TZID=America/Toronto:20280904T213000
DTSTAMP:20260423T074725
CREATED:20241217T223859Z
LAST-MODIFIED:20251230T165149Z
UID:10011490-1851708600-1851715800@www.aa87.org
SUMMARY:Réunion des RSG du District 87-26
DESCRIPTION:Réunion mensuelle en présence.
URL:https://www.aa87.org/evenement/district-26-2-2/2028-09-04/
LOCATION:École Les Trois Saisons (entrée par l’arrière) 570\, boul. de Mortagne\, Boucherville QC\, J4B 5E4\, 570\, boul. de Mortagne\, Boucherville\, Québec\, J4B 5E4\, Canada
CATEGORIES:Activité / Activity,District 26,District AA87
ORGANIZER;CN="District 26%2C Longueuil%2C Contrec%C5%93ur":MAILTO:district26@aa87.org
END:VEVENT
BEGIN:VEVENT
DTSTART;VALUE=DATE:20280905
DTEND;VALUE=DATE:20280906
DTSTAMP:20260423T074725
CREATED:20250727T131207Z
LAST-MODIFIED:20250727T131541Z
UID:10024128-1851724800-1851811199@www.aa87.org
SUMMARY:Réflexion quotidienne 05 septembre
DESCRIPTION:Équilibre émotif\n5 septembre\n\nNous avons réparé nos torts directement envers ces personnes\, dans la mesure du possible… \nLes douze étapes et les douze traditions\, p. 95 \nEn examinant mon passé de buveur\, je me rappelle bien des personnes qui n’ont fait que passer dans ma vie\, mais dont j’ai troublé l’existence par mes colères et mes railleries. Il m’est impossible de les retracer et de m’excuser auprès d’elles. La seule façon de faire amende honorable\, d’adopter « l’attitude la plus indiquée »\, c’est de réparer indirectement mes torts par l’intermédiaire d’autres personnes qui croisent brièvement ma route. La pratique régulière de la courtoisie et de la bienveillance m’aide à connaître l’équilibre émotif et à vivre en paix avec moi-même. \nExtrait du livre Réflexions quotidiennes\nCopyright © 1991 par Alcoholics Anonymous World Services\, Inc. Tous droits réservés. \nTous les Réflexions quotidiennes
URL:https://www.aa87.org/evenement/rq0905/2028-09-05/
CATEGORIES:Réflexions Quotidiennes
END:VEVENT
BEGIN:VEVENT
DTSTART;TZID=America/Toronto:20280905T190000
DTEND;TZID=America/Toronto:20280905T210000
DTSTAMP:20260423T074725
CREATED:20251229T223612Z
LAST-MODIFIED:20251229T223613Z
UID:10034284-1851793200-1851800400@www.aa87.org
SUMMARY:Réunion des RSG du District 87-13
DESCRIPTION:Rencontre mensuelle en présence.
URL:https://www.aa87.org/evenement/district-13-2-2-2/2028-09-05/
LOCATION:Centre St-Zotique\, 75\, carré Sir Georges-Étienne Cartier\, salle 215\, Montréal QC\, H4C 3A1\, 75\, carré Sir Georges-Étienne Cartier\, salle 215\, Montréal\, Québec\, H4C 3A1\, Canada
CATEGORIES:Activité / Activity,District 13,District AA87
END:VEVENT
BEGIN:VEVENT
DTSTART;TZID=America/Toronto:20280905T190000
DTEND;TZID=America/Toronto:20280905T210000
DTSTAMP:20260423T074725
CREATED:20251230T174102Z
LAST-MODIFIED:20251230T174746Z
UID:10036187-1851793200-1851800400@www.aa87.org
SUMMARY:Réunion des RSG du District 87-32
DESCRIPTION:Réunion mensuelle en présence. Adresse à déterminer.
URL:https://www.aa87.org/evenement/reunion-des-rsg-du-district-87-32/2028-09-05/
CATEGORIES:Activité / Activity,District 32
END:VEVENT
BEGIN:VEVENT
DTSTART;TZID=America/Toronto:20280905T190000
DTEND;TZID=America/Toronto:20280905T210000
DTSTAMP:20260423T074725
CREATED:20260405T001857Z
LAST-MODIFIED:20260405T214833Z
UID:10040700-1851793200-1851800400@www.aa87.org
SUMMARY:Groupe de travail sur le parrainage de service
DESCRIPTION:Réunion mensuelle virtuelle seulement \nSalle 1 \nJoindre la réunion\n \nID de le réunion : 944 7943 6712\nCode secret: 1234
URL:https://www.aa87.org/evenement/groupe-de-travail-sur-le-parrainage-de-service/2028-09-05/
LOCATION:
END:VEVENT
BEGIN:VEVENT
DTSTART;TZID=America/Toronto:20280905T193000
DTEND;TZID=America/Toronto:20280905T213000
DTSTAMP:20260423T074725
CREATED:20241217T224421Z
LAST-MODIFIED:20260228T232542Z
UID:10012141-1851795000-1851802200@www.aa87.org
SUMMARY:Réunion des RSG du District 87-21
DESCRIPTION:Rencontre mensuelle en présence.
URL:https://www.aa87.org/evenement/district-21-2-2/2028-09-05/
LOCATION:Centre communautaire Richard Goulet\, 170 rue St-Antoine Nord\, Granby\, Québec\, J2G 5G8\, Canada
CATEGORIES:Activité / Activity,District 21,District AA87
ORGANIZER;CN="District 21%2C Granby%2C Cowansville":MAILTO:district21@aa87.org
END:VEVENT
BEGIN:VEVENT
DTSTART;VALUE=DATE:20280906
DTEND;VALUE=DATE:20280907
DTSTAMP:20260423T074725
CREATED:20250728T132811Z
LAST-MODIFIED:20250728T132811Z
UID:10024143-1851811200-1851897599@www.aa87.org
SUMMARY:Réflexion quotidienne 06 septembre
DESCRIPTION:Éliminer les menaces à la sobriété\n6 septembre\n\n… sauf lorsqu’en ce faisant\, nous risquions de leur nuire ou de nuire à d’autres. \nLes douze étapes et les douze traditions\, p. 95 \nLa Neuvième Étape me redonne un sentiment d’appartenance\, non seulement au sein de la race humaine mais aussi dans le monde de tous les jours. Tout d’abord\, cette Étape me force à quitter la sécurité des AA pour affronter des personnes\, « à l’extérieur »\, sur leur propre terrain plutôt que sur le mien. Cette démarche est terrifiante mais indispensable si je veux reprendre ma place dans la société. Ensuite\, la Neuvième Étape me permet d’éliminer les menaces à ma sobriété en réparant mes torts dans mes relations passées. Elle m’indique la voie à suivre pour obtenir une sobriété plus sereine en m’aidant à me débarrasser des débris du passé\, avant qu’ils ne me fassent trébucher. \nExtrait du livre Réflexions quotidiennes\nCopyright © 1991 par Alcoholics Anonymous World Services\, Inc. Tous droits réservés. \nTous les Réflexions quotidiennes
URL:https://www.aa87.org/evenement/rq0906/2028-09-06/
CATEGORIES:Réflexions Quotidiennes
END:VEVENT
BEGIN:VEVENT
DTSTART;TZID=America/Toronto:20280906T193000
DTEND;TZID=America/Toronto:20280906T213000
DTSTAMP:20260423T074725
CREATED:20260220T183208Z
LAST-MODIFIED:20260220T183208Z
UID:10038574-1851881400-1851888600@www.aa87.org
SUMMARY:Réunion des RSG du District 87-16
DESCRIPTION:Rencontre mensuelle en présence.
URL:https://www.aa87.org/evenement/district-16-2-2-3-2-2-2-2/2028-09-06/
LOCATION:Centre communautaire\, 53\, rue Rabastalière\, St-Bruno QC\, J3V 1Y7\, 53\, rue Rabastalière\, St-Bruno\, Québec\, J3V 1Y7\, Canada
CATEGORIES:District 16
ORGANIZER;CN="District 16%2C Bel%C5%93il%2C St-Hilaire":MAILTO:district16@aa87.org
END:VEVENT
BEGIN:VEVENT
DTSTART;VALUE=DATE:20280907
DTEND;VALUE=DATE:20280908
DTSTAMP:20260423T074725
CREATED:20250728T133930Z
LAST-MODIFIED:20250905T125458Z
UID:10024158-1851897600-1851983999@www.aa87.org
SUMMARY:Réflexion quotidienne 07 septembre
DESCRIPTION:﻿﻿\n \nTous les Réflexions quotidiennes
URL:https://www.aa87.org/evenement/rq0907/2028-09-07/
CATEGORIES:Réflexions Quotidiennes
END:VEVENT
BEGIN:VEVENT
DTSTART;TZID=America/Toronto:20280907T190000
DTEND;TZID=America/Toronto:20280907T210000
DTSTAMP:20260423T074725
CREATED:20251229T205224Z
LAST-MODIFIED:20260303T001359Z
UID:10013233-1851966000-1851973200@www.aa87.org
SUMMARY:Réunion des RSG du District 87-05
DESCRIPTION:Réunion mensuelle hybride \nJoindre la réunion\n \nID de réunion : 862 4418 3943\nCode secret :
URL:https://www.aa87.org/evenement/district-05-2-2-2/2028-09-07/
LOCATION:Place à l’emploi\, 125 Chem. du Coteau-Rouge\, Longueuil\, QC J4J 1W7\, Canada
CATEGORIES:Activité / Activity,District 05,District AA87
ORGANIZER;CN="District 5%2C Longueuil%2C St-Lambert":MAILTO:district05@aa87.org
END:VEVENT
BEGIN:VEVENT
DTSTART;TZID=America/Toronto:20280907T190000
DTEND;TZID=America/Toronto:20280907T220000
DTSTAMP:20260423T074725
CREATED:20251227T154306Z
LAST-MODIFIED:20260313T173521Z
UID:10017914-1851966000-1851976800@www.aa87.org
SUMMARY:Comité de direction
DESCRIPTION:Hybride\nSalle 4\nJoindre la réunion\n\n 
URL:https://www.aa87.org/evenement/comite-de-direction-3-2/2028-09-07/
LOCATION:BSR / ASO\, 3920\, rue Rachel Est\, Montréal QC\, H1X 1Z3\, 3920\, Rachel Est\, Montréal\, Québec\, H1X 1Z3\, Canada
CATEGORIES:Comité de direction/Steering Committee,Comités / Committees
END:VEVENT
BEGIN:VEVENT
DTSTART;TZID=America/Toronto:20280907T193000
DTEND;TZID=America/Toronto:20280907T213000
DTSTAMP:20260423T074725
CREATED:20251229T220820Z
LAST-MODIFIED:20251229T220820Z
UID:10014186-1851967800-1851975000@www.aa87.org
SUMMARY:Réunion des RSG du District 87-07
DESCRIPTION:Réunion mensuelle en présence.
URL:https://www.aa87.org/evenement/district-07-2-2-2/2028-09-07/
LOCATION:St. Mary’s Church\, 735\, Miller\, Greenfield Park QC\, 735\, Miller\, Greenfield Park\, Québec\, Canada
CATEGORIES:District 07
ORGANIZER;CN="District 7%2C Ch%C3%A2teauguay%2C St-Lambert%2C Valleyfield":MAILTO:district07@aa87.org
END:VEVENT
BEGIN:VEVENT
DTSTART;TZID=America/Toronto:20280907T193000
DTEND;TZID=America/Toronto:20280907T213000
DTSTAMP:20260423T074725
CREATED:20251231T040549Z
LAST-MODIFIED:20260313T173725Z
UID:10014246-1851967800-1851975000@www.aa87.org
SUMMARY:Réunion des RSG du District 87-14
DESCRIPTION:Rencontre mensuelle hybride \nSalle 5 \nJoindre la réunion\n \n  \nID de réunion: 924 7313 7786\nCode secret: 1234
URL:https://www.aa87.org/evenement/district-14-2-2-2/2028-09-07/
LOCATION:3225 rue Courchesne Sorel-Tracy  Local 210\, 3225 rue Courchesne\, Sorel-Tracy\, QC\, J3R 3A7\, Canada
ORGANIZER;CN="District 14%2C Sorel%2C Tracy et environs":MAILTO:district14@aa87.org
END:VEVENT
BEGIN:VEVENT
DTSTART;VALUE=DATE:20280908
DTEND;VALUE=DATE:20280909
DTSTAMP:20260423T074725
CREATED:20250728T220741Z
LAST-MODIFIED:20250728T220741Z
UID:10024173-1851984000-1852070399@www.aa87.org
SUMMARY:Réflexion quotidienne 08 septembre
DESCRIPTION:« Nous avons demandé sa protection »\n8 septembre\n\nNous avons demandé Sa protection et Son aide et nous nous sommes abandonnés à Lui complètement. \nLes Alcooliques Anonymes\, p. 66 \nJ’étais incapable de diriger ma vie tout seul. J’avais essayé et échoué. Ma « faute ultime » m’avait fait tomber au niveau le plus bas et\, ayant perdu la faculté même de fonctionner\, j’ai dû admettre que j’avais désespérément besoin d’aide. J’ai cessé de me battre et j’ai capitulé devant Dieu. \nÀ partir de ce moment\, j’ai commencé à grandir ! Dieu m’a pardonné. Il fallait bien que ce soit une Puissance supérieure qui me sauve car les médecins doutaient de mes chances de survie. Je me suis pardonné à moi-même et aujourd’hui\, je jouis d’une liberté que je n’avais jamais connue auparavant. J’ai ouvert à Dieu mon cœur et mon esprit. Plus j’en apprends\, moins j’en sais – ce qui me rend humble – mais je désire sincèrement continuer à progresser. Je connais la sérénité mais seulement quand je confie ma vie à Dieu. Tant que je suis honnête avec moi-même et demande son aide\, je mène une existence qui en vaut la peine. \nExtrait du livre Réflexions quotidiennes\nCopyright © 1991 par Alcoholics Anonymous World Services\, Inc. Tous droits réservés. \nTous les Réflexions quotidiennes
URL:https://www.aa87.org/evenement/rq0908/2028-09-08/
CATEGORIES:Réflexions Quotidiennes
END:VEVENT
BEGIN:VEVENT
DTSTART;VALUE=DATE:20280909
DTEND;VALUE=DATE:20280910
DTSTAMP:20260423T074725
CREATED:20250729T001624Z
LAST-MODIFIED:20250729T001624Z
UID:10024188-1852070400-1852156799@www.aa87.org
SUMMARY:Réflexion quotidienne 09 septembre
DESCRIPTION:Ouvrir de nouvelles portes\n\nCes promesses se réalisent parmi nous parfois rapidement\, parfois lentement. \nLes Alcooliques Anonymes\, p. 95 \nLes « promesses » dont il est question dans cette citation se réalisent peu à peu pour moi. Ce qui m’a redonné espoir a été la mise en pratique de la Neuvième Étape. Elle m’a permis de me fixer des objectifs pour mon propre rétablissement. \nLes vieilles habitudes et les anciens comportements ont la vie dure. La pratique de la Neuvième Étape me permet de tourner la page sur mon passé de buveur et de découvrir de nouvelles perspectives pour l’alcoolique abstinent que je suis. Il est essentiel pour moi de réparer directement mes torts. Restaurer mes anciennes relations et corriger mes vieux comportements facilitent une existence sobre. \nMême si j’ai quelques années d’abstinence derrière moi\, il y a des moments où de vieilles histoires du passé requièrent mon attention\, et la Neuvième Étape est là pour ça ; il suffit que je m’en serve. \n\nExtrait du livre Réflexions quotidiennes\nCopyright © 1991 par Alcoholics Anonymous World Services\, Inc. Tous droits réservés. \nTous les Réflexions quotidiennes
URL:https://www.aa87.org/evenement/reflexion-quotidienne-09-septembre/2028-09-09/
CATEGORIES:Réflexions Quotidiennes
END:VEVENT
BEGIN:VEVENT
DTSTART;VALUE=DATE:20280910
DTEND;VALUE=DATE:20280911
DTSTAMP:20260423T074725
CREATED:20250729T021826Z
LAST-MODIFIED:20250729T021826Z
UID:10024203-1852156800-1852243199@www.aa87.org
SUMMARY:Réflexion quotidienne 10 septembre
DESCRIPTION:Le rétablissement par procuration ?\n10 septembre\n\n[Les promesses] se matérialisent toujours si nous travaillons dans ce sens. \nLes Alcooliques Anonymes\, p. 95 \nParfois je me dis : « Réparer tous ses torts\, c’est aller un peu loin ! Personne ne devrait avoir à s’humilier ainsi ! » Pourtant\, c’est précisément dans la mesure où je vis cette expérience d’humilité que je me rapproche du « soleil de l’esprit ». Les AA sont mon seul espoir si je veux poursuivre ma convalescence et obtenir une vie pleine de bonheur\, d’amitié et d’harmonie. \nExtrait du livre Réflexions quotidiennes\nCopyright © 1991 par Alcoholics Anonymous World Services\, Inc. Tous droits réservés. \nTous les Réflexions quotidiennes
URL:https://www.aa87.org/evenement/rq0910/2028-09-10/
CATEGORIES:Réflexions Quotidiennes
END:VEVENT
BEGIN:VEVENT
DTSTART;VALUE=DATE:20280911
DTEND;VALUE=DATE:20280912
DTSTAMP:20260423T074725
CREATED:20250729T120543Z
LAST-MODIFIED:20250729T120543Z
UID:10024218-1852243200-1852329599@www.aa87.org
SUMMARY:Réflexion quotidienne 11 septembre
DESCRIPTION:Réparer ses torts\n11 septembre\n\nPar-dessus tout\, nous devrions faire l’effort de nous assurer\, au-delà de tout doute\, que nous n’obéissons pas à la peur en retardant notre démarche. \nLes douze étapes et les douze traditions\, p. 99 \nLe courage\, la victoire sur la peur sont des cadeaux de mon rétablissement. Ils me rendent capable de demander de l’aide et d’aller de l’avant dans la réparation de mes torts\, avec dignité et humilité. Réparer mes torts demande peut-être un certain degré d’honnêteté mais si j’en manque\, je peux compter sur l’aide de Dieu et la sagesse des autres pour rentrer en moi-même et trouver la force d’agir. On peut accepter ou ne pas accepter mes excuses\, mais après les avoir faites\, je peux marcher en toute liberté sachant qu’aujourd’hui\, je suis responsable. \nExtrait du livre Réflexions quotidiennes\nCopyright © 1991 par Alcoholics Anonymous World Services\, Inc. Tous droits réservés. \nTous les Réflexions quotidiennes
URL:https://www.aa87.org/evenement/rq0911/2028-09-11/
CATEGORIES:Réflexions Quotidiennes
END:VEVENT
BEGIN:VEVENT
DTSTART;TZID=America/Toronto:20280911T190000
DTEND;TZID=America/Toronto:20280911T210000
DTSTAMP:20260423T074725
CREATED:20260220T182321Z
LAST-MODIFIED:20260314T015602Z
UID:10015281-1852311600-1852318800@www.aa87.org
SUMMARY:Helpline Committee
DESCRIPTION:Réunion mensuelle virtuelle seulement. 2e lundi. \nSalle 3 \nJoindre la réunion\n\n  \nID de réunion : 91087779314\nCode secret : 1234
URL:https://www.aa87.org/evenement/helpline-committee-2/2028-09-11/
LOCATION:
END:VEVENT
BEGIN:VEVENT
DTSTART;TZID=America/Toronto:20280911T190000
DTEND;TZID=America/Toronto:20280911T210000
DTSTAMP:20260423T074725
CREATED:20260405T010324Z
LAST-MODIFIED:20260405T010324Z
UID:10040761-1852311600-1852318800@www.aa87.org
SUMMARY:Communication internes
DESCRIPTION:Réunion mensuelle virtuelle seulement \nSalle 1 \nJoindre la réunion\n \nID de le réunion : 944 7943 6712\nCode secret: 1234
URL:https://www.aa87.org/evenement/communication-internes/2028-09-11/
LOCATION:
END:VEVENT
BEGIN:VEVENT
DTSTART;TZID=America/Toronto:20280911T193000
DTEND;TZID=America/Toronto:20280911T213000
DTSTAMP:20260423T074725
CREATED:20241217T205751Z
LAST-MODIFIED:20251230T050629Z
UID:10013947-1852313400-1852320600@www.aa87.org
SUMMARY:Réunion des RSG du District 87-15
DESCRIPTION:Réunion mensuelle en présence.
URL:https://www.aa87.org/evenement/district-15-2-2/2028-09-11/
LOCATION:136-A Jacques-Cartier Nord\, St-Jean-sur-Richelieu\, Québec\, Canada
CATEGORIES:District 15
ORGANIZER;CN="District 15%2C St-Jean-sur-Richelieu":MAILTO:district15@aa87.org
END:VEVENT
BEGIN:VEVENT
DTSTART;VALUE=DATE:20280912
DTEND;VALUE=DATE:20280913
DTSTAMP:20260423T074725
CREATED:20250729T122809Z
LAST-MODIFIED:20250729T122809Z
UID:10024233-1852329600-1852415999@www.aa87.org
SUMMARY:Réflexion quotidienne 12 septembre
DESCRIPTION:Je suis responsable\n12 septembre\n\nÊtre disposés à assumer toutes les conséquences de nos actes passés\, et à prendre en même temps la responsabilité du bien-être des autres\, tel est le véritable esprit de la Neuvième Étape. \nLes douze étapes et les douze traditions\, P. 99 \nEn me rétablissant et avec l’aide des Alcooliques anonymes\, je découvre que ce qui me fait le plus peur\, c’est ma liberté. Cette attitude vient de ma tendance à reculer devant la moindre responsabilité ; je la refuse\, je l’ignore\, je blâme les autres\, je fuis. Puis un jour\, je suis capable de voir\, d’admettre et d’accepter. La liberté\, la guérison et le rétablissement se trouvent pour moi\, dans la capacité de voir\, d’admettre et d’accepter. J’apprends à dire : « Oui\, je suis responsable ». Quand j’arrive à prononcer ces paroles en toute honnêteté\, je suis libre. \n\nExtrait du livre Réflexions quotidiennes\nCopyright © 1991 par Alcoholics Anonymous World Services\, Inc. Tous droits réservés. \nTous les Réflexions quotidiennes
URL:https://www.aa87.org/evenement/rq0912/2028-09-12/
CATEGORIES:Réflexions Quotidiennes
END:VEVENT
BEGIN:VEVENT
DTSTART;TZID=America/Toronto:20280912T183000
DTEND;TZID=America/Toronto:20280912T210000
DTSTAMP:20260423T074725
CREATED:20250207T201435Z
LAST-MODIFIED:20260314T020214Z
UID:10019318-1852396200-1852405200@www.aa87.org
SUMMARY:Réunion du bulletin Écho Echo Eco
DESCRIPTION:Réunion de l’Équipe de Production Rédactionnelle du bulletin Éche Echo Eco.\nJoindre la réunion\n\nID de réunion : 910 8777 9314\nCode secret : 1234
URL:https://www.aa87.org/evenement/reunionechoechoeco/2028-09-12/
LOCATION:
END:VEVENT
END:VCALENDAR