BEGIN:VCALENDAR
VERSION:2.0
PRODID:-//Alcooliques Anonymes Région 87 - ECPv6.15.17//NONSGML v1.0//EN
CALSCALE:GREGORIAN
METHOD:PUBLISH
X-ORIGINAL-URL:https://www.aa87.org
X-WR-CALDESC:Évènements pour Alcooliques Anonymes Région 87
REFRESH-INTERVAL;VALUE=DURATION:PT1H
X-Robots-Tag:noindex
X-PUBLISHED-TTL:PT1H
BEGIN:VTIMEZONE
TZID:America/Toronto
BEGIN:DAYLIGHT
TZOFFSETFROM:-0500
TZOFFSETTO:-0400
TZNAME:EDT
DTSTART:20290311T070000
END:DAYLIGHT
BEGIN:STANDARD
TZOFFSETFROM:-0400
TZOFFSETTO:-0500
TZNAME:EST
DTSTART:20291104T060000
END:STANDARD
BEGIN:DAYLIGHT
TZOFFSETFROM:-0500
TZOFFSETTO:-0400
TZNAME:EDT
DTSTART:20300310T070000
END:DAYLIGHT
BEGIN:STANDARD
TZOFFSETFROM:-0400
TZOFFSETTO:-0500
TZNAME:EST
DTSTART:20301103T060000
END:STANDARD
BEGIN:DAYLIGHT
TZOFFSETFROM:-0500
TZOFFSETTO:-0400
TZNAME:EDT
DTSTART:20310309T070000
END:DAYLIGHT
BEGIN:STANDARD
TZOFFSETFROM:-0400
TZOFFSETTO:-0500
TZNAME:EST
DTSTART:20311102T060000
END:STANDARD
END:VTIMEZONE
BEGIN:VEVENT
DTSTART;VALUE=DATE:20300202
DTEND;VALUE=DATE:20300203
DTSTAMP:20260425T225529
CREATED:20250113T230618Z
LAST-MODIFIED:20260405T225255Z
UID:10041638-1896220800-1896307199@www.aa87.org
SUMMARY:Réflexion quotidienne 02 février
DESCRIPTION:Capituler pour être secouru\n2 février\n\nCe qui caractérise l’alcoolique type est un fond narcissique et égocentrique\, dominé par une impression d’omnipotence\, prêt à tout pour se protéger… Intérieurement\, l’alcoolique n’accepte aucune forme de contrôle\, humaine ou divine. L’alcoolique est et doit demeurer maître de sa destinée. Il se battra à mort pour défendre cette position. \nLe mouvement des AA devient adulte\, p. 319 \nLa question suivante est pour moi un grand mystère : « Pourquoi certains d’entre nous meurent-ils d’une mort alcoolique\, luttant pour préserver l’« indépendance » de leur ego\, alors que d’autres semblent devenir abstinents sans effort chez les AA ? » Une Puissance supérieure m’a aidé en me faisant cadeau de la sobriété le jour où mon désir\, inexplicable autrement\, de cesser de boire a coïncidé avec mon désir d’accepter les suggestions que me faisaient les membres des AA. J’ai dû capituler\, car c’est seulement en me tournant vers Dieu et mes frères et sœurs AA que je pouvais être secouru. \n\nExtrait du livre Réflexions quotidiennes\nCopyright © 1991 par Alcoholics Anonymous World Services\, Inc. Tous droits réservés. \nTous les Réflexions quotidiennes
URL:https://www.aa87.org/evenement/rq0202/2030-02-02/
LOCATION:aa87.org
CATEGORIES:Réflexions Quotidiennes
END:VEVENT
BEGIN:VEVENT
DTSTART;TZID=America/Toronto:20300202T100000
DTEND;TZID=America/Toronto:20300202T120000
DTSTAMP:20260425T225529
CREATED:20251108T131908Z
LAST-MODIFIED:20260418T121844Z
UID:10041864-1896256800-1896264000@www.aa87.org
SUMMARY:Réunion de La Vigne
DESCRIPTION:Une invitation à tous les Représentants de La Vigne. \nJoindre la réunion\n \n  \nID de réunion : 918 2068 6211\nMot de passe : 1234 \nVoir l’annonce
URL:https://www.aa87.org/evenement/reunion-de-la-vigne-2025-12-06/2030-02-02/
CATEGORIES:La Vigne
LOCATION:
END:VEVENT
BEGIN:VEVENT
DTSTART;VALUE=DATE:20300203
DTEND;VALUE=DATE:20300204
DTSTAMP:20260425T225529
CREATED:20250113T233507Z
LAST-MODIFIED:20260405T225451Z
UID:10041644-1896307200-1896393599@www.aa87.org
SUMMARY:Réflexion quotidienne 03 février
DESCRIPTION:Remplir le vide\n3 février\n\nNous n’avions qu’une petite question à nous poser : « Est-ce que je crois ou veux croire en l’existence d’une Puissance supérieure à moi-même ? » Aussitôt qu’un homme peut affirmer qu’il croit\, ou qu’il veut bien essayer de croire\, pour nous\, il se trouve incontestablement sur la bonne voie. \nLes Alcooliques Anonymes\, p. 53 \nL’étude des principes scientifiques m’a toujours fasciné. Poursuivant la Connaissance absolue\, je me suis éloigné des gens\, émotivement et physiquement. Dieu et la spiritualité n’étaient que pures spéculations dénuées de sens. J’étais un homme de science moderne\, et la connaissance était ma puissance supérieure. Exprimée dans les équations appropriées\, la vie n’était guère plus qu’un autre problème à résoudre. Pourtant\, mon moi intérieur se mourait de la solution qu’avait adoptée l’homme que j’étais à l’extérieur pour régler les problèmes de la vie\, car cette solution était l’alcool. Malgré mon intelligence\, l’alcool était devenu ma puissance supérieure. Ce n’est que grâce à l’amour inconditionnel qui émanait des membres et des groupes des AA que j’ai pu écarter l’alcool comme puissance supérieure. Le grand vide était rempli. Je n’étais plus seul\, séparé de la vie. J’avais trouvé une vraie Puissance supérieure\, j’avais trouvé l’amour de Dieu. Il n’y a plus qu’une équation qui compte pour moi\, désormais : Dieu est dans les AA. \n\nExtrait du livre Réflexions quotidiennes\nCopyright © 1991 par Alcoholics Anonymous World Services\, Inc. Tous droits réservés. \nTous les Réflexions quotidiennes
URL:https://www.aa87.org/evenement/rq0203/2030-02-03/
LOCATION:aa87.org
CATEGORIES:Réflexions Quotidiennes
END:VEVENT
BEGIN:VEVENT
DTSTART;TZID=America/Toronto:20300203T100000
DTEND;TZID=America/Toronto:20300203T113000
DTSTAMP:20260425T225529
CREATED:20241218T132830Z
LAST-MODIFIED:20260301T160120Z
UID:10025198-1896343200-1896348600@www.aa87.org
SUMMARY:Correctional Facilities Committee
DESCRIPTION:Réunion mensuelle virtuelle seulement. \nSalle 1 \nJoindre la réunion\n \n  \nID de réunion : 944 7943 6712\nCode secret : 1234
URL:https://www.aa87.org/evenement/correctional-facilities-committee/2030-02-03/
LOCATION:
END:VEVENT
BEGIN:VEVENT
DTSTART;TZID=America/Toronto:20300203T140000
DTEND;TZID=America/Toronto:20300203T160000
DTSTAMP:20260425T225529
CREATED:20260214T021105Z
LAST-MODIFIED:20260302T004343Z
UID:10038222-1896357600-1896364800@www.aa87.org
SUMMARY:Réunion du comité MONQYPAA
DESCRIPTION:Réunion Hybride \nEn présence \nBureau des services de la Région 87\n3920\, rue Rachel Est\nMontréal (Québec) H1X 1Z3\nMapIt \nJoindre la réunion\n\n  \nID de réunion: 924 7313 7786\nCode secret: 1234
URL:https://www.aa87.org/evenement/reunionducomitemonqypaa/2030-02-03/
LOCATION:BSR / ASO\, 3920\, rue Rachel Est\, Montréal QC\, H1X 1Z3\, 3920\, Rachel Est\, Montréal\, Québec\, H1X 1Z3\, Canada
ORGANIZER;CN="District 10%2C Montr%C3%A9al%2C Plateau-Centre-Ville":MAILTO:district10@aa87.org
END:VEVENT
BEGIN:VEVENT
DTSTART;VALUE=DATE:20300204
DTEND;VALUE=DATE:20300205
DTSTAMP:20260425T225529
CREATED:20250119T132205Z
LAST-MODIFIED:20260405T230129Z
UID:10041650-1896393600-1896479999@www.aa87.org
SUMMARY:Réflexion quotidienne 04 février
DESCRIPTION:Sans la foi\n4 février\n\nLa méthode des AA pose parfois plus de difficultés à ceux qui ont perdu ou rejeté la foi qu’à ceux qui ne l’ont jamais eue\, car les premiers ont l’impression d’avoir déjà fait l’expérience de la foi sans obtenir les résultats attendus. Ils ont vécu un temps avec la foi et un temps sans la foi. \nLes douze étapes et les douze traditions\, p. 32 \nJ’étais si sûr que Dieu m’avait trahi que j’ai fini par me rebeller\, même si je savais que c’était inutile\, et je me suis soûlé une dernière fois. Ma foi ne s’était pas transformée en amertume par hasard. Ceux qui ont déjà eu une grande foi touchent le fond plus durement. J’ai mis beaucoup de temps à ranimer ma foi\, même après être entré dans les AA. Intellectuellement\, j’étais réconforté d’avoir survécu à pareille chute\, mais mon cœur demeurait insensible. Pourtant\, j’ai persévéré dans le programme des AA ; je n’avais pas le choix\, car les autres solutions étaient trop affreuses. J’ai continué à fréquenter les AA et\, petit à petit\, ma foi est ressuscitée. \n\nExtrait du livre Réflexions quotidiennes\nCopyright © 1991 par Alcoholics Anonymous World Services\, Inc. Tous droits réservés. \nTous les Réflexions quotidiennes
URL:https://www.aa87.org/evenement/rq0204/2030-02-04/
LOCATION:aa87.org
CATEGORIES:Réflexions Quotidiennes
END:VEVENT
BEGIN:VEVENT
DTSTART;TZID=America/Toronto:20300204T190000
DTEND;TZID=America/Toronto:20300204T210000
DTSTAMP:20260425T225529
CREATED:20241217T005615Z
LAST-MODIFIED:20260302T004538Z
UID:10035300-1896462000-1896469200@www.aa87.org
SUMMARY:Réunion des RSG du District 87-19
DESCRIPTION:Réunion mensuelle hybride. \nSalle 2 \nJoindre la réunion\n \nID de réunion : 918 2068 6211\nCode secret : 1234
URL:https://www.aa87.org/evenement/district-19-2-2/2030-02-04/
LOCATION:BSR / ASO\, 3920\, rue Rachel Est\, Montréal QC\, H1X 1Z3\, 3920\, Rachel Est\, Montréal\, Québec\, H1X 1Z3\, Canada
CATEGORIES:Activité / Activity,District 19
ORGANIZER;CN="District 19%2C Montreal%2C Westmount":MAILTO:district19@aa87.org
END:VEVENT
BEGIN:VEVENT
DTSTART;TZID=America/Toronto:20300204T190000
DTEND;TZID=America/Toronto:20300204T210000
DTSTAMP:20260425T225529
CREATED:20241217T005830Z
LAST-MODIFIED:20260303T000358Z
UID:10038972-1896462000-1896469200@www.aa87.org
SUMMARY:Comité Congrès de la Région 87
DESCRIPTION:Salle 1. \nRencontre de l’équipe de l’orginsation du Congrès de la Région 87. \nJoindre la réunion\n \n  \nID de réunion : 944 7943 6712\nCode secret : 1234
URL:https://www.aa87.org/evenement/comite-du-congres-regional-3-2/2030-02-04/
END:VEVENT
BEGIN:VEVENT
DTSTART;TZID=America/Toronto:20300204T193000
DTEND;TZID=America/Toronto:20300204T213000
DTSTAMP:20260425T225529
CREATED:20241217T223859Z
LAST-MODIFIED:20251230T165149Z
UID:10035845-1896463800-1896471000@www.aa87.org
SUMMARY:Réunion des RSG du District 87-26
DESCRIPTION:Réunion mensuelle en présence.
URL:https://www.aa87.org/evenement/district-26-2-2/2030-02-04/
LOCATION:École Les Trois Saisons (entrée par l’arrière) 570\, boul. de Mortagne\, Boucherville QC\, J4B 5E4\, 570\, boul. de Mortagne\, Boucherville\, Québec\, J4B 5E4\, Canada
CATEGORIES:Activité / Activity,District 26,District AA87
ORGANIZER;CN="District 26%2C Longueuil%2C Contrec%C5%93ur":MAILTO:district26@aa87.org
END:VEVENT
BEGIN:VEVENT
DTSTART;VALUE=DATE:20300205
DTEND;VALUE=DATE:20300206
DTSTAMP:20260425T225529
CREATED:20250121T233639Z
LAST-MODIFIED:20260406T183537Z
UID:10041656-1896480000-1896566399@www.aa87.org
SUMMARY:Réflexion quotidienne 05 février
DESCRIPTION:Une merveilleuse libération\n5 février\n\nDès que j’ai cessé d’argumenter\, j’ai pu commencer à voir et à ressentir. Aussitôt\, en douceur et petit à petit\, la Deuxième Étape a commencé à s’infiltrer dans ma vie. Je ne puis préciser dans quelle circonstance ni quel jour je me suis mis à croire en une Puissance supérieure à moi-même\, mais aujourd’hui\, il est certain que cette foi\, je l’ai. Pour l’acquérir\, il m’a suffi d’arrêter de me battre et d’appliquer le reste du programme des AA avec autant d’enthousiasme que possible. \nLes douze étapes et les douze traditions \, p. 30-31 \nAprès avoir passé des années à vivre comme un déchaîné et comme un entêté\, j’ai trouvé dans la Deuxième Étape une merveilleuse façon de me libérer de ma grande solitude. Il n’y a plus rien d’aussi pénible ou d’aussi insurmontable maintenant dans mon cheminement. Il se trouve toujours quelqu’un avec qui je peux partager les fardeaux de la vie. La Deuxième Étape m’a permis de renforcer mes liens avec Dieu\, et je me rends compte que ma folie et mon ego allaient de pair ; pour me débarrasser de l’une\, je dois abandonner l’autre à quelqu’un qui a les épaules beaucoup plus larges que les miennes. \n\nExtrait du livre Réflexions quotidiennes\nCopyright © 1991 par Alcoholics Anonymous World Services\, Inc. Tous droits réservés. \nTous les Réflexions quotidiennes
URL:https://www.aa87.org/evenement/rq0205/2030-02-05/
LOCATION:aa87.org
CATEGORIES:Réflexions Quotidiennes
END:VEVENT
BEGIN:VEVENT
DTSTART;TZID=America/Toronto:20300205T190000
DTEND;TZID=America/Toronto:20300205T210000
DTSTAMP:20260425T225529
CREATED:20251229T223612Z
LAST-MODIFIED:20251229T223613Z
UID:10034301-1896548400-1896555600@www.aa87.org
SUMMARY:Réunion des RSG du District 87-13
DESCRIPTION:Rencontre mensuelle en présence.
URL:https://www.aa87.org/evenement/district-13-2-2-2/2030-02-05/
LOCATION:Centre St-Zotique\, 75\, carré Sir Georges-Étienne Cartier\, salle 215\, Montréal QC\, H4C 3A1\, 75\, carré Sir Georges-Étienne Cartier\, salle 215\, Montréal\, Québec\, H4C 3A1\, Canada
CATEGORIES:Activité / Activity,District 13,District AA87
END:VEVENT
BEGIN:VEVENT
DTSTART;TZID=America/Toronto:20300205T190000
DTEND;TZID=America/Toronto:20300205T210000
DTSTAMP:20260425T225529
CREATED:20251230T174102Z
LAST-MODIFIED:20251230T174746Z
UID:10036204-1896548400-1896555600@www.aa87.org
SUMMARY:Réunion des RSG du District 87-32
DESCRIPTION:Réunion mensuelle en présence. Adresse à déterminer.
URL:https://www.aa87.org/evenement/reunion-des-rsg-du-district-87-32/2030-02-05/
CATEGORIES:Activité / Activity,District 32
END:VEVENT
BEGIN:VEVENT
DTSTART;TZID=America/Toronto:20300205T190000
DTEND;TZID=America/Toronto:20300205T210000
DTSTAMP:20260425T225529
CREATED:20260405T001857Z
LAST-MODIFIED:20260405T214833Z
UID:10040717-1896548400-1896555600@www.aa87.org
SUMMARY:Groupe de travail sur le parrainage de service
DESCRIPTION:Réunion mensuelle virtuelle seulement \nSalle 1 \nJoindre la réunion\n \nID de le réunion : 944 7943 6712\nCode secret: 1234
URL:https://www.aa87.org/evenement/groupe-de-travail-sur-le-parrainage-de-service/2030-02-05/
LOCATION:
END:VEVENT
BEGIN:VEVENT
DTSTART;TZID=America/Toronto:20300205T193000
DTEND;TZID=America/Toronto:20300205T213000
DTSTAMP:20260425T225529
CREATED:20241217T224421Z
LAST-MODIFIED:20260228T232542Z
UID:10039372-1896550200-1896557400@www.aa87.org
SUMMARY:Réunion des RSG du District 87-21
DESCRIPTION:Rencontre mensuelle en présence.
URL:https://www.aa87.org/evenement/district-21-2-2/2030-02-05/
LOCATION:Centre communautaire Richard Goulet\, 170 rue St-Antoine Nord\, Granby\, Québec\, J2G 5G8\, Canada
CATEGORIES:Activité / Activity,District 21,District AA87
ORGANIZER;CN="District 21%2C Granby%2C Cowansville":MAILTO:district21@aa87.org
END:VEVENT
BEGIN:VEVENT
DTSTART;VALUE=DATE:20300206
DTEND;VALUE=DATE:20300207
DTSTAMP:20260425T225529
CREATED:20250123T005122Z
LAST-MODIFIED:20260406T183800Z
UID:10041662-1896566400-1896652799@www.aa87.org
SUMMARY:Réflexion quotidienne 06 février
DESCRIPTION:UN POINT DE RALLIEMENT\n6 février\n\nAinsi donc\, la Deuxième Étape constitue notre point de ralliement à tous. Agnostiques\, athées ou anciens croyants\, nous pouvons tous nous y retrouver. \nLes douze étapes et les douze traditions\, p. 39 \nJ’ai l’impression que le programme des AA est inspiré par Dieu et que Dieu est présent à toutes les réunions. Je vois\, je crois et je sais que le mouvement marche parce que je suis demeuré abstinent aujourd’hui. Je confie ma vie aux AA et à Dieu lorsque j’assiste à une réunion. Si Dieu se trouve dans mon cœur et dans celui des autres\, je deviens une petite partie d’un grand tout et je ne me pense plus unique. Si Dieu habite mon cœur et me parle par la voix des autres\, alors Dieu doit pouvoir se servir de moi pour s’adresser aux autres. Si je fais sa volonté en vivant selon les principes spirituels\, en échange je retrouverai la raison et la sobriété émotive. \n\nExtrait du livre Réflexions quotidiennes\nCopyright © 1991 par Alcoholics Anonymous World Services\, Inc. Tous droits réservés. \nTous les Réflexions quotidiennes
URL:https://www.aa87.org/evenement/rq0206/2030-02-06/
LOCATION:aa87.org
CATEGORIES:Réflexions Quotidiennes
END:VEVENT
BEGIN:VEVENT
DTSTART;TZID=America/Toronto:20300206T193000
DTEND;TZID=America/Toronto:20300206T213000
DTSTAMP:20260425T225529
CREATED:20260220T183208Z
LAST-MODIFIED:20260220T183208Z
UID:10038591-1896636600-1896643800@www.aa87.org
SUMMARY:Réunion des RSG du District 87-16
DESCRIPTION:Rencontre mensuelle en présence.
URL:https://www.aa87.org/evenement/district-16-2-2-3-2-2-2-2/2030-02-06/
LOCATION:Centre communautaire\, 53\, rue Rabastalière\, St-Bruno QC\, J3V 1Y7\, 53\, rue Rabastalière\, St-Bruno\, Québec\, J3V 1Y7\, Canada
CATEGORIES:District 16
ORGANIZER;CN="District 16%2C Bel%C5%93il%2C St-Hilaire":MAILTO:district16@aa87.org
END:VEVENT
BEGIN:VEVENT
DTSTART;TZID=America/Toronto:20300207T190000
DTEND;TZID=America/Toronto:20300207T210000
DTSTAMP:20260425T225529
CREATED:20251229T205224Z
LAST-MODIFIED:20260303T001359Z
UID:10033575-1896721200-1896728400@www.aa87.org
SUMMARY:Réunion des RSG du District 87-05
DESCRIPTION:Réunion mensuelle hybride \nJoindre la réunion\n \nID de réunion : 862 4418 3943\nCode secret :
URL:https://www.aa87.org/evenement/district-05-2-2-2/2030-02-07/
LOCATION:Place à l’emploi\, 125 Chem. du Coteau-Rouge\, Longueuil\, QC J4J 1W7\, Canada
CATEGORIES:Activité / Activity,District 05,District AA87
ORGANIZER;CN="District 5%2C Longueuil%2C St-Lambert":MAILTO:district05@aa87.org
END:VEVENT
BEGIN:VEVENT
DTSTART;TZID=America/Toronto:20300207T190000
DTEND;TZID=America/Toronto:20300207T220000
DTSTAMP:20260425T225529
CREATED:20251227T154306Z
LAST-MODIFIED:20260313T173521Z
UID:10026083-1896721200-1896732000@www.aa87.org
SUMMARY:Comité de direction
DESCRIPTION:Hybride\nSalle 4\nJoindre la réunion\n\n 
URL:https://www.aa87.org/evenement/comite-de-direction-3-2/2030-02-07/
LOCATION:BSR / ASO\, 3920\, rue Rachel Est\, Montréal QC\, H1X 1Z3\, 3920\, Rachel Est\, Montréal\, Québec\, H1X 1Z3\, Canada
CATEGORIES:Comité de direction/Steering Committee,Comités / Committees
END:VEVENT
BEGIN:VEVENT
DTSTART;TZID=America/Toronto:20300207T193000
DTEND;TZID=America/Toronto:20300207T213000
DTSTAMP:20260425T225529
CREATED:20251229T220820Z
LAST-MODIFIED:20251229T220820Z
UID:10034041-1896723000-1896730200@www.aa87.org
SUMMARY:Réunion des RSG du District 87-07
DESCRIPTION:Réunion mensuelle en présence.
URL:https://www.aa87.org/evenement/district-07-2-2-2/2030-02-07/
LOCATION:St. Mary’s Church\, 735\, Miller\, Greenfield Park QC\, 735\, Miller\, Greenfield Park\, Québec\, Canada
CATEGORIES:District 07
ORGANIZER;CN="District 7%2C Ch%C3%A2teauguay%2C St-Lambert%2C Valleyfield":MAILTO:district07@aa87.org
END:VEVENT
BEGIN:VEVENT
DTSTART;TZID=America/Toronto:20300207T193000
DTEND;TZID=America/Toronto:20300207T213000
DTSTAMP:20260425T225529
CREATED:20251231T040549Z
LAST-MODIFIED:20260313T173725Z
UID:10034430-1896723000-1896730200@www.aa87.org
SUMMARY:Réunion des RSG du District 87-14
DESCRIPTION:Rencontre mensuelle hybride \nSalle 5 \nJoindre la réunion\n \n  \nID de réunion: 924 7313 7786\nCode secret: 1234
URL:https://www.aa87.org/evenement/district-14-2-2-2/2030-02-07/
LOCATION:3225 rue Courchesne Sorel-Tracy  Local 210\, 3225 rue Courchesne\, Sorel-Tracy\, QC\, J3R 3A7\, Canada
ORGANIZER;CN="District 14%2C Sorel%2C Tracy et environs":MAILTO:district14@aa87.org
END:VEVENT
BEGIN:VEVENT
DTSTART;TZID=America/Toronto:20300211T190000
DTEND;TZID=America/Toronto:20300211T210000
DTSTAMP:20260425T225529
CREATED:20260220T182321Z
LAST-MODIFIED:20260425T173633Z
UID:10038416-1897066800-1897074000@www.aa87.org
SUMMARY:Helpline Committee
DESCRIPTION:Réunion mensuelle virtuelle seulement. 2e lundi. \nSalle 3 \nJoindre la réunion\n\nID de réunion : 91087779314\nCode secret : 1234
URL:https://www.aa87.org/evenement/helpline-committee-2/2030-02-11/
LOCATION:
END:VEVENT
BEGIN:VEVENT
DTSTART;TZID=America/Toronto:20300211T190000
DTEND;TZID=America/Toronto:20300211T210000
DTSTAMP:20260425T225529
CREATED:20260405T010324Z
LAST-MODIFIED:20260405T010324Z
UID:10040778-1897066800-1897074000@www.aa87.org
SUMMARY:Communication internes
DESCRIPTION:Réunion mensuelle virtuelle seulement \nSalle 1 \nJoindre la réunion\n \nID de le réunion : 944 7943 6712\nCode secret: 1234
URL:https://www.aa87.org/evenement/communication-internes/2030-02-11/
LOCATION:
END:VEVENT
BEGIN:VEVENT
DTSTART;TZID=America/Toronto:20300211T193000
DTEND;TZID=America/Toronto:20300211T213000
DTSTAMP:20260425T225529
CREATED:20241217T205751Z
LAST-MODIFIED:20251230T050629Z
UID:10034704-1897068600-1897075800@www.aa87.org
SUMMARY:Réunion des RSG du District 87-15
DESCRIPTION:Réunion mensuelle en présence.
URL:https://www.aa87.org/evenement/district-15-2-2/2030-02-11/
LOCATION:136-A Jacques-Cartier Nord\, St-Jean-sur-Richelieu\, Québec\, Canada
CATEGORIES:District 15
ORGANIZER;CN="District 15%2C St-Jean-sur-Richelieu":MAILTO:district15@aa87.org
END:VEVENT
BEGIN:VEVENT
DTSTART;TZID=America/Toronto:20300212T183000
DTEND;TZID=America/Toronto:20300212T210000
DTSTAMP:20260425T225529
CREATED:20250207T201435Z
LAST-MODIFIED:20260314T020214Z
UID:10038836-1897151400-1897160400@www.aa87.org
SUMMARY:Réunion du bulletin Écho Echo Eco
DESCRIPTION:Réunion de l’Équipe de Production Rédactionnelle du bulletin Éche Echo Eco.\nJoindre la réunion\n\nID de réunion : 910 8777 9314\nCode secret : 1234
URL:https://www.aa87.org/evenement/reunionechoechoeco/2030-02-12/
LOCATION:
END:VEVENT
BEGIN:VEVENT
DTSTART;TZID=America/Toronto:20300212T190000
DTEND;TZID=America/Toronto:20300212T210000
DTSTAMP:20260425T225529
CREATED:20241218T000653Z
LAST-MODIFIED:20251230T152505Z
UID:10019865-1897153200-1897160400@www.aa87.org
SUMMARY:Réunion des RSG du District 87-18
DESCRIPTION:Réunion mensuelle en présence.
URL:https://www.aa87.org/evenement/district-18-2-2/2030-02-12/
LOCATION:Unity Church – 3455 Girouard in Montreal
CATEGORIES:District 18
ORGANIZER;CN="District 18%2C Verdun%2C Notre-Dame-de-Gr%C3%A2ce":MAILTO:district18@aa87.org
END:VEVENT
BEGIN:VEVENT
DTSTART;TZID=America/Toronto:20300212T190000
DTEND;TZID=America/Toronto:20300212T210000
DTSTAMP:20260425T225529
CREATED:20260327T151328Z
LAST-MODIFIED:20260327T153342Z
UID:10040225-1897153200-1897160400@www.aa87.org
SUMMARY:Réunion des RSG du District 87-10
DESCRIPTION:Réunion mensuelle hybride \nSalle 2 \nJoindre la réunion\n \n  \nID de réunion : 918 2068 6211\nCode secret : 1234
URL:https://www.aa87.org/evenement/district-10-2-2-2/2030-02-12/
LOCATION:BSR / ASO\, 3920\, rue Rachel Est\, Montréal QC\, H1X 1Z3\, 3920\, Rachel Est\, Montréal\, Québec\, H1X 1Z3\, Canada
CATEGORIES:District 10
END:VEVENT
BEGIN:VEVENT
DTSTART;TZID=America/Toronto:20300212T190000
DTEND;TZID=America/Toronto:20300212T210000
DTSTAMP:20260425T225529
CREATED:20260405T011414Z
LAST-MODIFIED:20260405T220904Z
UID:10040838-1897153200-1897160400@www.aa87.org
SUMMARY: Public Information English Module
DESCRIPTION:Réunion mensuelle virtuelle seulement \nSalle 1 \nJoindre la réunion\n \nID de le réunion : 944 7943 6712\nCode secret: 1234
URL:https://www.aa87.org/evenement/public-information-english-module/2030-02-12/
LOCATION:
END:VEVENT
BEGIN:VEVENT
DTSTART;TZID=America/Toronto:20300213T190000
DTEND;TZID=America/Toronto:20300213T210000
DTSTAMP:20260425T225529
CREATED:20241218T001332Z
LAST-MODIFIED:20260314T112615Z
UID:10022109-1897239600-1897246800@www.aa87.org
SUMMARY:Comité des technologies +
DESCRIPTION:Réunion mensuelle sur Teams. \nJoindre la réunion\n \n  \nID de réunion : 210 078 105 291 \nCode secret : HwMBfV \n 
URL:https://www.aa87.org/evenement/comite-des-technologies-2/2030-02-13/
LOCATION:Réunion virtuelle seulement\, Québec\, Canada
CATEGORIES:Activité / Activity,Comité des Technologies/ Technology Committee,Comités / Committees
END:VEVENT
BEGIN:VEVENT
DTSTART;TZID=America/Toronto:20300213T190000
DTEND;TZID=America/Toronto:20300213T210000
DTSTAMP:20260425T225529
CREATED:20241218T001518Z
LAST-MODIFIED:20260412T212452Z
UID:10035035-1897239600-1897246800@www.aa87.org
SUMMARY:Réunion des RSG du District 87-17
DESCRIPTION:Réunion mensuelle en présence.
URL:https://www.aa87.org/evenement/district-17-2-2-2/2030-02-13/
LOCATION:Chalet Roger Rousseau 7501\, avenue Rondeau\, sous-sol\, Anjou (QC)\, H1K 4Y3\, 7501 avenue Rondeau\, Anjou\, QC\, H1K 4Y3\, Canada
CATEGORIES:Activité / Activity,District 17,District AA87
ORGANIZER;CN="District 17%2C Montr%C3%A9al Est%2C Anjou":MAILTO:district17@aa87.org
END:VEVENT
BEGIN:VEVENT
DTSTART;TZID=America/Toronto:20300213T190000
DTEND;TZID=America/Toronto:20300213T210000
DTSTAMP:20260425T225529
CREATED:20241218T001817Z
LAST-MODIFIED:20260313T175408Z
UID:10033263-1897239600-1897246800@www.aa87.org
SUMMARY:Réunion des RSG du District 87-01
DESCRIPTION:Réunion mensuelle hybride. \nSalle 2 \nJoindre la réunion\n \n  \nID de réunion : 918 2068 6211\nCode secret : 1234
URL:https://www.aa87.org/evenement/district-01-2/2030-02-13/
LOCATION:BSR / ASO\, 3920\, rue Rachel Est\, Montréal QC\, H1X 1Z3\, 3920\, Rachel Est\, Montréal\, Québec\, H1X 1Z3\, Canada
ORGANIZER;CN="District 1%2C Montr%C3%A9al%2C Outremont%2C C%C3%B4te-des-Neiges":MAILTO:district01@aa87.org
END:VEVENT
END:VCALENDAR