BEGIN:VCALENDAR
VERSION:2.0
PRODID:-//Alcooliques Anonymes Région 87 - ECPv6.15.17//NONSGML v1.0//EN
CALSCALE:GREGORIAN
METHOD:PUBLISH
X-WR-CALNAME:Alcooliques Anonymes Région 87
X-ORIGINAL-URL:https://www.aa87.org
X-WR-CALDESC:Évènements pour Alcooliques Anonymes Région 87
REFRESH-INTERVAL;VALUE=DURATION:PT1H
X-Robots-Tag:noindex
X-PUBLISHED-TTL:PT1H
BEGIN:VTIMEZONE
TZID:America/Toronto
BEGIN:DAYLIGHT
TZOFFSETFROM:-0500
TZOFFSETTO:-0400
TZNAME:EDT
DTSTART:20250309T070000
END:DAYLIGHT
BEGIN:STANDARD
TZOFFSETFROM:-0400
TZOFFSETTO:-0500
TZNAME:EST
DTSTART:20251102T060000
END:STANDARD
BEGIN:DAYLIGHT
TZOFFSETFROM:-0500
TZOFFSETTO:-0400
TZNAME:EDT
DTSTART:20260308T070000
END:DAYLIGHT
BEGIN:STANDARD
TZOFFSETFROM:-0400
TZOFFSETTO:-0500
TZNAME:EST
DTSTART:20261101T060000
END:STANDARD
BEGIN:DAYLIGHT
TZOFFSETFROM:-0500
TZOFFSETTO:-0400
TZNAME:EDT
DTSTART:20270314T070000
END:DAYLIGHT
BEGIN:STANDARD
TZOFFSETFROM:-0400
TZOFFSETTO:-0500
TZNAME:EST
DTSTART:20271107T060000
END:STANDARD
BEGIN:DAYLIGHT
TZOFFSETFROM:-0500
TZOFFSETTO:-0400
TZNAME:EDT
DTSTART:20280312T070000
END:DAYLIGHT
BEGIN:STANDARD
TZOFFSETFROM:-0400
TZOFFSETTO:-0500
TZNAME:EST
DTSTART:20281105T060000
END:STANDARD
BEGIN:DAYLIGHT
TZOFFSETFROM:-0500
TZOFFSETTO:-0400
TZNAME:EDT
DTSTART:20290311T070000
END:DAYLIGHT
BEGIN:STANDARD
TZOFFSETFROM:-0400
TZOFFSETTO:-0500
TZNAME:EST
DTSTART:20291104T060000
END:STANDARD
BEGIN:DAYLIGHT
TZOFFSETFROM:-0500
TZOFFSETTO:-0400
TZNAME:EDT
DTSTART:20300310T070000
END:DAYLIGHT
BEGIN:STANDARD
TZOFFSETFROM:-0400
TZOFFSETTO:-0500
TZNAME:EST
DTSTART:20301103T060000
END:STANDARD
END:VTIMEZONE
BEGIN:VEVENT
DTSTART;VALUE=DATE:20261208
DTEND;VALUE=DATE:20261209
DTSTAMP:20260419T095804
CREATED:20241201T050738Z
LAST-MODIFIED:20251202T225726Z
UID:10010009-1796688000-1796774399@www.aa87.org
SUMMARY:Réflexion quotidienne 08 décembre
DESCRIPTION:Le service\n8 décembre\n\nVous trouverez un sens nouveau à la vie. Voir des gens se rétablir et apporter de l’aide aux autres\, ne plus connaître la solitude\, voir grandir un groupe autour de vous\, avoir une foule d’amis\, voilà une expérience à ne pas manquer… Le contact fréquent avec les nouveaux et les autres\, c’est ce qui illumine notre vie. \nLes Alcooliques Anonymes\, p. 101 \nC’est dans les services que se trouvent les plus belles récompenses. Cependant\, afin de pouvoir être vraiment utile et efficace au service des autres\, je dois d’abord m’occuper de moi-même. Pour ça\, je dois m’abandonner à Dieu\, admettre mes fautes et déblayer les ruines du passé. En travaillant ainsi sur moi-même\, j’ai appris à trouver la paix et la sérénité qu’il faut pour bien doser inspiration et expérience. J’ai appris à devenir\, au vrai sens du terme\, une voie vers la sobriété. \n\n\nExtrait du livre Réflexions quotidiennes\nCopyright © 1991 par Alcoholics Anonymous World Services\, Inc. Tous droits réservés. \nTous les Réflexions quotidiennes
URL:https://www.aa87.org/evenement/rq1208/2026-12-08/
LOCATION:aa87.org
CATEGORIES:Réflexions Quotidiennes
END:VEVENT
BEGIN:VEVENT
DTSTART;VALUE=DATE:20271208
DTEND;VALUE=DATE:20271209
DTSTAMP:20260419T095804
CREATED:20241201T050738Z
LAST-MODIFIED:20251202T225726Z
UID:10010010-1828224000-1828310399@www.aa87.org
SUMMARY:Réflexion quotidienne 08 décembre
DESCRIPTION:Le service\n8 décembre\n\nVous trouverez un sens nouveau à la vie. Voir des gens se rétablir et apporter de l’aide aux autres\, ne plus connaître la solitude\, voir grandir un groupe autour de vous\, avoir une foule d’amis\, voilà une expérience à ne pas manquer… Le contact fréquent avec les nouveaux et les autres\, c’est ce qui illumine notre vie. \nLes Alcooliques Anonymes\, p. 101 \nC’est dans les services que se trouvent les plus belles récompenses. Cependant\, afin de pouvoir être vraiment utile et efficace au service des autres\, je dois d’abord m’occuper de moi-même. Pour ça\, je dois m’abandonner à Dieu\, admettre mes fautes et déblayer les ruines du passé. En travaillant ainsi sur moi-même\, j’ai appris à trouver la paix et la sérénité qu’il faut pour bien doser inspiration et expérience. J’ai appris à devenir\, au vrai sens du terme\, une voie vers la sobriété. \n\n\nExtrait du livre Réflexions quotidiennes\nCopyright © 1991 par Alcoholics Anonymous World Services\, Inc. Tous droits réservés. \nTous les Réflexions quotidiennes
URL:https://www.aa87.org/evenement/rq1208/2027-12-08/
LOCATION:aa87.org
CATEGORIES:Réflexions Quotidiennes
END:VEVENT
BEGIN:VEVENT
DTSTART;VALUE=DATE:20281208
DTEND;VALUE=DATE:20281209
DTSTAMP:20260419T095804
CREATED:20241201T050738Z
LAST-MODIFIED:20251202T225726Z
UID:10010011-1859846400-1859932799@www.aa87.org
SUMMARY:Réflexion quotidienne 08 décembre
DESCRIPTION:Le service\n8 décembre\n\nVous trouverez un sens nouveau à la vie. Voir des gens se rétablir et apporter de l’aide aux autres\, ne plus connaître la solitude\, voir grandir un groupe autour de vous\, avoir une foule d’amis\, voilà une expérience à ne pas manquer… Le contact fréquent avec les nouveaux et les autres\, c’est ce qui illumine notre vie. \nLes Alcooliques Anonymes\, p. 101 \nC’est dans les services que se trouvent les plus belles récompenses. Cependant\, afin de pouvoir être vraiment utile et efficace au service des autres\, je dois d’abord m’occuper de moi-même. Pour ça\, je dois m’abandonner à Dieu\, admettre mes fautes et déblayer les ruines du passé. En travaillant ainsi sur moi-même\, j’ai appris à trouver la paix et la sérénité qu’il faut pour bien doser inspiration et expérience. J’ai appris à devenir\, au vrai sens du terme\, une voie vers la sobriété. \n\n\nExtrait du livre Réflexions quotidiennes\nCopyright © 1991 par Alcoholics Anonymous World Services\, Inc. Tous droits réservés. \nTous les Réflexions quotidiennes
URL:https://www.aa87.org/evenement/rq1208/2028-12-08/
LOCATION:aa87.org
CATEGORIES:Réflexions Quotidiennes
END:VEVENT
BEGIN:VEVENT
DTSTART;VALUE=DATE:20291208
DTEND;VALUE=DATE:20291209
DTSTAMP:20260419T095804
CREATED:20241201T050738Z
LAST-MODIFIED:20251202T225726Z
UID:10026025-1891382400-1891468799@www.aa87.org
SUMMARY:Réflexion quotidienne 08 décembre
DESCRIPTION:Le service\n8 décembre\n\nVous trouverez un sens nouveau à la vie. Voir des gens se rétablir et apporter de l’aide aux autres\, ne plus connaître la solitude\, voir grandir un groupe autour de vous\, avoir une foule d’amis\, voilà une expérience à ne pas manquer… Le contact fréquent avec les nouveaux et les autres\, c’est ce qui illumine notre vie. \nLes Alcooliques Anonymes\, p. 101 \nC’est dans les services que se trouvent les plus belles récompenses. Cependant\, afin de pouvoir être vraiment utile et efficace au service des autres\, je dois d’abord m’occuper de moi-même. Pour ça\, je dois m’abandonner à Dieu\, admettre mes fautes et déblayer les ruines du passé. En travaillant ainsi sur moi-même\, j’ai appris à trouver la paix et la sérénité qu’il faut pour bien doser inspiration et expérience. J’ai appris à devenir\, au vrai sens du terme\, une voie vers la sobriété. \n\n\nExtrait du livre Réflexions quotidiennes\nCopyright © 1991 par Alcoholics Anonymous World Services\, Inc. Tous droits réservés. \nTous les Réflexions quotidiennes
URL:https://www.aa87.org/evenement/rq1208/2029-12-08/
LOCATION:aa87.org
CATEGORIES:Réflexions Quotidiennes
END:VEVENT
END:VCALENDAR