BEGIN:VCALENDAR
VERSION:2.0
PRODID:-//Alcooliques Anonymes Région 87 - ECPv6.15.17//NONSGML v1.0//EN
CALSCALE:GREGORIAN
METHOD:PUBLISH
X-WR-CALNAME:Alcooliques Anonymes Région 87
X-ORIGINAL-URL:https://www.aa87.org
X-WR-CALDESC:Évènements pour Alcooliques Anonymes Région 87
REFRESH-INTERVAL;VALUE=DURATION:PT1H
X-Robots-Tag:noindex
X-PUBLISHED-TTL:PT1H
BEGIN:VTIMEZONE
TZID:America/Toronto
BEGIN:DAYLIGHT
TZOFFSETFROM:-0500
TZOFFSETTO:-0400
TZNAME:EDT
DTSTART:20260308T070000
END:DAYLIGHT
BEGIN:STANDARD
TZOFFSETFROM:-0400
TZOFFSETTO:-0500
TZNAME:EST
DTSTART:20261101T060000
END:STANDARD
BEGIN:DAYLIGHT
TZOFFSETFROM:-0500
TZOFFSETTO:-0400
TZNAME:EDT
DTSTART:20270314T070000
END:DAYLIGHT
BEGIN:STANDARD
TZOFFSETFROM:-0400
TZOFFSETTO:-0500
TZNAME:EST
DTSTART:20271107T060000
END:STANDARD
BEGIN:DAYLIGHT
TZOFFSETFROM:-0500
TZOFFSETTO:-0400
TZNAME:EDT
DTSTART:20280312T070000
END:DAYLIGHT
BEGIN:STANDARD
TZOFFSETFROM:-0400
TZOFFSETTO:-0500
TZNAME:EST
DTSTART:20281105T060000
END:STANDARD
BEGIN:DAYLIGHT
TZOFFSETFROM:-0500
TZOFFSETTO:-0400
TZNAME:EDT
DTSTART:20290311T070000
END:DAYLIGHT
BEGIN:STANDARD
TZOFFSETFROM:-0400
TZOFFSETTO:-0500
TZNAME:EST
DTSTART:20291104T060000
END:STANDARD
BEGIN:DAYLIGHT
TZOFFSETFROM:-0500
TZOFFSETTO:-0400
TZNAME:EDT
DTSTART:20300310T070000
END:DAYLIGHT
BEGIN:STANDARD
TZOFFSETFROM:-0400
TZOFFSETTO:-0500
TZNAME:EST
DTSTART:20301103T060000
END:STANDARD
BEGIN:DAYLIGHT
TZOFFSETFROM:-0500
TZOFFSETTO:-0400
TZNAME:EDT
DTSTART:20310309T070000
END:DAYLIGHT
BEGIN:STANDARD
TZOFFSETFROM:-0400
TZOFFSETTO:-0500
TZNAME:EST
DTSTART:20311102T060000
END:STANDARD
BEGIN:DAYLIGHT
TZOFFSETFROM:-0500
TZOFFSETTO:-0400
TZNAME:EDT
DTSTART:20320314T070000
END:DAYLIGHT
BEGIN:STANDARD
TZOFFSETFROM:-0400
TZOFFSETTO:-0500
TZNAME:EST
DTSTART:20321107T060000
END:STANDARD
END:VTIMEZONE
BEGIN:VEVENT
DTSTART;VALUE=DATE:20270120
DTEND;VALUE=DATE:20270121
DTSTAMP:20260419T082835
CREATED:20241229T200413Z
LAST-MODIFIED:20260308T133607Z
UID:10017479-1800403200-1800489599@www.aa87.org
SUMMARY:Réflexion quotidienne 20 janvier
DESCRIPTION:Nous faisons une pause…et nous demandons…\n20 janvier\n\nAu cours de la journée\, nous faisons une pause lorsque l’agitation et le doute s’emparent de nous pour demander d’avoir la bonne pensée ou la bonne action. \nLes Alcooliques Anonymes\, p. 99 \nAujourd’hui\, je demande humblement à ma Puissance supérieure la grâce de séparer mes impulsions de mes actions\, de laisser passer une brise rafraîchissante quand je m’apprête à réagir trop vivement\, de remplacer ma virulence par une douceur paisible\, de reconnaître le moment où jugement devient discernement\, de me réfugier dans le silence quand ma langue est pressée d’attaquer ou de défendre. \nJe promets de profiter de la moindre occasion pour me tourner vers ma Puissance supérieure afin de savoir comment agir. Je sais où se trouve cette Puissance ; elle est en moi\, claire comme un ruisseau de montagne\, cachée dans les replis de mon cœur – c’est la Ressource intérieure insoupçonnée. \nJe rends grâce à ma Puissance supérieure pour le monde de lumière et de vérité que je vois\, quand je lui permets de diriger mon regard. Je lui fais confiance aujourd’hui et j’espère qu’elle me fait confiance\, sachant que je fais de mon mieux pour chercher la bonne pensée ou la bonne action de la journée. \n\nExtrait du livre Réflexions quotidiennes\nCopyright © 1991 par Alcoholics Anonymous World Services\, Inc. Tous droits réservés. \nTous les Réflexions quotidiennes
URL:https://www.aa87.org/evenement/rq0120/2027-01-20/
LOCATION:aa87.org
CATEGORIES:Réflexions Quotidiennes
END:VEVENT
BEGIN:VEVENT
DTSTART;VALUE=DATE:20280120
DTEND;VALUE=DATE:20280121
DTSTAMP:20260419T082835
CREATED:20241229T200413Z
LAST-MODIFIED:20260308T133607Z
UID:10017480-1831939200-1832025599@www.aa87.org
SUMMARY:Réflexion quotidienne 20 janvier
DESCRIPTION:Nous faisons une pause…et nous demandons…\n20 janvier\n\nAu cours de la journée\, nous faisons une pause lorsque l’agitation et le doute s’emparent de nous pour demander d’avoir la bonne pensée ou la bonne action. \nLes Alcooliques Anonymes\, p. 99 \nAujourd’hui\, je demande humblement à ma Puissance supérieure la grâce de séparer mes impulsions de mes actions\, de laisser passer une brise rafraîchissante quand je m’apprête à réagir trop vivement\, de remplacer ma virulence par une douceur paisible\, de reconnaître le moment où jugement devient discernement\, de me réfugier dans le silence quand ma langue est pressée d’attaquer ou de défendre. \nJe promets de profiter de la moindre occasion pour me tourner vers ma Puissance supérieure afin de savoir comment agir. Je sais où se trouve cette Puissance ; elle est en moi\, claire comme un ruisseau de montagne\, cachée dans les replis de mon cœur – c’est la Ressource intérieure insoupçonnée. \nJe rends grâce à ma Puissance supérieure pour le monde de lumière et de vérité que je vois\, quand je lui permets de diriger mon regard. Je lui fais confiance aujourd’hui et j’espère qu’elle me fait confiance\, sachant que je fais de mon mieux pour chercher la bonne pensée ou la bonne action de la journée. \n\nExtrait du livre Réflexions quotidiennes\nCopyright © 1991 par Alcoholics Anonymous World Services\, Inc. Tous droits réservés. \nTous les Réflexions quotidiennes
URL:https://www.aa87.org/evenement/rq0120/2028-01-20/
LOCATION:aa87.org
CATEGORIES:Réflexions Quotidiennes
END:VEVENT
BEGIN:VEVENT
DTSTART;VALUE=DATE:20290120
DTEND;VALUE=DATE:20290121
DTSTAMP:20260419T082835
CREATED:20241229T200413Z
LAST-MODIFIED:20260308T133607Z
UID:10017481-1863561600-1863647999@www.aa87.org
SUMMARY:Réflexion quotidienne 20 janvier
DESCRIPTION:Nous faisons une pause…et nous demandons…\n20 janvier\n\nAu cours de la journée\, nous faisons une pause lorsque l’agitation et le doute s’emparent de nous pour demander d’avoir la bonne pensée ou la bonne action. \nLes Alcooliques Anonymes\, p. 99 \nAujourd’hui\, je demande humblement à ma Puissance supérieure la grâce de séparer mes impulsions de mes actions\, de laisser passer une brise rafraîchissante quand je m’apprête à réagir trop vivement\, de remplacer ma virulence par une douceur paisible\, de reconnaître le moment où jugement devient discernement\, de me réfugier dans le silence quand ma langue est pressée d’attaquer ou de défendre. \nJe promets de profiter de la moindre occasion pour me tourner vers ma Puissance supérieure afin de savoir comment agir. Je sais où se trouve cette Puissance ; elle est en moi\, claire comme un ruisseau de montagne\, cachée dans les replis de mon cœur – c’est la Ressource intérieure insoupçonnée. \nJe rends grâce à ma Puissance supérieure pour le monde de lumière et de vérité que je vois\, quand je lui permets de diriger mon regard. Je lui fais confiance aujourd’hui et j’espère qu’elle me fait confiance\, sachant que je fais de mon mieux pour chercher la bonne pensée ou la bonne action de la journée. \n\nExtrait du livre Réflexions quotidiennes\nCopyright © 1991 par Alcoholics Anonymous World Services\, Inc. Tous droits réservés. \nTous les Réflexions quotidiennes
URL:https://www.aa87.org/evenement/rq0120/2029-01-20/
LOCATION:aa87.org
CATEGORIES:Réflexions Quotidiennes
END:VEVENT
BEGIN:VEVENT
DTSTART;VALUE=DATE:20300120
DTEND;VALUE=DATE:20300121
DTSTAMP:20260419T082835
CREATED:20241229T200413Z
LAST-MODIFIED:20260308T133607Z
UID:10039912-1895097600-1895183999@www.aa87.org
SUMMARY:Réflexion quotidienne 20 janvier
DESCRIPTION:Nous faisons une pause…et nous demandons…\n20 janvier\n\nAu cours de la journée\, nous faisons une pause lorsque l’agitation et le doute s’emparent de nous pour demander d’avoir la bonne pensée ou la bonne action. \nLes Alcooliques Anonymes\, p. 99 \nAujourd’hui\, je demande humblement à ma Puissance supérieure la grâce de séparer mes impulsions de mes actions\, de laisser passer une brise rafraîchissante quand je m’apprête à réagir trop vivement\, de remplacer ma virulence par une douceur paisible\, de reconnaître le moment où jugement devient discernement\, de me réfugier dans le silence quand ma langue est pressée d’attaquer ou de défendre. \nJe promets de profiter de la moindre occasion pour me tourner vers ma Puissance supérieure afin de savoir comment agir. Je sais où se trouve cette Puissance ; elle est en moi\, claire comme un ruisseau de montagne\, cachée dans les replis de mon cœur – c’est la Ressource intérieure insoupçonnée. \nJe rends grâce à ma Puissance supérieure pour le monde de lumière et de vérité que je vois\, quand je lui permets de diriger mon regard. Je lui fais confiance aujourd’hui et j’espère qu’elle me fait confiance\, sachant que je fais de mon mieux pour chercher la bonne pensée ou la bonne action de la journée. \n\nExtrait du livre Réflexions quotidiennes\nCopyright © 1991 par Alcoholics Anonymous World Services\, Inc. Tous droits réservés. \nTous les Réflexions quotidiennes
URL:https://www.aa87.org/evenement/rq0120/2030-01-20/
LOCATION:aa87.org
CATEGORIES:Réflexions Quotidiennes
END:VEVENT
BEGIN:VEVENT
DTSTART;VALUE=DATE:20310120
DTEND;VALUE=DATE:20310121
DTSTAMP:20260419T082835
CREATED:20241229T200413Z
LAST-MODIFIED:20260308T133607Z
UID:10039913-1926633600-1926719999@www.aa87.org
SUMMARY:Réflexion quotidienne 20 janvier
DESCRIPTION:Nous faisons une pause…et nous demandons…\n20 janvier\n\nAu cours de la journée\, nous faisons une pause lorsque l’agitation et le doute s’emparent de nous pour demander d’avoir la bonne pensée ou la bonne action. \nLes Alcooliques Anonymes\, p. 99 \nAujourd’hui\, je demande humblement à ma Puissance supérieure la grâce de séparer mes impulsions de mes actions\, de laisser passer une brise rafraîchissante quand je m’apprête à réagir trop vivement\, de remplacer ma virulence par une douceur paisible\, de reconnaître le moment où jugement devient discernement\, de me réfugier dans le silence quand ma langue est pressée d’attaquer ou de défendre. \nJe promets de profiter de la moindre occasion pour me tourner vers ma Puissance supérieure afin de savoir comment agir. Je sais où se trouve cette Puissance ; elle est en moi\, claire comme un ruisseau de montagne\, cachée dans les replis de mon cœur – c’est la Ressource intérieure insoupçonnée. \nJe rends grâce à ma Puissance supérieure pour le monde de lumière et de vérité que je vois\, quand je lui permets de diriger mon regard. Je lui fais confiance aujourd’hui et j’espère qu’elle me fait confiance\, sachant que je fais de mon mieux pour chercher la bonne pensée ou la bonne action de la journée. \n\nExtrait du livre Réflexions quotidiennes\nCopyright © 1991 par Alcoholics Anonymous World Services\, Inc. Tous droits réservés. \nTous les Réflexions quotidiennes
URL:https://www.aa87.org/evenement/rq0120/2031-01-20/
LOCATION:aa87.org
CATEGORIES:Réflexions Quotidiennes
END:VEVENT
END:VCALENDAR