BEGIN:VCALENDAR
VERSION:2.0
PRODID:-//Alcooliques Anonymes Région 87 - ECPv6.15.17//NONSGML v1.0//EN
CALSCALE:GREGORIAN
METHOD:PUBLISH
X-WR-CALNAME:Alcooliques Anonymes Région 87
X-ORIGINAL-URL:https://www.aa87.org
X-WR-CALDESC:Évènements pour Alcooliques Anonymes Région 87
REFRESH-INTERVAL;VALUE=DURATION:PT1H
X-Robots-Tag:noindex
X-PUBLISHED-TTL:PT1H
BEGIN:VTIMEZONE
TZID:America/Toronto
BEGIN:DAYLIGHT
TZOFFSETFROM:-0500
TZOFFSETTO:-0400
TZNAME:EDT
DTSTART:20250309T070000
END:DAYLIGHT
BEGIN:STANDARD
TZOFFSETFROM:-0400
TZOFFSETTO:-0500
TZNAME:EST
DTSTART:20251102T060000
END:STANDARD
BEGIN:DAYLIGHT
TZOFFSETFROM:-0500
TZOFFSETTO:-0400
TZNAME:EDT
DTSTART:20260308T070000
END:DAYLIGHT
BEGIN:STANDARD
TZOFFSETFROM:-0400
TZOFFSETTO:-0500
TZNAME:EST
DTSTART:20261101T060000
END:STANDARD
BEGIN:DAYLIGHT
TZOFFSETFROM:-0500
TZOFFSETTO:-0400
TZNAME:EDT
DTSTART:20270314T070000
END:DAYLIGHT
BEGIN:STANDARD
TZOFFSETFROM:-0400
TZOFFSETTO:-0500
TZNAME:EST
DTSTART:20271107T060000
END:STANDARD
BEGIN:DAYLIGHT
TZOFFSETFROM:-0500
TZOFFSETTO:-0400
TZNAME:EDT
DTSTART:20280312T070000
END:DAYLIGHT
BEGIN:STANDARD
TZOFFSETFROM:-0400
TZOFFSETTO:-0500
TZNAME:EST
DTSTART:20281105T060000
END:STANDARD
BEGIN:DAYLIGHT
TZOFFSETFROM:-0500
TZOFFSETTO:-0400
TZNAME:EDT
DTSTART:20290311T070000
END:DAYLIGHT
BEGIN:STANDARD
TZOFFSETFROM:-0400
TZOFFSETTO:-0500
TZNAME:EST
DTSTART:20291104T060000
END:STANDARD
END:VTIMEZONE
BEGIN:VEVENT
DTSTART;TZID=America/Toronto:20260514T193000
DTEND;TZID=America/Toronto:20260514T210000
DTSTAMP:20260419T082840
CREATED:20251227T174400Z
LAST-MODIFIED:20260314T014619Z
UID:10036862-1778787000-1778792400@www.aa87.org
SUMMARY:Comité Services aux groupes
DESCRIPTION:Réunion mensuelle virtuelle seulement. 2 jeudi. \nSalle 3 \nJoindre la réunion\n \nID de le réunion : 91087779314\nCode secret: 1234
URL:https://www.aa87.org/evenement/comite-services-aux-groupes-2/2026-05-14/
CATEGORIES:Comités / Committees
LOCATION:
END:VEVENT
BEGIN:VEVENT
DTSTART;TZID=America/Toronto:20260611T193000
DTEND;TZID=America/Toronto:20260611T210000
DTSTAMP:20260419T082840
CREATED:20251227T174400Z
LAST-MODIFIED:20260314T014619Z
UID:10036863-1781206200-1781211600@www.aa87.org
SUMMARY:Comité Services aux groupes
DESCRIPTION:Réunion mensuelle virtuelle seulement. 2 jeudi. \nSalle 3 \nJoindre la réunion\n \nID de le réunion : 91087779314\nCode secret: 1234
URL:https://www.aa87.org/evenement/comite-services-aux-groupes-2/2026-06-11/
CATEGORIES:Comités / Committees
LOCATION:
END:VEVENT
BEGIN:VEVENT
DTSTART;TZID=America/Toronto:20260910T193000
DTEND;TZID=America/Toronto:20260910T210000
DTSTAMP:20260419T082840
CREATED:20251227T174400Z
LAST-MODIFIED:20260314T014619Z
UID:10036864-1789068600-1789074000@www.aa87.org
SUMMARY:Comité Services aux groupes
DESCRIPTION:Réunion mensuelle virtuelle seulement. 2 jeudi. \nSalle 3 \nJoindre la réunion\n \nID de le réunion : 91087779314\nCode secret: 1234
URL:https://www.aa87.org/evenement/comite-services-aux-groupes-2/2026-09-10/
CATEGORIES:Comités / Committees
LOCATION:
END:VEVENT
BEGIN:VEVENT
DTSTART;TZID=America/Toronto:20261008T193000
DTEND;TZID=America/Toronto:20261008T210000
DTSTAMP:20260419T082840
CREATED:20251227T174400Z
LAST-MODIFIED:20260314T014619Z
UID:10036865-1791487800-1791493200@www.aa87.org
SUMMARY:Comité Services aux groupes
DESCRIPTION:Réunion mensuelle virtuelle seulement. 2 jeudi. \nSalle 3 \nJoindre la réunion\n \nID de le réunion : 91087779314\nCode secret: 1234
URL:https://www.aa87.org/evenement/comite-services-aux-groupes-2/2026-10-08/
CATEGORIES:Comités / Committees
LOCATION:
END:VEVENT
BEGIN:VEVENT
DTSTART;TZID=America/Toronto:20261112T193000
DTEND;TZID=America/Toronto:20261112T210000
DTSTAMP:20260419T082840
CREATED:20251227T174400Z
LAST-MODIFIED:20260314T014619Z
UID:10036866-1794511800-1794517200@www.aa87.org
SUMMARY:Comité Services aux groupes
DESCRIPTION:Réunion mensuelle virtuelle seulement. 2 jeudi. \nSalle 3 \nJoindre la réunion\n \nID de le réunion : 91087779314\nCode secret: 1234
URL:https://www.aa87.org/evenement/comite-services-aux-groupes-2/2026-11-12/
CATEGORIES:Comités / Committees
LOCATION:
END:VEVENT
BEGIN:VEVENT
DTSTART;TZID=America/Toronto:20261210T193000
DTEND;TZID=America/Toronto:20261210T210000
DTSTAMP:20260419T082840
CREATED:20251227T174400Z
LAST-MODIFIED:20260314T014619Z
UID:10036867-1796931000-1796936400@www.aa87.org
SUMMARY:Comité Services aux groupes
DESCRIPTION:Réunion mensuelle virtuelle seulement. 2 jeudi. \nSalle 3 \nJoindre la réunion\n \nID de le réunion : 91087779314\nCode secret: 1234
URL:https://www.aa87.org/evenement/comite-services-aux-groupes-2/2026-12-10/
CATEGORIES:Comités / Committees
LOCATION:
END:VEVENT
BEGIN:VEVENT
DTSTART;TZID=America/Toronto:20270114T193000
DTEND;TZID=America/Toronto:20270114T210000
DTSTAMP:20260419T082840
CREATED:20251227T174400Z
LAST-MODIFIED:20260314T014619Z
UID:10036868-1799955000-1799960400@www.aa87.org
SUMMARY:Comité Services aux groupes
DESCRIPTION:Réunion mensuelle virtuelle seulement. 2 jeudi. \nSalle 3 \nJoindre la réunion\n \nID de le réunion : 91087779314\nCode secret: 1234
URL:https://www.aa87.org/evenement/comite-services-aux-groupes-2/2027-01-14/
CATEGORIES:Comités / Committees
LOCATION:
END:VEVENT
BEGIN:VEVENT
DTSTART;TZID=America/Toronto:20270211T193000
DTEND;TZID=America/Toronto:20270211T210000
DTSTAMP:20260419T082840
CREATED:20251227T174400Z
LAST-MODIFIED:20260314T014619Z
UID:10036869-1802374200-1802379600@www.aa87.org
SUMMARY:Comité Services aux groupes
DESCRIPTION:Réunion mensuelle virtuelle seulement. 2 jeudi. \nSalle 3 \nJoindre la réunion\n \nID de le réunion : 91087779314\nCode secret: 1234
URL:https://www.aa87.org/evenement/comite-services-aux-groupes-2/2027-02-11/
CATEGORIES:Comités / Committees
LOCATION:
END:VEVENT
BEGIN:VEVENT
DTSTART;TZID=America/Toronto:20270311T193000
DTEND;TZID=America/Toronto:20270311T210000
DTSTAMP:20260419T082840
CREATED:20251227T174400Z
LAST-MODIFIED:20260314T014619Z
UID:10036870-1804793400-1804798800@www.aa87.org
SUMMARY:Comité Services aux groupes
DESCRIPTION:Réunion mensuelle virtuelle seulement. 2 jeudi. \nSalle 3 \nJoindre la réunion\n \nID de le réunion : 91087779314\nCode secret: 1234
URL:https://www.aa87.org/evenement/comite-services-aux-groupes-2/2027-03-11/
CATEGORIES:Comités / Committees
LOCATION:
END:VEVENT
BEGIN:VEVENT
DTSTART;TZID=America/Toronto:20270408T193000
DTEND;TZID=America/Toronto:20270408T210000
DTSTAMP:20260419T082840
CREATED:20251227T174400Z
LAST-MODIFIED:20260314T014619Z
UID:10036871-1807212600-1807218000@www.aa87.org
SUMMARY:Comité Services aux groupes
DESCRIPTION:Réunion mensuelle virtuelle seulement. 2 jeudi. \nSalle 3 \nJoindre la réunion\n \nID de le réunion : 91087779314\nCode secret: 1234
URL:https://www.aa87.org/evenement/comite-services-aux-groupes-2/2027-04-08/
CATEGORIES:Comités / Committees
LOCATION:
END:VEVENT
BEGIN:VEVENT
DTSTART;TZID=America/Toronto:20270513T193000
DTEND;TZID=America/Toronto:20270513T210000
DTSTAMP:20260419T082840
CREATED:20251227T174400Z
LAST-MODIFIED:20260314T014619Z
UID:10036872-1810236600-1810242000@www.aa87.org
SUMMARY:Comité Services aux groupes
DESCRIPTION:Réunion mensuelle virtuelle seulement. 2 jeudi. \nSalle 3 \nJoindre la réunion\n \nID de le réunion : 91087779314\nCode secret: 1234
URL:https://www.aa87.org/evenement/comite-services-aux-groupes-2/2027-05-13/
CATEGORIES:Comités / Committees
LOCATION:
END:VEVENT
BEGIN:VEVENT
DTSTART;TZID=America/Toronto:20270610T193000
DTEND;TZID=America/Toronto:20270610T210000
DTSTAMP:20260419T082840
CREATED:20251227T174400Z
LAST-MODIFIED:20260314T014619Z
UID:10036873-1812655800-1812661200@www.aa87.org
SUMMARY:Comité Services aux groupes
DESCRIPTION:Réunion mensuelle virtuelle seulement. 2 jeudi. \nSalle 3 \nJoindre la réunion\n \nID de le réunion : 91087779314\nCode secret: 1234
URL:https://www.aa87.org/evenement/comite-services-aux-groupes-2/2027-06-10/
CATEGORIES:Comités / Committees
LOCATION:
END:VEVENT
BEGIN:VEVENT
DTSTART;TZID=America/Toronto:20270708T193000
DTEND;TZID=America/Toronto:20270708T210000
DTSTAMP:20260419T082840
CREATED:20251227T174400Z
LAST-MODIFIED:20260314T014619Z
UID:10036874-1815075000-1815080400@www.aa87.org
SUMMARY:Comité Services aux groupes
DESCRIPTION:Réunion mensuelle virtuelle seulement. 2 jeudi. \nSalle 3 \nJoindre la réunion\n \nID de le réunion : 91087779314\nCode secret: 1234
URL:https://www.aa87.org/evenement/comite-services-aux-groupes-2/2027-07-08/
CATEGORIES:Comités / Committees
LOCATION:
END:VEVENT
BEGIN:VEVENT
DTSTART;TZID=America/Toronto:20270812T193000
DTEND;TZID=America/Toronto:20270812T210000
DTSTAMP:20260419T082840
CREATED:20251227T174400Z
LAST-MODIFIED:20260314T014619Z
UID:10036875-1818099000-1818104400@www.aa87.org
SUMMARY:Comité Services aux groupes
DESCRIPTION:Réunion mensuelle virtuelle seulement. 2 jeudi. \nSalle 3 \nJoindre la réunion\n \nID de le réunion : 91087779314\nCode secret: 1234
URL:https://www.aa87.org/evenement/comite-services-aux-groupes-2/2027-08-12/
CATEGORIES:Comités / Committees
LOCATION:
END:VEVENT
BEGIN:VEVENT
DTSTART;TZID=America/Toronto:20270909T193000
DTEND;TZID=America/Toronto:20270909T210000
DTSTAMP:20260419T082840
CREATED:20251227T174400Z
LAST-MODIFIED:20260314T014619Z
UID:10036876-1820518200-1820523600@www.aa87.org
SUMMARY:Comité Services aux groupes
DESCRIPTION:Réunion mensuelle virtuelle seulement. 2 jeudi. \nSalle 3 \nJoindre la réunion\n \nID de le réunion : 91087779314\nCode secret: 1234
URL:https://www.aa87.org/evenement/comite-services-aux-groupes-2/2027-09-09/
CATEGORIES:Comités / Committees
LOCATION:
END:VEVENT
BEGIN:VEVENT
DTSTART;TZID=America/Toronto:20271014T193000
DTEND;TZID=America/Toronto:20271014T210000
DTSTAMP:20260419T082840
CREATED:20251227T174400Z
LAST-MODIFIED:20260314T014619Z
UID:10036877-1823542200-1823547600@www.aa87.org
SUMMARY:Comité Services aux groupes
DESCRIPTION:Réunion mensuelle virtuelle seulement. 2 jeudi. \nSalle 3 \nJoindre la réunion\n \nID de le réunion : 91087779314\nCode secret: 1234
URL:https://www.aa87.org/evenement/comite-services-aux-groupes-2/2027-10-14/
CATEGORIES:Comités / Committees
LOCATION:
END:VEVENT
BEGIN:VEVENT
DTSTART;TZID=America/Toronto:20271111T193000
DTEND;TZID=America/Toronto:20271111T210000
DTSTAMP:20260419T082840
CREATED:20251227T174400Z
LAST-MODIFIED:20260314T014619Z
UID:10036878-1825961400-1825966800@www.aa87.org
SUMMARY:Comité Services aux groupes
DESCRIPTION:Réunion mensuelle virtuelle seulement. 2 jeudi. \nSalle 3 \nJoindre la réunion\n \nID de le réunion : 91087779314\nCode secret: 1234
URL:https://www.aa87.org/evenement/comite-services-aux-groupes-2/2027-11-11/
CATEGORIES:Comités / Committees
LOCATION:
END:VEVENT
BEGIN:VEVENT
DTSTART;TZID=America/Toronto:20271209T193000
DTEND;TZID=America/Toronto:20271209T210000
DTSTAMP:20260419T082840
CREATED:20251227T174400Z
LAST-MODIFIED:20260314T014619Z
UID:10036879-1828380600-1828386000@www.aa87.org
SUMMARY:Comité Services aux groupes
DESCRIPTION:Réunion mensuelle virtuelle seulement. 2 jeudi. \nSalle 3 \nJoindre la réunion\n \nID de le réunion : 91087779314\nCode secret: 1234
URL:https://www.aa87.org/evenement/comite-services-aux-groupes-2/2027-12-09/
CATEGORIES:Comités / Committees
LOCATION:
END:VEVENT
BEGIN:VEVENT
DTSTART;TZID=America/Toronto:20280113T193000
DTEND;TZID=America/Toronto:20280113T210000
DTSTAMP:20260419T082841
CREATED:20251227T174400Z
LAST-MODIFIED:20260314T014619Z
UID:10036880-1831404600-1831410000@www.aa87.org
SUMMARY:Comité Services aux groupes
DESCRIPTION:Réunion mensuelle virtuelle seulement. 2 jeudi. \nSalle 3 \nJoindre la réunion\n \nID de le réunion : 91087779314\nCode secret: 1234
URL:https://www.aa87.org/evenement/comite-services-aux-groupes-2/2028-01-13/
CATEGORIES:Comités / Committees
LOCATION:
END:VEVENT
BEGIN:VEVENT
DTSTART;TZID=America/Toronto:20280210T193000
DTEND;TZID=America/Toronto:20280210T210000
DTSTAMP:20260419T082841
CREATED:20251227T174400Z
LAST-MODIFIED:20260314T014619Z
UID:10036881-1833823800-1833829200@www.aa87.org
SUMMARY:Comité Services aux groupes
DESCRIPTION:Réunion mensuelle virtuelle seulement. 2 jeudi. \nSalle 3 \nJoindre la réunion\n \nID de le réunion : 91087779314\nCode secret: 1234
URL:https://www.aa87.org/evenement/comite-services-aux-groupes-2/2028-02-10/
CATEGORIES:Comités / Committees
LOCATION:
END:VEVENT
BEGIN:VEVENT
DTSTART;TZID=America/Toronto:20280309T193000
DTEND;TZID=America/Toronto:20280309T210000
DTSTAMP:20260419T082841
CREATED:20251227T174400Z
LAST-MODIFIED:20260314T014619Z
UID:10036882-1836243000-1836248400@www.aa87.org
SUMMARY:Comité Services aux groupes
DESCRIPTION:Réunion mensuelle virtuelle seulement. 2 jeudi. \nSalle 3 \nJoindre la réunion\n \nID de le réunion : 91087779314\nCode secret: 1234
URL:https://www.aa87.org/evenement/comite-services-aux-groupes-2/2028-03-09/
CATEGORIES:Comités / Committees
LOCATION:
END:VEVENT
BEGIN:VEVENT
DTSTART;TZID=America/Toronto:20280413T193000
DTEND;TZID=America/Toronto:20280413T210000
DTSTAMP:20260419T082841
CREATED:20251227T174400Z
LAST-MODIFIED:20260314T014619Z
UID:10036883-1839267000-1839272400@www.aa87.org
SUMMARY:Comité Services aux groupes
DESCRIPTION:Réunion mensuelle virtuelle seulement. 2 jeudi. \nSalle 3 \nJoindre la réunion\n \nID de le réunion : 91087779314\nCode secret: 1234
URL:https://www.aa87.org/evenement/comite-services-aux-groupes-2/2028-04-13/
CATEGORIES:Comités / Committees
LOCATION:
END:VEVENT
BEGIN:VEVENT
DTSTART;TZID=America/Toronto:20280511T193000
DTEND;TZID=America/Toronto:20280511T210000
DTSTAMP:20260419T082841
CREATED:20251227T174400Z
LAST-MODIFIED:20260314T014619Z
UID:10036884-1841686200-1841691600@www.aa87.org
SUMMARY:Comité Services aux groupes
DESCRIPTION:Réunion mensuelle virtuelle seulement. 2 jeudi. \nSalle 3 \nJoindre la réunion\n \nID de le réunion : 91087779314\nCode secret: 1234
URL:https://www.aa87.org/evenement/comite-services-aux-groupes-2/2028-05-11/
CATEGORIES:Comités / Committees
LOCATION:
END:VEVENT
BEGIN:VEVENT
DTSTART;TZID=America/Toronto:20280608T193000
DTEND;TZID=America/Toronto:20280608T210000
DTSTAMP:20260419T082841
CREATED:20251227T174400Z
LAST-MODIFIED:20260314T014619Z
UID:10036885-1844105400-1844110800@www.aa87.org
SUMMARY:Comité Services aux groupes
DESCRIPTION:Réunion mensuelle virtuelle seulement. 2 jeudi. \nSalle 3 \nJoindre la réunion\n \nID de le réunion : 91087779314\nCode secret: 1234
URL:https://www.aa87.org/evenement/comite-services-aux-groupes-2/2028-06-08/
CATEGORIES:Comités / Committees
LOCATION:
END:VEVENT
BEGIN:VEVENT
DTSTART;TZID=America/Toronto:20280713T193000
DTEND;TZID=America/Toronto:20280713T210000
DTSTAMP:20260419T082841
CREATED:20251227T174400Z
LAST-MODIFIED:20260314T014619Z
UID:10036886-1847129400-1847134800@www.aa87.org
SUMMARY:Comité Services aux groupes
DESCRIPTION:Réunion mensuelle virtuelle seulement. 2 jeudi. \nSalle 3 \nJoindre la réunion\n \nID de le réunion : 91087779314\nCode secret: 1234
URL:https://www.aa87.org/evenement/comite-services-aux-groupes-2/2028-07-13/
CATEGORIES:Comités / Committees
LOCATION:
END:VEVENT
BEGIN:VEVENT
DTSTART;TZID=America/Toronto:20280810T193000
DTEND;TZID=America/Toronto:20280810T210000
DTSTAMP:20260419T082841
CREATED:20251227T174400Z
LAST-MODIFIED:20260314T014619Z
UID:10036887-1849548600-1849554000@www.aa87.org
SUMMARY:Comité Services aux groupes
DESCRIPTION:Réunion mensuelle virtuelle seulement. 2 jeudi. \nSalle 3 \nJoindre la réunion\n \nID de le réunion : 91087779314\nCode secret: 1234
URL:https://www.aa87.org/evenement/comite-services-aux-groupes-2/2028-08-10/
CATEGORIES:Comités / Committees
LOCATION:
END:VEVENT
BEGIN:VEVENT
DTSTART;TZID=America/Toronto:20280914T193000
DTEND;TZID=America/Toronto:20280914T210000
DTSTAMP:20260419T082841
CREATED:20251227T174400Z
LAST-MODIFIED:20260314T014619Z
UID:10036888-1852572600-1852578000@www.aa87.org
SUMMARY:Comité Services aux groupes
DESCRIPTION:Réunion mensuelle virtuelle seulement. 2 jeudi. \nSalle 3 \nJoindre la réunion\n \nID de le réunion : 91087779314\nCode secret: 1234
URL:https://www.aa87.org/evenement/comite-services-aux-groupes-2/2028-09-14/
CATEGORIES:Comités / Committees
LOCATION:
END:VEVENT
BEGIN:VEVENT
DTSTART;TZID=America/Toronto:20281012T193000
DTEND;TZID=America/Toronto:20281012T210000
DTSTAMP:20260419T082841
CREATED:20251227T174400Z
LAST-MODIFIED:20260314T014619Z
UID:10036889-1854991800-1854997200@www.aa87.org
SUMMARY:Comité Services aux groupes
DESCRIPTION:Réunion mensuelle virtuelle seulement. 2 jeudi. \nSalle 3 \nJoindre la réunion\n \nID de le réunion : 91087779314\nCode secret: 1234
URL:https://www.aa87.org/evenement/comite-services-aux-groupes-2/2028-10-12/
CATEGORIES:Comités / Committees
LOCATION:
END:VEVENT
BEGIN:VEVENT
DTSTART;TZID=America/Toronto:20281109T193000
DTEND;TZID=America/Toronto:20281109T210000
DTSTAMP:20260419T082841
CREATED:20251227T174400Z
LAST-MODIFIED:20260314T014619Z
UID:10036890-1857411000-1857416400@www.aa87.org
SUMMARY:Comité Services aux groupes
DESCRIPTION:Réunion mensuelle virtuelle seulement. 2 jeudi. \nSalle 3 \nJoindre la réunion\n \nID de le réunion : 91087779314\nCode secret: 1234
URL:https://www.aa87.org/evenement/comite-services-aux-groupes-2/2028-11-09/
CATEGORIES:Comités / Committees
LOCATION:
END:VEVENT
BEGIN:VEVENT
DTSTART;TZID=America/Toronto:20281214T193000
DTEND;TZID=America/Toronto:20281214T210000
DTSTAMP:20260419T082841
CREATED:20251227T174400Z
LAST-MODIFIED:20260314T014619Z
UID:10036891-1860435000-1860440400@www.aa87.org
SUMMARY:Comité Services aux groupes
DESCRIPTION:Réunion mensuelle virtuelle seulement. 2 jeudi. \nSalle 3 \nJoindre la réunion\n \nID de le réunion : 91087779314\nCode secret: 1234
URL:https://www.aa87.org/evenement/comite-services-aux-groupes-2/2028-12-14/
CATEGORIES:Comités / Committees
LOCATION:
END:VEVENT
END:VCALENDAR