BEGIN:VCALENDAR
VERSION:2.0
PRODID:-//Alcooliques Anonymes Région 87 - ECPv6.15.17//NONSGML v1.0//EN
CALSCALE:GREGORIAN
METHOD:PUBLISH
X-WR-CALNAME:Alcooliques Anonymes Région 87
X-ORIGINAL-URL:https://www.aa87.org
X-WR-CALDESC:Évènements pour Alcooliques Anonymes Région 87
REFRESH-INTERVAL;VALUE=DURATION:PT1H
X-Robots-Tag:noindex
X-PUBLISHED-TTL:PT1H
BEGIN:VTIMEZONE
TZID:America/Toronto
BEGIN:DAYLIGHT
TZOFFSETFROM:-0500
TZOFFSETTO:-0400
TZNAME:EDT
DTSTART:20270314T070000
END:DAYLIGHT
BEGIN:STANDARD
TZOFFSETFROM:-0400
TZOFFSETTO:-0500
TZNAME:EST
DTSTART:20271107T060000
END:STANDARD
BEGIN:DAYLIGHT
TZOFFSETFROM:-0500
TZOFFSETTO:-0400
TZNAME:EDT
DTSTART:20280312T070000
END:DAYLIGHT
BEGIN:STANDARD
TZOFFSETFROM:-0400
TZOFFSETTO:-0500
TZNAME:EST
DTSTART:20281105T060000
END:STANDARD
BEGIN:DAYLIGHT
TZOFFSETFROM:-0500
TZOFFSETTO:-0400
TZNAME:EDT
DTSTART:20290311T070000
END:DAYLIGHT
BEGIN:STANDARD
TZOFFSETFROM:-0400
TZOFFSETTO:-0500
TZNAME:EST
DTSTART:20291104T060000
END:STANDARD
BEGIN:DAYLIGHT
TZOFFSETFROM:-0500
TZOFFSETTO:-0400
TZNAME:EDT
DTSTART:20300310T070000
END:DAYLIGHT
BEGIN:STANDARD
TZOFFSETFROM:-0400
TZOFFSETTO:-0500
TZNAME:EST
DTSTART:20301103T060000
END:STANDARD
BEGIN:DAYLIGHT
TZOFFSETFROM:-0500
TZOFFSETTO:-0400
TZNAME:EDT
DTSTART:20310309T070000
END:DAYLIGHT
BEGIN:STANDARD
TZOFFSETFROM:-0400
TZOFFSETTO:-0500
TZNAME:EST
DTSTART:20311102T060000
END:STANDARD
BEGIN:DAYLIGHT
TZOFFSETFROM:-0500
TZOFFSETTO:-0400
TZNAME:EDT
DTSTART:20320314T070000
END:DAYLIGHT
BEGIN:STANDARD
TZOFFSETFROM:-0400
TZOFFSETTO:-0500
TZNAME:EST
DTSTART:20321107T060000
END:STANDARD
BEGIN:DAYLIGHT
TZOFFSETFROM:-0500
TZOFFSETTO:-0400
TZNAME:EDT
DTSTART:20330313T070000
END:DAYLIGHT
BEGIN:STANDARD
TZOFFSETFROM:-0400
TZOFFSETTO:-0500
TZNAME:EST
DTSTART:20331106T060000
END:STANDARD
BEGIN:DAYLIGHT
TZOFFSETFROM:-0500
TZOFFSETTO:-0400
TZNAME:EDT
DTSTART:20340312T070000
END:DAYLIGHT
BEGIN:STANDARD
TZOFFSETFROM:-0400
TZOFFSETTO:-0500
TZNAME:EST
DTSTART:20341105T060000
END:STANDARD
BEGIN:DAYLIGHT
TZOFFSETFROM:-0500
TZOFFSETTO:-0400
TZNAME:EDT
DTSTART:20350311T070000
END:DAYLIGHT
BEGIN:STANDARD
TZOFFSETFROM:-0400
TZOFFSETTO:-0500
TZNAME:EST
DTSTART:20351104T060000
END:STANDARD
BEGIN:DAYLIGHT
TZOFFSETFROM:-0500
TZOFFSETTO:-0400
TZNAME:EDT
DTSTART:20360309T070000
END:DAYLIGHT
BEGIN:STANDARD
TZOFFSETFROM:-0400
TZOFFSETTO:-0500
TZNAME:EST
DTSTART:20361102T060000
END:STANDARD
BEGIN:DAYLIGHT
TZOFFSETFROM:-0500
TZOFFSETTO:-0400
TZNAME:EDT
DTSTART:20370308T070000
END:DAYLIGHT
BEGIN:STANDARD
TZOFFSETFROM:-0400
TZOFFSETTO:-0500
TZNAME:EST
DTSTART:20371101T060000
END:STANDARD
BEGIN:DAYLIGHT
TZOFFSETFROM:-0500
TZOFFSETTO:-0400
TZNAME:EDT
DTSTART:20380314T070000
END:DAYLIGHT
BEGIN:STANDARD
TZOFFSETFROM:-0400
TZOFFSETTO:-0500
TZNAME:EST
DTSTART:20381107T060000
END:STANDARD
BEGIN:DAYLIGHT
TZOFFSETFROM:-0500
TZOFFSETTO:-0400
TZNAME:EDT
DTSTART:20390313T070000
END:DAYLIGHT
BEGIN:STANDARD
TZOFFSETFROM:-0400
TZOFFSETTO:-0500
TZNAME:EST
DTSTART:20391106T060000
END:STANDARD
BEGIN:DAYLIGHT
TZOFFSETFROM:-0500
TZOFFSETTO:-0400
TZNAME:EDT
DTSTART:20400311T070000
END:DAYLIGHT
BEGIN:STANDARD
TZOFFSETFROM:-0400
TZOFFSETTO:-0500
TZNAME:EST
DTSTART:20401104T060000
END:STANDARD
BEGIN:DAYLIGHT
TZOFFSETFROM:-0500
TZOFFSETTO:-0400
TZNAME:EDT
DTSTART:20410310T070000
END:DAYLIGHT
BEGIN:STANDARD
TZOFFSETFROM:-0400
TZOFFSETTO:-0500
TZNAME:EST
DTSTART:20411103T060000
END:STANDARD
BEGIN:DAYLIGHT
TZOFFSETFROM:-0500
TZOFFSETTO:-0400
TZNAME:EDT
DTSTART:20420309T070000
END:DAYLIGHT
BEGIN:STANDARD
TZOFFSETFROM:-0400
TZOFFSETTO:-0500
TZNAME:EST
DTSTART:20421102T060000
END:STANDARD
BEGIN:DAYLIGHT
TZOFFSETFROM:-0500
TZOFFSETTO:-0400
TZNAME:EDT
DTSTART:20430308T070000
END:DAYLIGHT
BEGIN:STANDARD
TZOFFSETFROM:-0400
TZOFFSETTO:-0500
TZNAME:EST
DTSTART:20431101T060000
END:STANDARD
BEGIN:DAYLIGHT
TZOFFSETFROM:-0500
TZOFFSETTO:-0400
TZNAME:EDT
DTSTART:20440313T070000
END:DAYLIGHT
BEGIN:STANDARD
TZOFFSETFROM:-0400
TZOFFSETTO:-0500
TZNAME:EST
DTSTART:20441106T060000
END:STANDARD
BEGIN:DAYLIGHT
TZOFFSETFROM:-0500
TZOFFSETTO:-0400
TZNAME:EDT
DTSTART:20450312T070000
END:DAYLIGHT
BEGIN:STANDARD
TZOFFSETFROM:-0400
TZOFFSETTO:-0500
TZNAME:EST
DTSTART:20451105T060000
END:STANDARD
BEGIN:DAYLIGHT
TZOFFSETFROM:-0500
TZOFFSETTO:-0400
TZNAME:EDT
DTSTART:20460311T070000
END:DAYLIGHT
BEGIN:STANDARD
TZOFFSETFROM:-0400
TZOFFSETTO:-0500
TZNAME:EST
DTSTART:20461104T060000
END:STANDARD
BEGIN:DAYLIGHT
TZOFFSETFROM:-0500
TZOFFSETTO:-0400
TZNAME:EDT
DTSTART:20470310T070000
END:DAYLIGHT
BEGIN:STANDARD
TZOFFSETFROM:-0400
TZOFFSETTO:-0500
TZNAME:EST
DTSTART:20471103T060000
END:STANDARD
BEGIN:DAYLIGHT
TZOFFSETFROM:-0500
TZOFFSETTO:-0400
TZNAME:EDT
DTSTART:20480308T070000
END:DAYLIGHT
BEGIN:STANDARD
TZOFFSETFROM:-0400
TZOFFSETTO:-0500
TZNAME:EST
DTSTART:20481101T060000
END:STANDARD
BEGIN:DAYLIGHT
TZOFFSETFROM:-0500
TZOFFSETTO:-0400
TZNAME:EDT
DTSTART:20490314T070000
END:DAYLIGHT
BEGIN:STANDARD
TZOFFSETFROM:-0400
TZOFFSETTO:-0500
TZNAME:EST
DTSTART:20491107T060000
END:STANDARD
BEGIN:DAYLIGHT
TZOFFSETFROM:-0500
TZOFFSETTO:-0400
TZNAME:EDT
DTSTART:20500313T070000
END:DAYLIGHT
BEGIN:STANDARD
TZOFFSETFROM:-0400
TZOFFSETTO:-0500
TZNAME:EST
DTSTART:20501106T060000
END:STANDARD
BEGIN:DAYLIGHT
TZOFFSETFROM:-0500
TZOFFSETTO:-0400
TZNAME:EDT
DTSTART:20510312T070000
END:DAYLIGHT
BEGIN:STANDARD
TZOFFSETFROM:-0400
TZOFFSETTO:-0500
TZNAME:EST
DTSTART:20511105T060000
END:STANDARD
BEGIN:DAYLIGHT
TZOFFSETFROM:-0500
TZOFFSETTO:-0400
TZNAME:EDT
DTSTART:20520310T070000
END:DAYLIGHT
BEGIN:STANDARD
TZOFFSETFROM:-0400
TZOFFSETTO:-0500
TZNAME:EST
DTSTART:20521103T060000
END:STANDARD
BEGIN:DAYLIGHT
TZOFFSETFROM:-0500
TZOFFSETTO:-0400
TZNAME:EDT
DTSTART:20530309T070000
END:DAYLIGHT
BEGIN:STANDARD
TZOFFSETFROM:-0400
TZOFFSETTO:-0500
TZNAME:EST
DTSTART:20531102T060000
END:STANDARD
BEGIN:DAYLIGHT
TZOFFSETFROM:-0500
TZOFFSETTO:-0400
TZNAME:EDT
DTSTART:20540308T070000
END:DAYLIGHT
BEGIN:STANDARD
TZOFFSETFROM:-0400
TZOFFSETTO:-0500
TZNAME:EST
DTSTART:20541101T060000
END:STANDARD
BEGIN:DAYLIGHT
TZOFFSETFROM:-0500
TZOFFSETTO:-0400
TZNAME:EDT
DTSTART:20550314T070000
END:DAYLIGHT
BEGIN:STANDARD
TZOFFSETFROM:-0400
TZOFFSETTO:-0500
TZNAME:EST
DTSTART:20551107T060000
END:STANDARD
BEGIN:DAYLIGHT
TZOFFSETFROM:-0500
TZOFFSETTO:-0400
TZNAME:EDT
DTSTART:20560312T070000
END:DAYLIGHT
BEGIN:STANDARD
TZOFFSETFROM:-0400
TZOFFSETTO:-0500
TZNAME:EST
DTSTART:20561105T060000
END:STANDARD
BEGIN:DAYLIGHT
TZOFFSETFROM:-0500
TZOFFSETTO:-0400
TZNAME:EDT
DTSTART:20570311T070000
END:DAYLIGHT
BEGIN:STANDARD
TZOFFSETFROM:-0400
TZOFFSETTO:-0500
TZNAME:EST
DTSTART:20571104T060000
END:STANDARD
BEGIN:DAYLIGHT
TZOFFSETFROM:-0500
TZOFFSETTO:-0400
TZNAME:EDT
DTSTART:20580310T070000
END:DAYLIGHT
BEGIN:STANDARD
TZOFFSETFROM:-0400
TZOFFSETTO:-0500
TZNAME:EST
DTSTART:20581103T060000
END:STANDARD
BEGIN:DAYLIGHT
TZOFFSETFROM:-0500
TZOFFSETTO:-0400
TZNAME:EDT
DTSTART:20590309T070000
END:DAYLIGHT
BEGIN:STANDARD
TZOFFSETFROM:-0400
TZOFFSETTO:-0500
TZNAME:EST
DTSTART:20591102T060000
END:STANDARD
BEGIN:DAYLIGHT
TZOFFSETFROM:-0500
TZOFFSETTO:-0400
TZNAME:EDT
DTSTART:20600314T070000
END:DAYLIGHT
BEGIN:STANDARD
TZOFFSETFROM:-0400
TZOFFSETTO:-0500
TZNAME:EST
DTSTART:20601107T060000
END:STANDARD
BEGIN:DAYLIGHT
TZOFFSETFROM:-0500
TZOFFSETTO:-0400
TZNAME:EDT
DTSTART:20610313T070000
END:DAYLIGHT
BEGIN:STANDARD
TZOFFSETFROM:-0400
TZOFFSETTO:-0500
TZNAME:EST
DTSTART:20611106T060000
END:STANDARD
END:VTIMEZONE
BEGIN:VEVENT
DTSTART;VALUE=DATE:20280229
DTEND;VALUE=DATE:20280301
DTSTAMP:20260422T231640
CREATED:20260419T232758Z
LAST-MODIFIED:20260420T000838Z
UID:10042096-1835395200-1835481599@www.aa87.org
SUMMARY:Réflexion quotidienne 29 février
DESCRIPTION:Un Miracle AA\n29 février\n\nSauf à quelques occasions\, l’idée de boire n’est plus jamais revenue ; dans ces moments-là\, il était pris d’une grande répulsion. Apparemment\, même s’il l’avait voulu\, il n’aurait pas pu boire. Dieu lui avait rendu la raison. \nLes Alcooliques Anonymes\, p. 64 \nLe mot « Dieu » m’a fait peur la première fois que je l’ai vu dans les Douze Étapes des AA. Après avoir tenté par tous les moyens d’arrêter de boire\, j’ai constaté qu’il m’était impossible d’entretenir le désir d’être abstinent pendant une certaine période. Mais comment croire en un « Dieu » qui avait permis que je me noie dans le profond désespoir qui m’envahissait\, que je boive ou non ? \nLa clé\, c’était d’admettre finalement la possibilité qu’une puissance plus grande que la mienne puisse me donner la grâce de la sobriété\, à la condition que je sois disposé à « croire ». En admettant finalement que j’étais un parmi plusieurs et\, à l’instar de mon parrain et d’autres membres des AA\, en pratiquant une foi que je n’avais pas\, ma vie a trouvé un sens\, une direction et un but. \n\nTous les Réflexions quotidiennes
URL:https://www.aa87.org/evenement/reflexion-quotidienne-29-fevrier/2028-02-29/
CATEGORIES:Réflexions Quotidiennes
END:VEVENT
BEGIN:VEVENT
DTSTART;VALUE=DATE:20320229
DTEND;VALUE=DATE:20320301
DTSTAMP:20260422T231640
CREATED:20260419T232758Z
LAST-MODIFIED:20260420T000838Z
UID:10042099-1961698119-1961698119@www.aa87.org
SUMMARY:Réflexion quotidienne 29 février
DESCRIPTION:Un Miracle AA\n29 février\n\nSauf à quelques occasions\, l’idée de boire n’est plus jamais revenue ; dans ces moments-là\, il était pris d’une grande répulsion. Apparemment\, même s’il l’avait voulu\, il n’aurait pas pu boire. Dieu lui avait rendu la raison. \nLes Alcooliques Anonymes\, p. 64 \nLe mot « Dieu » m’a fait peur la première fois que je l’ai vu dans les Douze Étapes des AA. Après avoir tenté par tous les moyens d’arrêter de boire\, j’ai constaté qu’il m’était impossible d’entretenir le désir d’être abstinent pendant une certaine période. Mais comment croire en un « Dieu » qui avait permis que je me noie dans le profond désespoir qui m’envahissait\, que je boive ou non ? \nLa clé\, c’était d’admettre finalement la possibilité qu’une puissance plus grande que la mienne puisse me donner la grâce de la sobriété\, à la condition que je sois disposé à « croire ». En admettant finalement que j’étais un parmi plusieurs et\, à l’instar de mon parrain et d’autres membres des AA\, en pratiquant une foi que je n’avais pas\, ma vie a trouvé un sens\, une direction et un but. \n\nTous les Réflexions quotidiennes
URL:https://www.aa87.org/evenement/reflexion-quotidienne-29-fevrier/2032-02-29/
CATEGORIES:Réflexions Quotidiennes
END:VEVENT
BEGIN:VEVENT
DTSTART;VALUE=DATE:20360229
DTEND;VALUE=DATE:20360301
DTSTAMP:20260422T231640
CREATED:20260419T232758Z
LAST-MODIFIED:20260420T000838Z
UID:10042100-2087928519-2087928519@www.aa87.org
SUMMARY:Réflexion quotidienne 29 février
DESCRIPTION:Un Miracle AA\n29 février\n\nSauf à quelques occasions\, l’idée de boire n’est plus jamais revenue ; dans ces moments-là\, il était pris d’une grande répulsion. Apparemment\, même s’il l’avait voulu\, il n’aurait pas pu boire. Dieu lui avait rendu la raison. \nLes Alcooliques Anonymes\, p. 64 \nLe mot « Dieu » m’a fait peur la première fois que je l’ai vu dans les Douze Étapes des AA. Après avoir tenté par tous les moyens d’arrêter de boire\, j’ai constaté qu’il m’était impossible d’entretenir le désir d’être abstinent pendant une certaine période. Mais comment croire en un « Dieu » qui avait permis que je me noie dans le profond désespoir qui m’envahissait\, que je boive ou non ? \nLa clé\, c’était d’admettre finalement la possibilité qu’une puissance plus grande que la mienne puisse me donner la grâce de la sobriété\, à la condition que je sois disposé à « croire ». En admettant finalement que j’étais un parmi plusieurs et\, à l’instar de mon parrain et d’autres membres des AA\, en pratiquant une foi que je n’avais pas\, ma vie a trouvé un sens\, une direction et un but. \n\nTous les Réflexions quotidiennes
URL:https://www.aa87.org/evenement/reflexion-quotidienne-29-fevrier/2036-02-29/
CATEGORIES:Réflexions Quotidiennes
END:VEVENT
BEGIN:VEVENT
DTSTART;VALUE=DATE:20400229
DTEND;VALUE=DATE:20400301
DTSTAMP:20260422T231640
CREATED:20260419T232758Z
LAST-MODIFIED:20260420T000838Z
UID:10042101-2214158919-2214158919@www.aa87.org
SUMMARY:Réflexion quotidienne 29 février
DESCRIPTION:Un Miracle AA\n29 février\n\nSauf à quelques occasions\, l’idée de boire n’est plus jamais revenue ; dans ces moments-là\, il était pris d’une grande répulsion. Apparemment\, même s’il l’avait voulu\, il n’aurait pas pu boire. Dieu lui avait rendu la raison. \nLes Alcooliques Anonymes\, p. 64 \nLe mot « Dieu » m’a fait peur la première fois que je l’ai vu dans les Douze Étapes des AA. Après avoir tenté par tous les moyens d’arrêter de boire\, j’ai constaté qu’il m’était impossible d’entretenir le désir d’être abstinent pendant une certaine période. Mais comment croire en un « Dieu » qui avait permis que je me noie dans le profond désespoir qui m’envahissait\, que je boive ou non ? \nLa clé\, c’était d’admettre finalement la possibilité qu’une puissance plus grande que la mienne puisse me donner la grâce de la sobriété\, à la condition que je sois disposé à « croire ». En admettant finalement que j’étais un parmi plusieurs et\, à l’instar de mon parrain et d’autres membres des AA\, en pratiquant une foi que je n’avais pas\, ma vie a trouvé un sens\, une direction et un but. \n\nTous les Réflexions quotidiennes
URL:https://www.aa87.org/evenement/reflexion-quotidienne-29-fevrier/2040-02-29/
CATEGORIES:Réflexions Quotidiennes
END:VEVENT
BEGIN:VEVENT
DTSTART;VALUE=DATE:20440229
DTEND;VALUE=DATE:20440301
DTSTAMP:20260422T231640
CREATED:20260419T232758Z
LAST-MODIFIED:20260420T000838Z
UID:10042102-2340389319-2340389319@www.aa87.org
SUMMARY:Réflexion quotidienne 29 février
DESCRIPTION:Un Miracle AA\n29 février\n\nSauf à quelques occasions\, l’idée de boire n’est plus jamais revenue ; dans ces moments-là\, il était pris d’une grande répulsion. Apparemment\, même s’il l’avait voulu\, il n’aurait pas pu boire. Dieu lui avait rendu la raison. \nLes Alcooliques Anonymes\, p. 64 \nLe mot « Dieu » m’a fait peur la première fois que je l’ai vu dans les Douze Étapes des AA. Après avoir tenté par tous les moyens d’arrêter de boire\, j’ai constaté qu’il m’était impossible d’entretenir le désir d’être abstinent pendant une certaine période. Mais comment croire en un « Dieu » qui avait permis que je me noie dans le profond désespoir qui m’envahissait\, que je boive ou non ? \nLa clé\, c’était d’admettre finalement la possibilité qu’une puissance plus grande que la mienne puisse me donner la grâce de la sobriété\, à la condition que je sois disposé à « croire ». En admettant finalement que j’étais un parmi plusieurs et\, à l’instar de mon parrain et d’autres membres des AA\, en pratiquant une foi que je n’avais pas\, ma vie a trouvé un sens\, une direction et un but. \n\nTous les Réflexions quotidiennes
URL:https://www.aa87.org/evenement/reflexion-quotidienne-29-fevrier/2044-02-29/
CATEGORIES:Réflexions Quotidiennes
END:VEVENT
BEGIN:VEVENT
DTSTART;VALUE=DATE:20480229
DTEND;VALUE=DATE:20480301
DTSTAMP:20260422T231640
CREATED:20260419T232758Z
LAST-MODIFIED:20260420T000838Z
UID:10042103-2466619719-2466619719@www.aa87.org
SUMMARY:Réflexion quotidienne 29 février
DESCRIPTION:Un Miracle AA\n29 février\n\nSauf à quelques occasions\, l’idée de boire n’est plus jamais revenue ; dans ces moments-là\, il était pris d’une grande répulsion. Apparemment\, même s’il l’avait voulu\, il n’aurait pas pu boire. Dieu lui avait rendu la raison. \nLes Alcooliques Anonymes\, p. 64 \nLe mot « Dieu » m’a fait peur la première fois que je l’ai vu dans les Douze Étapes des AA. Après avoir tenté par tous les moyens d’arrêter de boire\, j’ai constaté qu’il m’était impossible d’entretenir le désir d’être abstinent pendant une certaine période. Mais comment croire en un « Dieu » qui avait permis que je me noie dans le profond désespoir qui m’envahissait\, que je boive ou non ? \nLa clé\, c’était d’admettre finalement la possibilité qu’une puissance plus grande que la mienne puisse me donner la grâce de la sobriété\, à la condition que je sois disposé à « croire ». En admettant finalement que j’étais un parmi plusieurs et\, à l’instar de mon parrain et d’autres membres des AA\, en pratiquant une foi que je n’avais pas\, ma vie a trouvé un sens\, une direction et un but. \n\nTous les Réflexions quotidiennes
URL:https://www.aa87.org/evenement/reflexion-quotidienne-29-fevrier/2048-02-29/
CATEGORIES:Réflexions Quotidiennes
END:VEVENT
BEGIN:VEVENT
DTSTART;VALUE=DATE:20520229
DTEND;VALUE=DATE:20520301
DTSTAMP:20260422T231640
CREATED:20260419T232758Z
LAST-MODIFIED:20260420T000838Z
UID:10042104-2592850119-2592850119@www.aa87.org
SUMMARY:Réflexion quotidienne 29 février
DESCRIPTION:Un Miracle AA\n29 février\n\nSauf à quelques occasions\, l’idée de boire n’est plus jamais revenue ; dans ces moments-là\, il était pris d’une grande répulsion. Apparemment\, même s’il l’avait voulu\, il n’aurait pas pu boire. Dieu lui avait rendu la raison. \nLes Alcooliques Anonymes\, p. 64 \nLe mot « Dieu » m’a fait peur la première fois que je l’ai vu dans les Douze Étapes des AA. Après avoir tenté par tous les moyens d’arrêter de boire\, j’ai constaté qu’il m’était impossible d’entretenir le désir d’être abstinent pendant une certaine période. Mais comment croire en un « Dieu » qui avait permis que je me noie dans le profond désespoir qui m’envahissait\, que je boive ou non ? \nLa clé\, c’était d’admettre finalement la possibilité qu’une puissance plus grande que la mienne puisse me donner la grâce de la sobriété\, à la condition que je sois disposé à « croire ». En admettant finalement que j’étais un parmi plusieurs et\, à l’instar de mon parrain et d’autres membres des AA\, en pratiquant une foi que je n’avais pas\, ma vie a trouvé un sens\, une direction et un but. \n\nTous les Réflexions quotidiennes
URL:https://www.aa87.org/evenement/reflexion-quotidienne-29-fevrier/2052-02-29/
CATEGORIES:Réflexions Quotidiennes
END:VEVENT
BEGIN:VEVENT
DTSTART;VALUE=DATE:20560229
DTEND;VALUE=DATE:20560301
DTSTAMP:20260422T231640
CREATED:20260419T232758Z
LAST-MODIFIED:20260420T000838Z
UID:10042105-2719080519-2719080519@www.aa87.org
SUMMARY:Réflexion quotidienne 29 février
DESCRIPTION:Un Miracle AA\n29 février\n\nSauf à quelques occasions\, l’idée de boire n’est plus jamais revenue ; dans ces moments-là\, il était pris d’une grande répulsion. Apparemment\, même s’il l’avait voulu\, il n’aurait pas pu boire. Dieu lui avait rendu la raison. \nLes Alcooliques Anonymes\, p. 64 \nLe mot « Dieu » m’a fait peur la première fois que je l’ai vu dans les Douze Étapes des AA. Après avoir tenté par tous les moyens d’arrêter de boire\, j’ai constaté qu’il m’était impossible d’entretenir le désir d’être abstinent pendant une certaine période. Mais comment croire en un « Dieu » qui avait permis que je me noie dans le profond désespoir qui m’envahissait\, que je boive ou non ? \nLa clé\, c’était d’admettre finalement la possibilité qu’une puissance plus grande que la mienne puisse me donner la grâce de la sobriété\, à la condition que je sois disposé à « croire ». En admettant finalement que j’étais un parmi plusieurs et\, à l’instar de mon parrain et d’autres membres des AA\, en pratiquant une foi que je n’avais pas\, ma vie a trouvé un sens\, une direction et un but. \n\nTous les Réflexions quotidiennes
URL:https://www.aa87.org/evenement/reflexion-quotidienne-29-fevrier/2056-02-29/
CATEGORIES:Réflexions Quotidiennes
END:VEVENT
BEGIN:VEVENT
DTSTART;VALUE=DATE:20600229
DTEND;VALUE=DATE:20600301
DTSTAMP:20260422T231640
CREATED:20260419T232758Z
LAST-MODIFIED:20260420T000838Z
UID:10042106-2845310919-2845310919@www.aa87.org
SUMMARY:Réflexion quotidienne 29 février
DESCRIPTION:Un Miracle AA\n29 février\n\nSauf à quelques occasions\, l’idée de boire n’est plus jamais revenue ; dans ces moments-là\, il était pris d’une grande répulsion. Apparemment\, même s’il l’avait voulu\, il n’aurait pas pu boire. Dieu lui avait rendu la raison. \nLes Alcooliques Anonymes\, p. 64 \nLe mot « Dieu » m’a fait peur la première fois que je l’ai vu dans les Douze Étapes des AA. Après avoir tenté par tous les moyens d’arrêter de boire\, j’ai constaté qu’il m’était impossible d’entretenir le désir d’être abstinent pendant une certaine période. Mais comment croire en un « Dieu » qui avait permis que je me noie dans le profond désespoir qui m’envahissait\, que je boive ou non ? \nLa clé\, c’était d’admettre finalement la possibilité qu’une puissance plus grande que la mienne puisse me donner la grâce de la sobriété\, à la condition que je sois disposé à « croire ». En admettant finalement que j’étais un parmi plusieurs et\, à l’instar de mon parrain et d’autres membres des AA\, en pratiquant une foi que je n’avais pas\, ma vie a trouvé un sens\, une direction et un but. \n\nTous les Réflexions quotidiennes
URL:https://www.aa87.org/evenement/reflexion-quotidienne-29-fevrier/2060-02-29/
CATEGORIES:Réflexions Quotidiennes
END:VEVENT
END:VCALENDAR