BEGIN:VCALENDAR
VERSION:2.0
PRODID:-//Alcooliques Anonymes Région 87 - ECPv6.15.17//NONSGML v1.0//EN
CALSCALE:GREGORIAN
METHOD:PUBLISH
X-WR-CALNAME:Alcooliques Anonymes Région 87
X-ORIGINAL-URL:https://www.aa87.org
X-WR-CALDESC:Évènements pour Alcooliques Anonymes Région 87
REFRESH-INTERVAL;VALUE=DURATION:PT1H
X-Robots-Tag:noindex
X-PUBLISHED-TTL:PT1H
BEGIN:VTIMEZONE
TZID:America/Toronto
BEGIN:DAYLIGHT
TZOFFSETFROM:-0500
TZOFFSETTO:-0400
TZNAME:EDT
DTSTART:20230312T070000
END:DAYLIGHT
BEGIN:STANDARD
TZOFFSETFROM:-0400
TZOFFSETTO:-0500
TZNAME:EST
DTSTART:20231105T060000
END:STANDARD
BEGIN:DAYLIGHT
TZOFFSETFROM:-0500
TZOFFSETTO:-0400
TZNAME:EDT
DTSTART:20240310T070000
END:DAYLIGHT
BEGIN:STANDARD
TZOFFSETFROM:-0400
TZOFFSETTO:-0500
TZNAME:EST
DTSTART:20241103T060000
END:STANDARD
BEGIN:DAYLIGHT
TZOFFSETFROM:-0500
TZOFFSETTO:-0400
TZNAME:EDT
DTSTART:20250309T070000
END:DAYLIGHT
BEGIN:STANDARD
TZOFFSETFROM:-0400
TZOFFSETTO:-0500
TZNAME:EST
DTSTART:20251102T060000
END:STANDARD
BEGIN:DAYLIGHT
TZOFFSETFROM:-0500
TZOFFSETTO:-0400
TZNAME:EDT
DTSTART:20260308T070000
END:DAYLIGHT
BEGIN:STANDARD
TZOFFSETFROM:-0400
TZOFFSETTO:-0500
TZNAME:EST
DTSTART:20261101T060000
END:STANDARD
BEGIN:DAYLIGHT
TZOFFSETFROM:-0500
TZOFFSETTO:-0400
TZNAME:EDT
DTSTART:20270314T070000
END:DAYLIGHT
BEGIN:STANDARD
TZOFFSETFROM:-0400
TZOFFSETTO:-0500
TZNAME:EST
DTSTART:20271107T060000
END:STANDARD
END:VTIMEZONE
BEGIN:VEVENT
DTSTART;TZID=America/Toronto:20260402T193000
DTEND;TZID=America/Toronto:20260402T213000
DTSTAMP:20260419T132813
CREATED:20251231T040549Z
LAST-MODIFIED:20260313T173725Z
UID:10014217-1775158200-1775165400@www.aa87.org
SUMMARY:Réunion des RSG du District 87-14
DESCRIPTION:Rencontre mensuelle hybride \nSalle 5 \nJoindre la réunion\n \n  \nID de réunion: 924 7313 7786\nCode secret: 1234
URL:https://www.aa87.org/evenement/district-14-2-2-2/2026-04-02/
LOCATION:3225 rue Courchesne Sorel-Tracy  Local 210\, 3225 rue Courchesne\, Sorel-Tracy\, QC\, J3R 3A7\, Canada
ORGANIZER;CN="District 14%2C Sorel%2C Tracy et environs":MAILTO:district14@aa87.org
END:VEVENT
BEGIN:VEVENT
DTSTART;TZID=America/Toronto:20260305T193000
DTEND;TZID=America/Toronto:20260305T213000
DTSTAMP:20260419T132813
CREATED:20251231T040549Z
LAST-MODIFIED:20260313T173725Z
UID:10036451-1772739000-1772746200@www.aa87.org
SUMMARY:Réunion des RSG du District 87-14
DESCRIPTION:Rencontre mensuelle hybride \nSalle 5 \nJoindre la réunion\n \n  \nID de réunion: 924 7313 7786\nCode secret: 1234
URL:https://www.aa87.org/evenement/district-14-2-2-2/2026-03-05/
LOCATION:3225 rue Courchesne Sorel-Tracy  Local 210\, 3225 rue Courchesne\, Sorel-Tracy\, QC\, J3R 3A7\, Canada
ORGANIZER;CN="District 14%2C Sorel%2C Tracy et environs":MAILTO:district14@aa87.org
END:VEVENT
BEGIN:VEVENT
DTSTART;TZID=America/Toronto:20260205T193000
DTEND;TZID=America/Toronto:20260205T213000
DTSTAMP:20260419T132813
CREATED:20251231T040549Z
LAST-MODIFIED:20260313T173725Z
UID:10014216-1770319800-1770327000@www.aa87.org
SUMMARY:Réunion des RSG du District 87-14
DESCRIPTION:Rencontre mensuelle hybride \nSalle 5 \nJoindre la réunion\n \n  \nID de réunion: 924 7313 7786\nCode secret: 1234
URL:https://www.aa87.org/evenement/district-14-2-2-2/2026-02-05/
LOCATION:3225 rue Courchesne Sorel-Tracy  Local 210\, 3225 rue Courchesne\, Sorel-Tracy\, QC\, J3R 3A7\, Canada
ORGANIZER;CN="District 14%2C Sorel%2C Tracy et environs":MAILTO:district14@aa87.org
END:VEVENT
BEGIN:VEVENT
DTSTART;TZID=America/Toronto:20260108T193000
DTEND;TZID=America/Toronto:20260108T213000
DTSTAMP:20260419T132813
CREATED:20251231T040549Z
LAST-MODIFIED:20260313T173725Z
UID:10036453-1767900600-1767907800@www.aa87.org
SUMMARY:Réunion des RSG du District 87-14
DESCRIPTION:Rencontre mensuelle hybride \nSalle 5 \nJoindre la réunion\n \n  \nID de réunion: 924 7313 7786\nCode secret: 1234
URL:https://www.aa87.org/evenement/district-14-2-2-2/2026-01-08/
LOCATION:3225 rue Courchesne Sorel-Tracy  Local 210\, 3225 rue Courchesne\, Sorel-Tracy\, QC\, J3R 3A7\, Canada
ORGANIZER;CN="District 14%2C Sorel%2C Tracy et environs":MAILTO:district14@aa87.org
END:VEVENT
BEGIN:VEVENT
DTSTART;TZID=America/Toronto:20251204T193000
DTEND;TZID=America/Toronto:20251204T213000
DTSTAMP:20260419T132813
CREATED:20241217T205207Z
LAST-MODIFIED:20241218T013855Z
UID:10014213-1764876600-1764883800@www.aa87.org
SUMMARY:Réunion des RSG du District 87-14
DESCRIPTION:Réunion mensuelle en présence.
URL:https://www.aa87.org/evenement/district-14-2/2025-12-04/
LOCATION:3225 rue Courchesne Sorel-Tracy  Local 210\, 3225 rue Courchesne\, Sorel-Tracy\, QC\, J3R 3A7\, Canada
CATEGORIES:Activité / Activity,District 14,District AA87
ORGANIZER;CN="District 14%2C Sorel%2C Tracy et environs":MAILTO:district14@aa87.org
END:VEVENT
BEGIN:VEVENT
DTSTART;TZID=America/Toronto:20251106T193000
DTEND;TZID=America/Toronto:20251106T213000
DTSTAMP:20260419T132813
CREATED:20241217T205207Z
LAST-MODIFIED:20241218T013855Z
UID:10014212-1762457400-1762464600@www.aa87.org
SUMMARY:Réunion des RSG du District 87-14
DESCRIPTION:Réunion mensuelle en présence.
URL:https://www.aa87.org/evenement/district-14-2/2025-11-06/
LOCATION:3225 rue Courchesne Sorel-Tracy  Local 210\, 3225 rue Courchesne\, Sorel-Tracy\, QC\, J3R 3A7\, Canada
CATEGORIES:Activité / Activity,District 14,District AA87
ORGANIZER;CN="District 14%2C Sorel%2C Tracy et environs":MAILTO:district14@aa87.org
END:VEVENT
BEGIN:VEVENT
DTSTART;TZID=America/Toronto:20251002T193000
DTEND;TZID=America/Toronto:20251002T213000
DTSTAMP:20260419T132813
CREATED:20241217T205207Z
LAST-MODIFIED:20241218T013855Z
UID:10014211-1759433400-1759440600@www.aa87.org
SUMMARY:Réunion des RSG du District 87-14
DESCRIPTION:Réunion mensuelle en présence.
URL:https://www.aa87.org/evenement/district-14-2/2025-10-02/
LOCATION:3225 rue Courchesne Sorel-Tracy  Local 210\, 3225 rue Courchesne\, Sorel-Tracy\, QC\, J3R 3A7\, Canada
CATEGORIES:Activité / Activity,District 14,District AA87
ORGANIZER;CN="District 14%2C Sorel%2C Tracy et environs":MAILTO:district14@aa87.org
END:VEVENT
BEGIN:VEVENT
DTSTART;TZID=America/Toronto:20250904T193000
DTEND;TZID=America/Toronto:20250904T213000
DTSTAMP:20260419T132813
CREATED:20241217T205207Z
LAST-MODIFIED:20241218T013855Z
UID:10014210-1757014200-1757021400@www.aa87.org
SUMMARY:Réunion des RSG du District 87-14
DESCRIPTION:Réunion mensuelle en présence.
URL:https://www.aa87.org/evenement/district-14-2/2025-09-04/
LOCATION:3225 rue Courchesne Sorel-Tracy  Local 210\, 3225 rue Courchesne\, Sorel-Tracy\, QC\, J3R 3A7\, Canada
CATEGORIES:Activité / Activity,District 14,District AA87
ORGANIZER;CN="District 14%2C Sorel%2C Tracy et environs":MAILTO:district14@aa87.org
END:VEVENT
BEGIN:VEVENT
DTSTART;TZID=America/Toronto:20250605T193000
DTEND;TZID=America/Toronto:20250605T213000
DTSTAMP:20260419T132813
CREATED:20241217T205207Z
LAST-MODIFIED:20241218T013855Z
UID:10014207-1749151800-1749159000@www.aa87.org
SUMMARY:Réunion des RSG du District 87-14
DESCRIPTION:Réunion mensuelle en présence.
URL:https://www.aa87.org/evenement/district-14-2/2025-06-05/
LOCATION:3225 rue Courchesne Sorel-Tracy  Local 210\, 3225 rue Courchesne\, Sorel-Tracy\, QC\, J3R 3A7\, Canada
CATEGORIES:Activité / Activity,District 14,District AA87
ORGANIZER;CN="District 14%2C Sorel%2C Tracy et environs":MAILTO:district14@aa87.org
END:VEVENT
BEGIN:VEVENT
DTSTART;TZID=America/Toronto:20250501T193000
DTEND;TZID=America/Toronto:20250501T213000
DTSTAMP:20260419T132813
CREATED:20241217T205207Z
LAST-MODIFIED:20241218T013855Z
UID:10014206-1746127800-1746135000@www.aa87.org
SUMMARY:Réunion des RSG du District 87-14
DESCRIPTION:Réunion mensuelle en présence.
URL:https://www.aa87.org/evenement/district-14-2/2025-05-01/
LOCATION:3225 rue Courchesne Sorel-Tracy  Local 210\, 3225 rue Courchesne\, Sorel-Tracy\, QC\, J3R 3A7\, Canada
CATEGORIES:Activité / Activity,District 14,District AA87
ORGANIZER;CN="District 14%2C Sorel%2C Tracy et environs":MAILTO:district14@aa87.org
END:VEVENT
BEGIN:VEVENT
DTSTART;TZID=America/Toronto:20250403T193000
DTEND;TZID=America/Toronto:20250403T213000
DTSTAMP:20260419T132813
CREATED:20241217T205207Z
LAST-MODIFIED:20241218T013855Z
UID:10014205-1743708600-1743715800@www.aa87.org
SUMMARY:Réunion des RSG du District 87-14
DESCRIPTION:Réunion mensuelle en présence.
URL:https://www.aa87.org/evenement/district-14-2/2025-04-03/
LOCATION:3225 rue Courchesne Sorel-Tracy  Local 210\, 3225 rue Courchesne\, Sorel-Tracy\, QC\, J3R 3A7\, Canada
CATEGORIES:Activité / Activity,District 14,District AA87
ORGANIZER;CN="District 14%2C Sorel%2C Tracy et environs":MAILTO:district14@aa87.org
END:VEVENT
BEGIN:VEVENT
DTSTART;TZID=America/Toronto:20250306T193000
DTEND;TZID=America/Toronto:20250306T213000
DTSTAMP:20260419T132813
CREATED:20241217T205207Z
LAST-MODIFIED:20241218T013855Z
UID:10014204-1741289400-1741296600@www.aa87.org
SUMMARY:Réunion des RSG du District 87-14
DESCRIPTION:Réunion mensuelle en présence.
URL:https://www.aa87.org/evenement/district-14-2/2025-03-06/
LOCATION:3225 rue Courchesne Sorel-Tracy  Local 210\, 3225 rue Courchesne\, Sorel-Tracy\, QC\, J3R 3A7\, Canada
CATEGORIES:Activité / Activity,District 14,District AA87
ORGANIZER;CN="District 14%2C Sorel%2C Tracy et environs":MAILTO:district14@aa87.org
END:VEVENT
BEGIN:VEVENT
DTSTART;TZID=America/Toronto:20250206T193000
DTEND;TZID=America/Toronto:20250206T213000
DTSTAMP:20260419T132813
CREATED:20241217T205207Z
LAST-MODIFIED:20241218T013855Z
UID:10014203-1738870200-1738877400@www.aa87.org
SUMMARY:Réunion des RSG du District 87-14
DESCRIPTION:Réunion mensuelle en présence.
URL:https://www.aa87.org/evenement/district-14-2/2025-02-06/
LOCATION:3225 rue Courchesne Sorel-Tracy  Local 210\, 3225 rue Courchesne\, Sorel-Tracy\, QC\, J3R 3A7\, Canada
CATEGORIES:Activité / Activity,District 14,District AA87
ORGANIZER;CN="District 14%2C Sorel%2C Tracy et environs":MAILTO:district14@aa87.org
END:VEVENT
BEGIN:VEVENT
DTSTART;TZID=America/Toronto:20250102T193000
DTEND;TZID=America/Toronto:20250102T213000
DTSTAMP:20260419T132813
CREATED:20241217T205207Z
LAST-MODIFIED:20241218T013855Z
UID:10014202-1735846200-1735853400@www.aa87.org
SUMMARY:Réunion des RSG du District 87-14
DESCRIPTION:Réunion mensuelle en présence.
URL:https://www.aa87.org/evenement/district-14-2/2025-01-02/
LOCATION:3225 rue Courchesne Sorel-Tracy  Local 210\, 3225 rue Courchesne\, Sorel-Tracy\, QC\, J3R 3A7\, Canada
CATEGORIES:Activité / Activity,District 14,District AA87
ORGANIZER;CN="District 14%2C Sorel%2C Tracy et environs":MAILTO:district14@aa87.org
END:VEVENT
BEGIN:VEVENT
DTSTART;TZID=America/Toronto:20241205T193000
DTEND;TZID=America/Toronto:20241205T213000
DTSTAMP:20260419T132813
CREATED:20241217T205207Z
LAST-MODIFIED:20241218T013855Z
UID:10009689-1733427000-1733434200@www.aa87.org
SUMMARY:Réunion des RSG du District 87-14
DESCRIPTION:Réunion mensuelle en présence.
URL:https://www.aa87.org/evenement/district-14-2/2024-12-05/
LOCATION:3225 rue Courchesne Sorel-Tracy  Local 210\, 3225 rue Courchesne\, Sorel-Tracy\, QC\, J3R 3A7\, Canada
CATEGORIES:Activité / Activity,District 14,District AA87
ORGANIZER;CN="District 14%2C Sorel%2C Tracy et environs":MAILTO:district14@aa87.org
END:VEVENT
BEGIN:VEVENT
DTSTART;TZID=America/Toronto:20241107T193000
DTEND;TZID=America/Toronto:20241107T213000
DTSTAMP:20260419T132813
CREATED:20240322T030612Z
LAST-MODIFIED:20241110T003100Z
UID:10009688-1731007800-1731015000@www.aa87.org
SUMMARY:District 14
DESCRIPTION:La réunion est maintenent en présentiel seulement à une nouvelle adresse.
URL:https://www.aa87.org/evenement/district-14/2024-11-07/
LOCATION:3225 rue Courchesne Sorel-Tracy  Local 210\, 3225 rue Courchesne\, Sorel-Tracy\, QC\, J3R 3A7\, Canada
CATEGORIES:Activité / Activity,District 14,District AA87
ORGANIZER;CN="District 14%2C Sorel%2C Tracy et environs":MAILTO:district14@aa87.org
END:VEVENT
BEGIN:VEVENT
DTSTART;TZID=America/Toronto:20241003T193000
DTEND;TZID=America/Toronto:20241003T213000
DTSTAMP:20260419T132813
CREATED:20240322T030612Z
LAST-MODIFIED:20241110T003100Z
UID:10009687-1727983800-1727991000@www.aa87.org
SUMMARY:District 14
DESCRIPTION:La réunion est maintenent en présentiel seulement à une nouvelle adresse.
URL:https://www.aa87.org/evenement/district-14/2024-10-03/
LOCATION:3225 rue Courchesne Sorel-Tracy  Local 210\, 3225 rue Courchesne\, Sorel-Tracy\, QC\, J3R 3A7\, Canada
CATEGORIES:Activité / Activity,District 14,District AA87
ORGANIZER;CN="District 14%2C Sorel%2C Tracy et environs":MAILTO:district14@aa87.org
END:VEVENT
BEGIN:VEVENT
DTSTART;TZID=America/Toronto:20240905T193000
DTEND;TZID=America/Toronto:20240905T213000
DTSTAMP:20260419T132813
CREATED:20240322T030612Z
LAST-MODIFIED:20241110T003100Z
UID:10009686-1725564600-1725571800@www.aa87.org
SUMMARY:District 14
DESCRIPTION:La réunion est maintenent en présentiel seulement à une nouvelle adresse.
URL:https://www.aa87.org/evenement/district-14/2024-09-05/
LOCATION:3225 rue Courchesne Sorel-Tracy  Local 210\, 3225 rue Courchesne\, Sorel-Tracy\, QC\, J3R 3A7\, Canada
CATEGORIES:Activité / Activity,District 14,District AA87
ORGANIZER;CN="District 14%2C Sorel%2C Tracy et environs":MAILTO:district14@aa87.org
END:VEVENT
BEGIN:VEVENT
DTSTART;TZID=America/Toronto:20240606T193000
DTEND;TZID=America/Toronto:20240606T213000
DTSTAMP:20260419T132813
CREATED:20240322T030612Z
LAST-MODIFIED:20241110T003100Z
UID:10009685-1717702200-1717709400@www.aa87.org
SUMMARY:District 14
DESCRIPTION:La réunion est maintenent en présentiel seulement à une nouvelle adresse.
URL:https://www.aa87.org/evenement/district-14/2024-06-06/
LOCATION:3225 rue Courchesne Sorel-Tracy  Local 210\, 3225 rue Courchesne\, Sorel-Tracy\, QC\, J3R 3A7\, Canada
CATEGORIES:Activité / Activity,District 14,District AA87
ORGANIZER;CN="District 14%2C Sorel%2C Tracy et environs":MAILTO:district14@aa87.org
END:VEVENT
BEGIN:VEVENT
DTSTART;TZID=America/Toronto:20240502T193000
DTEND;TZID=America/Toronto:20240502T213000
DTSTAMP:20260419T132813
CREATED:20240322T030612Z
LAST-MODIFIED:20241110T003100Z
UID:10009684-1714678200-1714685400@www.aa87.org
SUMMARY:District 14
DESCRIPTION:La réunion est maintenent en présentiel seulement à une nouvelle adresse.
URL:https://www.aa87.org/evenement/district-14/2024-05-02/
LOCATION:3225 rue Courchesne Sorel-Tracy  Local 210\, 3225 rue Courchesne\, Sorel-Tracy\, QC\, J3R 3A7\, Canada
CATEGORIES:Activité / Activity,District 14,District AA87
ORGANIZER;CN="District 14%2C Sorel%2C Tracy et environs":MAILTO:district14@aa87.org
END:VEVENT
BEGIN:VEVENT
DTSTART;TZID=America/Toronto:20240404T193000
DTEND;TZID=America/Toronto:20240404T213000
DTSTAMP:20260419T132813
CREATED:20240322T030612Z
LAST-MODIFIED:20241110T003100Z
UID:10009683-1712259000-1712266200@www.aa87.org
SUMMARY:District 14
DESCRIPTION:La réunion est maintenent en présentiel seulement à une nouvelle adresse.
URL:https://www.aa87.org/evenement/district-14/2024-04-04/
LOCATION:3225 rue Courchesne Sorel-Tracy  Local 210\, 3225 rue Courchesne\, Sorel-Tracy\, QC\, J3R 3A7\, Canada
CATEGORIES:Activité / Activity,District 14,District AA87
ORGANIZER;CN="District 14%2C Sorel%2C Tracy et environs":MAILTO:district14@aa87.org
END:VEVENT
END:VCALENDAR