BEGIN:VCALENDAR
VERSION:2.0
PRODID:-//Alcooliques Anonymes Région 87 - ECPv6.15.17//NONSGML v1.0//EN
CALSCALE:GREGORIAN
METHOD:PUBLISH
X-ORIGINAL-URL:https://www.aa87.org
X-WR-CALDESC:Évènements pour Alcooliques Anonymes Région 87
REFRESH-INTERVAL;VALUE=DURATION:PT1H
X-Robots-Tag:noindex
X-PUBLISHED-TTL:PT1H
BEGIN:VTIMEZONE
TZID:America/Toronto
BEGIN:DAYLIGHT
TZOFFSETFROM:-0500
TZOFFSETTO:-0400
TZNAME:EDT
DTSTART:20250309T070000
END:DAYLIGHT
BEGIN:STANDARD
TZOFFSETFROM:-0400
TZOFFSETTO:-0500
TZNAME:EST
DTSTART:20251102T060000
END:STANDARD
BEGIN:DAYLIGHT
TZOFFSETFROM:-0500
TZOFFSETTO:-0400
TZNAME:EDT
DTSTART:20260308T070000
END:DAYLIGHT
BEGIN:STANDARD
TZOFFSETFROM:-0400
TZOFFSETTO:-0500
TZNAME:EST
DTSTART:20261101T060000
END:STANDARD
BEGIN:DAYLIGHT
TZOFFSETFROM:-0500
TZOFFSETTO:-0400
TZNAME:EDT
DTSTART:20270314T070000
END:DAYLIGHT
BEGIN:STANDARD
TZOFFSETFROM:-0400
TZOFFSETTO:-0500
TZNAME:EST
DTSTART:20271107T060000
END:STANDARD
END:VTIMEZONE
BEGIN:VEVENT
DTSTART;TZID=America/Toronto:20260420T190000
DTEND;TZID=America/Toronto:20260420T210000
DTSTAMP:20260421T084035
CREATED:20241218T003040Z
LAST-MODIFIED:20260320T123550Z
UID:10014381-1776711600-1776718800@www.aa87.org
SUMMARY:Réunion des RSG du District 87-02
DESCRIPTION:Réunion mensuelle hybride. \nSalle 2 \nJoindre la réunion\n \n  \nID de réunion : 918 2068 6211 \nCode secret : 1234
URL:https://www.aa87.org/evenement/district-02-2-2/2026-04-20/
LOCATION:BSR / ASO\, 3920\, rue Rachel Est\, Montréal QC\, H1X 1Z3\, 3920\, Rachel Est\, Montréal\, Québec\, H1X 1Z3\, Canada
CATEGORIES:District 02
ORGANIZER;CN="District 2%2C Rosemont%2C St-Michel%2C Villeray":MAILTO:district02@aa87.org
END:VEVENT
BEGIN:VEVENT
DTSTART;TZID=America/Toronto:20260418T093000
DTEND;TZID=America/Toronto:20260418T120000
DTSTAMP:20260421T084035
CREATED:20260216T003819Z
LAST-MODIFIED:20260314T155127Z
UID:10038085-1776504600-1776513600@www.aa87.org
SUMMARY:Réunion du Comité des Centres de Détention
DESCRIPTION:Hybride\n\nBureau des services régionnaux\n3920\, rue Rachel Est\nMontréal (Québec) H1X 1Z3\n\nSalle 1\n\n\nJoindre la réunion\n\n  \n\nID de réunion : 944 7943 6712\nCode secret : 1234
URL:https://www.aa87.org/evenement/reunion-du-comite-des-centres-de-detention/2026-04-18/
LOCATION:BSR / ASO\, 3920\, rue Rachel Est\, Montréal QC\, H1X 1Z3\, 3920\, Rachel Est\, Montréal\, Québec\, H1X 1Z3\, Canada
CATEGORIES:Centres de détention,Comités / Committees
END:VEVENT
BEGIN:VEVENT
DTSTART;TZID=America/Toronto:20260415T190000
DTEND;TZID=America/Toronto:20260415T210000
DTSTAMP:20260421T084035
CREATED:20260207T134530Z
LAST-MODIFIED:20260220T181748Z
UID:10038359-1776279600-1776286800@www.aa87.org
SUMMARY:Journée des Centres de détention
DESCRIPTION:Réunion chaque troisième mercredi du mois en présence.
URL:https://www.aa87.org/evenement/centres-de-detention-4-2-2/2026-04-15/
LOCATION:BSR / ASO\, 3920\, rue Rachel Est\, Montréal QC\, H1X 1Z3\, 3920\, Rachel Est\, Montréal\, Québec\, H1X 1Z3\, Canada
CATEGORIES:Activité / Activity,Centres de détention,Comités / Committees
END:VEVENT
BEGIN:VEVENT
DTSTART;TZID=America/Toronto:20260414T190000
DTEND;TZID=America/Toronto:20260414T210000
DTSTAMP:20260421T084035
CREATED:20260327T151328Z
LAST-MODIFIED:20260327T153342Z
UID:10040237-1776193200-1776200400@www.aa87.org
SUMMARY:Réunion des RSG du District 87-10
DESCRIPTION:Réunion mensuelle hybride \nSalle 2 \nJoindre la réunion\n \n  \nID de réunion : 918 2068 6211\nCode secret : 1234
URL:https://www.aa87.org/evenement/district-10-2-2-2/2026-04-14/
LOCATION:BSR / ASO\, 3920\, rue Rachel Est\, Montréal QC\, H1X 1Z3\, 3920\, Rachel Est\, Montréal\, Québec\, H1X 1Z3\, Canada
CATEGORIES:District 10
END:VEVENT
BEGIN:VEVENT
DTSTART;TZID=America/Toronto:20260408T190000
DTEND;TZID=America/Toronto:20260408T210000
DTSTAMP:20260421T084035
CREATED:20241218T001817Z
LAST-MODIFIED:20260313T175408Z
UID:10014781-1775674800-1775682000@www.aa87.org
SUMMARY:Réunion des RSG du District 87-01
DESCRIPTION:Réunion mensuelle hybride. \nSalle 2 \nJoindre la réunion\n \n  \nID de réunion : 918 2068 6211\nCode secret : 1234
URL:https://www.aa87.org/evenement/district-01-2/2026-04-08/
LOCATION:BSR / ASO\, 3920\, rue Rachel Est\, Montréal QC\, H1X 1Z3\, 3920\, Rachel Est\, Montréal\, Québec\, H1X 1Z3\, Canada
ORGANIZER;CN="District 1%2C Montr%C3%A9al%2C Outremont%2C C%C3%B4te-des-Neiges":MAILTO:district01@aa87.org
END:VEVENT
BEGIN:VEVENT
DTSTART;TZID=America/Toronto:20260406T190000
DTEND;TZID=America/Toronto:20260406T210000
DTSTAMP:20260421T084035
CREATED:20241217T005615Z
LAST-MODIFIED:20260302T004538Z
UID:10013978-1775502000-1775509200@www.aa87.org
SUMMARY:Réunion des RSG du District 87-19
DESCRIPTION:Réunion mensuelle hybride. \nSalle 2 \nJoindre la réunion\n \nID de réunion : 918 2068 6211\nCode secret : 1234
URL:https://www.aa87.org/evenement/district-19-2-2/2026-04-06/
LOCATION:BSR / ASO\, 3920\, rue Rachel Est\, Montréal QC\, H1X 1Z3\, 3920\, Rachel Est\, Montréal\, Québec\, H1X 1Z3\, Canada
CATEGORIES:Activité / Activity,District 19
ORGANIZER;CN="District 19%2C Montreal%2C Westmount":MAILTO:district19@aa87.org
END:VEVENT
BEGIN:VEVENT
DTSTART;TZID=America/Toronto:20260405T140000
DTEND;TZID=America/Toronto:20260405T160000
DTSTAMP:20260421T084035
CREATED:20260214T021105Z
LAST-MODIFIED:20260302T004343Z
UID:10038178-1775397600-1775404800@www.aa87.org
SUMMARY:Réunion du comité MONQYPAA
DESCRIPTION:Réunion Hybride \nEn présence \nBureau des services de la Région 87\n3920\, rue Rachel Est\nMontréal (Québec) H1X 1Z3\nMapIt \nJoindre la réunion\n\n  \nID de réunion: 924 7313 7786\nCode secret: 1234
URL:https://www.aa87.org/evenement/reunionducomitemonqypaa/2026-04-05/
LOCATION:BSR / ASO\, 3920\, rue Rachel Est\, Montréal QC\, H1X 1Z3\, 3920\, Rachel Est\, Montréal\, Québec\, H1X 1Z3\, Canada
ORGANIZER;CN="District 10%2C Montr%C3%A9al%2C Plateau-Centre-Ville":MAILTO:district10@aa87.org
END:VEVENT
BEGIN:VEVENT
DTSTART;TZID=America/Toronto:20260402T190000
DTEND;TZID=America/Toronto:20260402T220000
DTSTAMP:20260421T084035
CREATED:20251227T154306Z
LAST-MODIFIED:20260313T173521Z
UID:10017885-1775156400-1775167200@www.aa87.org
SUMMARY:Comité de direction
DESCRIPTION:Hybride\nSalle 4\nJoindre la réunion\n\n 
URL:https://www.aa87.org/evenement/comite-de-direction-3-2/2026-04-02/
LOCATION:BSR / ASO\, 3920\, rue Rachel Est\, Montréal QC\, H1X 1Z3\, 3920\, Rachel Est\, Montréal\, Québec\, H1X 1Z3\, Canada
CATEGORIES:Comité de direction/Steering Committee,Comités / Committees
END:VEVENT
BEGIN:VEVENT
DTSTART;TZID=America/Toronto:20260401T190000
DTEND;TZID=America/Toronto:20260401T210000
DTSTAMP:20260421T084035
CREATED:20231217T165210Z
LAST-MODIFIED:20260303T000857Z
UID:10025014-1775070000-1775077200@www.aa87.org
SUMMARY:Comité de l'Information publique +
DESCRIPTION:Salle 1\nJoindre la réunion\n\n  \nID de réunion : 944 7943 6712\nCode secret : 1234
URL:https://www.aa87.org/evenement/information-publique/2026-04-01/
LOCATION:BSR / ASO\, 3920\, rue Rachel Est\, Montréal QC\, H1X 1Z3\, 3920\, Rachel Est\, Montréal\, Québec\, H1X 1Z3\, Canada
CATEGORIES:Activité / Activity,Comité d’Information Publique,Comités / Committees
END:VEVENT
BEGIN:VEVENT
DTSTART;TZID=America/Toronto:20260326T190000
DTEND;TZID=America/Toronto:20260326T220000
DTSTAMP:20260421T084035
CREATED:20250111T185817Z
LAST-MODIFIED:20260314T111742Z
UID:10017768-1774551600-1774562400@www.aa87.org
SUMMARY:Comité de Direction
DESCRIPTION:Hybride\nSalle 4\nJoindre la réunion\n\n 
URL:https://www.aa87.org/evenement/comite-de-direction/2026-03-26/
LOCATION:BSR / ASO\, 3920\, rue Rachel Est\, Montréal QC\, H1X 1Z3\, 3920\, Rachel Est\, Montréal\, Québec\, H1X 1Z3\, Canada
CATEGORIES:Comité de direction/Steering Committee
END:VEVENT
BEGIN:VEVENT
DTSTART;TZID=America/Toronto:20260324T190000
DTEND;TZID=America/Toronto:20260324T210000
DTSTAMP:20260421T084035
CREATED:20241218T124818Z
LAST-MODIFIED:20260315T222718Z
UID:10015074-1774378800-1774386000@www.aa87.org
SUMMARY:Comité Aide téléphonique
DESCRIPTION:Rencontre mensuelle hybride. \nSalle 1 \nJoindre la réunion\n \n  \nID de réunion : 944 7943 6712\nCode secret : 1234
URL:https://www.aa87.org/evenement/comite-aide-telephonique/2026-03-24/
LOCATION:BSR / ASO\, 3920\, rue Rachel Est\, Montréal QC\, H1X 1Z3\, 3920\, Rachel Est\, Montréal\, Québec\, H1X 1Z3\, Canada
CATEGORIES:Comités / Committees
END:VEVENT
BEGIN:VEVENT
DTSTART;TZID=America/Toronto:20260321T090000
DTEND;TZID=America/Toronto:20260321T160000
DTSTAMP:20260421T084035
CREATED:20260130T213742Z
LAST-MODIFIED:20260320T201233Z
UID:10037455-1774083600-1774108800@www.aa87.org
SUMMARY:Séminaire sur la structure des AA ( anglais )
DESCRIPTION:Le Comité de Services aux Groupes\nVous invite à son prochain séminaire en anglais sur la structure des AA\nHybride \nBureau de service de la Région 87\n3920\, rue Rachel Est\nMontréal (Québec) H1X 1Z3\nMapIt \nJoindre la réunion\n\n  \nID de la réunion : 910 8777 9314 \nCode secret : 1234 \nÀ l’ordre du jour : histoire des AA ; structure et fonctionnement des groupes ;\nZone 87 ; aperçu de nos principes d’unité et de service (Traditions et Concepts). \n« Apprenez-en davantage sur les principes spirituels qui nous régissent et les structures qui nous servent. » \nPour participer\, inscrivez-vous en appelant le RSO (messagerie vocale)\, poste 3 . \nVoir l’annonce \n 
URL:https://www.aa87.org/evenement/seminaire-sur-la-structure-des-aa-anglais/
LOCATION:BSR / ASO\, 3920\, rue Rachel Est\, Montréal QC\, H1X 1Z3\, 3920\, Rachel Est\, Montréal\, Québec\, H1X 1Z3\, Canada
CATEGORIES:Activité / Activity,Comités / Committees,Services aux groupes / Group Services
END:VEVENT
BEGIN:VEVENT
DTSTART;TZID=America/Toronto:20260318T190000
DTEND;TZID=America/Toronto:20260318T210000
DTSTAMP:20260421T084035
CREATED:20260207T134530Z
LAST-MODIFIED:20260220T181748Z
UID:10038358-1773860400-1773867600@www.aa87.org
SUMMARY:Journée des Centres de détention
DESCRIPTION:Réunion chaque troisième mercredi du mois en présence.
URL:https://www.aa87.org/evenement/centres-de-detention-4-2-2/2026-03-18/
LOCATION:BSR / ASO\, 3920\, rue Rachel Est\, Montréal QC\, H1X 1Z3\, 3920\, Rachel Est\, Montréal\, Québec\, H1X 1Z3\, Canada
CATEGORIES:Activité / Activity,Centres de détention,Comités / Committees
END:VEVENT
BEGIN:VEVENT
DTSTART;TZID=America/Toronto:20260316T190000
DTEND;TZID=America/Toronto:20260316T210000
DTSTAMP:20260421T084035
CREATED:20241218T003040Z
LAST-MODIFIED:20260320T123550Z
UID:10014380-1773687600-1773694800@www.aa87.org
SUMMARY:Réunion des RSG du District 87-02
DESCRIPTION:Réunion mensuelle hybride. \nSalle 2 \nJoindre la réunion\n \n  \nID de réunion : 918 2068 6211 \nCode secret : 1234
URL:https://www.aa87.org/evenement/district-02-2-2/2026-03-16/
LOCATION:BSR / ASO\, 3920\, rue Rachel Est\, Montréal QC\, H1X 1Z3\, 3920\, Rachel Est\, Montréal\, Québec\, H1X 1Z3\, Canada
CATEGORIES:District 02
ORGANIZER;CN="District 2%2C Rosemont%2C St-Michel%2C Villeray":MAILTO:district02@aa87.org
END:VEVENT
BEGIN:VEVENT
DTSTART;TZID=America/Toronto:20260311T190000
DTEND;TZID=America/Toronto:20260311T210000
DTSTAMP:20260421T084035
CREATED:20241218T001817Z
LAST-MODIFIED:20260313T175408Z
UID:10014780-1773255600-1773262800@www.aa87.org
SUMMARY:Réunion des RSG du District 87-01
DESCRIPTION:Réunion mensuelle hybride. \nSalle 2 \nJoindre la réunion\n \n  \nID de réunion : 918 2068 6211\nCode secret : 1234
URL:https://www.aa87.org/evenement/district-01-2/2026-03-11/
LOCATION:BSR / ASO\, 3920\, rue Rachel Est\, Montréal QC\, H1X 1Z3\, 3920\, Rachel Est\, Montréal\, Québec\, H1X 1Z3\, Canada
ORGANIZER;CN="District 1%2C Montr%C3%A9al%2C Outremont%2C C%C3%B4te-des-Neiges":MAILTO:district01@aa87.org
END:VEVENT
BEGIN:VEVENT
DTSTART;TZID=America/Toronto:20260310T190000
DTEND;TZID=America/Toronto:20260310T210000
DTSTAMP:20260421T084035
CREATED:20241218T000243Z
LAST-MODIFIED:20260315T215743Z
UID:10014274-1773169200-1773176400@www.aa87.org
SUMMARY:Réunion des RSG du District 87-10
DESCRIPTION:Réunion mensuelle hybride \nSalle 2 \nJoindre la réunion\n \n  \nID de réunion : 918 2068 6211\nCode secret : 1234
URL:https://www.aa87.org/evenement/district-10-2-2/2026-03-10/
LOCATION:BSR / ASO\, 3920\, rue Rachel Est\, Montréal QC\, H1X 1Z3\, 3920\, Rachel Est\, Montréal\, Québec\, H1X 1Z3\, Canada
CATEGORIES:District 10
END:VEVENT
BEGIN:VEVENT
DTSTART;TZID=America/Toronto:20260307T090000
DTEND;TZID=America/Toronto:20260307T160000
DTSTAMP:20260421T084035
CREATED:20260130T212441Z
LAST-MODIFIED:20260225T180543Z
UID:10037452-1772874000-1772899200@www.aa87.org
SUMMARY:Séminaire sur la Structure des A.A.
DESCRIPTION:Séminaire en français. Format hybride. \nBureau des services de la Région 87\n3920 rue Rachel Ouest\nMontréal\, QC\, H1X 1Z3 \nSalle 3. \n\nJoindre la réunion\n\n  \nPrésentation d’une vision approfondie des volets Unité et Service de notre Mode de Vie. \nVoir l’annonce
URL:https://www.aa87.org/evenement/seminaire-sur-la-structure-des-a-a/
LOCATION:BSR / ASO\, 3920\, rue Rachel Est\, Montréal QC\, H1X 1Z3\, 3920\, Rachel Est\, Montréal\, Québec\, H1X 1Z3\, Canada
CATEGORIES:Activité / Activity,Comités / Committees,Services aux groupes / Group Services
END:VEVENT
BEGIN:VEVENT
DTSTART;TZID=America/Toronto:20260305T190000
DTEND;TZID=America/Toronto:20260305T220000
DTSTAMP:20260421T084035
CREATED:20251227T154306Z
LAST-MODIFIED:20260313T173521Z
UID:10017884-1772737200-1772748000@www.aa87.org
SUMMARY:Comité de direction
DESCRIPTION:Hybride\nSalle 4\nJoindre la réunion\n\n 
URL:https://www.aa87.org/evenement/comite-de-direction-3-2/2026-03-05/
LOCATION:BSR / ASO\, 3920\, rue Rachel Est\, Montréal QC\, H1X 1Z3\, 3920\, Rachel Est\, Montréal\, Québec\, H1X 1Z3\, Canada
CATEGORIES:Comité de direction/Steering Committee,Comités / Committees
END:VEVENT
BEGIN:VEVENT
DTSTART;TZID=America/Toronto:20260304T190000
DTEND;TZID=America/Toronto:20260304T210000
DTSTAMP:20260421T084035
CREATED:20231217T165210Z
LAST-MODIFIED:20260303T000857Z
UID:10025013-1772650800-1772658000@www.aa87.org
SUMMARY:Comité de l'Information publique +
DESCRIPTION:Salle 1\nJoindre la réunion\n\n  \nID de réunion : 944 7943 6712\nCode secret : 1234
URL:https://www.aa87.org/evenement/information-publique/2026-03-04/
LOCATION:BSR / ASO\, 3920\, rue Rachel Est\, Montréal QC\, H1X 1Z3\, 3920\, Rachel Est\, Montréal\, Québec\, H1X 1Z3\, Canada
CATEGORIES:Activité / Activity,Comité d’Information Publique,Comités / Committees
END:VEVENT
BEGIN:VEVENT
DTSTART;TZID=America/Toronto:20260302T190000
DTEND;TZID=America/Toronto:20260302T210000
DTSTAMP:20260421T084035
CREATED:20241217T005615Z
LAST-MODIFIED:20260302T004538Z
UID:10013977-1772478000-1772485200@www.aa87.org
SUMMARY:Réunion des RSG du District 87-19
DESCRIPTION:Réunion mensuelle hybride. \nSalle 2 \nJoindre la réunion\n \nID de réunion : 918 2068 6211\nCode secret : 1234
URL:https://www.aa87.org/evenement/district-19-2-2/2026-03-02/
LOCATION:BSR / ASO\, 3920\, rue Rachel Est\, Montréal QC\, H1X 1Z3\, 3920\, Rachel Est\, Montréal\, Québec\, H1X 1Z3\, Canada
CATEGORIES:Activité / Activity,District 19
ORGANIZER;CN="District 19%2C Montreal%2C Westmount":MAILTO:district19@aa87.org
END:VEVENT
BEGIN:VEVENT
DTSTART;TZID=America/Toronto:20260301T140000
DTEND;TZID=America/Toronto:20260301T160000
DTSTAMP:20260421T084035
CREATED:20260214T021105Z
LAST-MODIFIED:20260302T004343Z
UID:10038177-1772373600-1772380800@www.aa87.org
SUMMARY:Réunion du comité MONQYPAA
DESCRIPTION:Réunion Hybride \nEn présence \nBureau des services de la Région 87\n3920\, rue Rachel Est\nMontréal (Québec) H1X 1Z3\nMapIt \nJoindre la réunion\n\n  \nID de réunion: 924 7313 7786\nCode secret: 1234
URL:https://www.aa87.org/evenement/reunionducomitemonqypaa/2026-03-01/
LOCATION:BSR / ASO\, 3920\, rue Rachel Est\, Montréal QC\, H1X 1Z3\, 3920\, Rachel Est\, Montréal\, Québec\, H1X 1Z3\, Canada
ORGANIZER;CN="District 10%2C Montr%C3%A9al%2C Plateau-Centre-Ville":MAILTO:district10@aa87.org
END:VEVENT
BEGIN:VEVENT
DTSTART;TZID=America/Toronto:20260228T131500
DTEND;TZID=America/Toronto:20260228T161500
DTSTAMP:20260421T084035
CREATED:20260131T155559Z
LAST-MODIFIED:20260223T160851Z
UID:10037476-1772284500-1772295300@www.aa87.org
SUMMARY:Atelier Rôle du RDR ( Anglais )
DESCRIPTION:Le Comité des Services aux groupes\nvous invite à son atelier en anglais sur le rôle du RDR\nAu programme : Un atelier interactif avec études de cas\, questions et réponses\,\npour mieux cerner le rôle du RDR dans son district et à la Région.\nSamedi le 28 février 2026\nde 13h15 à 16h15 \nHybride\nEn personne \nBureau des services de la Région 87\n3920\, rue Rachel Est\nMontréal (Québec) H1X 1Z3\nMapIt \n \n\nJoindre la réunion\n\n \nID de réunion : 910 8777 9314\nCode secret : 1234 \nPour participer\, s’inscrire en appelant le BSR au : 514 374-3688\, poste 3 (boîte vocale) \n« Un district a besoin d’un leader. Les RSG se tournent vers le RDR pour être conseillés sur leur propre rôle et sur la meilleure façon de servir leurs groupes. Ils comptent sur le RDR pour prendre les commandes…» Manuel du Service chez les AA\, page 13\nVoir l’annonce
URL:https://www.aa87.org/evenement/atelier-role-du-rdr-anglais-2/
LOCATION:BSR / ASO\, 3920\, rue Rachel Est\, Montréal QC\, H1X 1Z3\, 3920\, Rachel Est\, Montréal\, Québec\, H1X 1Z3\, Canada
CATEGORIES:Activité / Activity,Comités / Committees,Services aux groupes / Group Services
END:VEVENT
BEGIN:VEVENT
DTSTART;TZID=America/Toronto:20260228T090000
DTEND;TZID=America/Toronto:20260228T120000
DTSTAMP:20260421T084035
CREATED:20260130T180157Z
LAST-MODIFIED:20260223T155544Z
UID:10037446-1772269200-1772280000@www.aa87.org
SUMMARY:Atelier Rôle du RDR
DESCRIPTION:Le Comité des Services aux groupes\nvous invite à son atelier sur le rôle du RDR\nAu programme : Un atelier interactif avec études de cas\, questions et réponses\,\npour mieux cerner le rôle du RDR dans son district et à la Région.\nSamedi le 28 février 2026\nde 9h à 12h \nHybride\nEn personne \nBureau des services de la Région 87\n3920\, rue Rachel Est\nMontréal (Québec) H1X 1Z3\nMapIt \n \n\nJoindre la réunion\n\n\nID de réunion : 910 8777 9314\nCode secret : 1234 \nPour participer\, s’inscrire en appelant le BSR au : 514 374-3688\, poste 3 (boîte vocale) \n« Un district a besoin d’un leader. Les RSG se tournent vers le RDR pour être conseillés sur leur propre rôle et sur la meilleure façon de servir leurs groupes. Ils comptent sur le RDR pour prendre les commandes…» Manuel du Service chez les AA\, page 13\nVoir l’annonce
URL:https://www.aa87.org/evenement/atelier-role-du-rdr/
LOCATION:BSR / ASO\, 3920\, rue Rachel Est\, Montréal QC\, H1X 1Z3\, 3920\, Rachel Est\, Montréal\, Québec\, H1X 1Z3\, Canada
CATEGORIES:Activité / Activity,Comités / Committees,Services aux groupes / Group Services
END:VEVENT
BEGIN:VEVENT
DTSTART;TZID=America/Toronto:20260226T190000
DTEND;TZID=America/Toronto:20260226T220000
DTSTAMP:20260421T084035
CREATED:20250111T185817Z
LAST-MODIFIED:20260314T111742Z
UID:10017767-1772132400-1772143200@www.aa87.org
SUMMARY:Comité de Direction
DESCRIPTION:Hybride\nSalle 4\nJoindre la réunion\n\n 
URL:https://www.aa87.org/evenement/comite-de-direction/2026-02-26/
LOCATION:BSR / ASO\, 3920\, rue Rachel Est\, Montréal QC\, H1X 1Z3\, 3920\, Rachel Est\, Montréal\, Québec\, H1X 1Z3\, Canada
CATEGORIES:Comité de direction/Steering Committee
END:VEVENT
BEGIN:VEVENT
DTSTART;TZID=America/Toronto:20260225T190000
DTEND;TZID=America/Toronto:20260225T210000
DTSTAMP:20260421T084035
CREATED:20250325T212651Z
LAST-MODIFIED:20260315T211030Z
UID:10032023-1772046000-1772053200@www.aa87.org
SUMMARY:Centres de traitement
DESCRIPTION:HYBRIDE\nAu BSR et virtuelle salle 1\n\nJoindre la réunion\n\n  \nID de réunion : 944 7943 6712\nCode secret : 1234
URL:https://www.aa87.org/evenement/centres-de-traitement-3-2/2026-02-25/
LOCATION:BSR / ASO\, 3920\, rue Rachel Est\, Montréal QC\, H1X 1Z3\, 3920\, Rachel Est\, Montréal\, Québec\, H1X 1Z3\, Canada
CATEGORIES:Activité / Activity,Centres de traitement / Treatment Facilities,Comités / Committees
ORGANIZER;CN="Centre de traitement":MAILTO:centresdetraitement@aa87.org
END:VEVENT
BEGIN:VEVENT
DTSTART;TZID=America/Toronto:20260224T190000
DTEND;TZID=America/Toronto:20260224T210000
DTSTAMP:20260421T084035
CREATED:20241218T124818Z
LAST-MODIFIED:20260315T222718Z
UID:10015073-1771959600-1771966800@www.aa87.org
SUMMARY:Comité Aide téléphonique
DESCRIPTION:Rencontre mensuelle hybride. \nSalle 1 \nJoindre la réunion\n \n  \nID de réunion : 944 7943 6712\nCode secret : 1234
URL:https://www.aa87.org/evenement/comite-aide-telephonique/2026-02-24/
LOCATION:BSR / ASO\, 3920\, rue Rachel Est\, Montréal QC\, H1X 1Z3\, 3920\, Rachel Est\, Montréal\, Québec\, H1X 1Z3\, Canada
CATEGORIES:Comités / Committees
END:VEVENT
BEGIN:VEVENT
DTSTART;TZID=America/Toronto:20260221T093000
DTEND;TZID=America/Toronto:20260221T120000
DTSTAMP:20260421T084035
CREATED:20260216T003819Z
LAST-MODIFIED:20260314T155127Z
UID:10038084-1771666200-1771675200@www.aa87.org
SUMMARY:Réunion du Comité des Centres de Détention
DESCRIPTION:Hybride\n\nBureau des services régionnaux\n3920\, rue Rachel Est\nMontréal (Québec) H1X 1Z3\n\nSalle 1\n\n\nJoindre la réunion\n\n  \n\nID de réunion : 944 7943 6712\nCode secret : 1234
URL:https://www.aa87.org/evenement/reunion-du-comite-des-centres-de-detention/2026-02-21/
LOCATION:BSR / ASO\, 3920\, rue Rachel Est\, Montréal QC\, H1X 1Z3\, 3920\, Rachel Est\, Montréal\, Québec\, H1X 1Z3\, Canada
CATEGORIES:Centres de détention,Comités / Committees
END:VEVENT
BEGIN:VEVENT
DTSTART;TZID=America/Toronto:20260218T190000
DTEND;TZID=America/Toronto:20260218T210000
DTSTAMP:20260421T084035
CREATED:20260207T134530Z
LAST-MODIFIED:20260220T181748Z
UID:10038357-1771441200-1771448400@www.aa87.org
SUMMARY:Journée des Centres de détention
DESCRIPTION:Réunion chaque troisième mercredi du mois en présence.
URL:https://www.aa87.org/evenement/centres-de-detention-4-2-2/2026-02-18/
LOCATION:BSR / ASO\, 3920\, rue Rachel Est\, Montréal QC\, H1X 1Z3\, 3920\, Rachel Est\, Montréal\, Québec\, H1X 1Z3\, Canada
CATEGORIES:Activité / Activity,Centres de détention,Comités / Committees
END:VEVENT
BEGIN:VEVENT
DTSTART;TZID=America/Toronto:20260216T190000
DTEND;TZID=America/Toronto:20260216T210000
DTSTAMP:20260421T084035
CREATED:20241218T003040Z
LAST-MODIFIED:20260320T123550Z
UID:10014379-1771268400-1771275600@www.aa87.org
SUMMARY:Réunion des RSG du District 87-02
DESCRIPTION:Réunion mensuelle hybride. \nSalle 2 \nJoindre la réunion\n \n  \nID de réunion : 918 2068 6211 \nCode secret : 1234
URL:https://www.aa87.org/evenement/district-02-2-2/2026-02-16/
LOCATION:BSR / ASO\, 3920\, rue Rachel Est\, Montréal QC\, H1X 1Z3\, 3920\, Rachel Est\, Montréal\, Québec\, H1X 1Z3\, Canada
CATEGORIES:District 02
ORGANIZER;CN="District 2%2C Rosemont%2C St-Michel%2C Villeray":MAILTO:district02@aa87.org
END:VEVENT
BEGIN:VEVENT
DTSTART;TZID=America/Toronto:20260214T083000
DTEND;TZID=America/Toronto:20260214T160000
DTSTAMP:20260421T084035
CREATED:20251227T212213Z
LAST-MODIFIED:20251229T030557Z
UID:10032083-1771057800-1771084800@www.aa87.org
SUMMARY:Réunion du Comité Régional + Brunch
DESCRIPTION:Hybride\nBureau des services de la Région 87\nParticiper à la réunion Zoom \nID de réunion : 984 9889 7228\nCode secret : 1234
URL:https://www.aa87.org/evenement/reunion-du-comite-regional-5/2026-02-14/
LOCATION:BSR / ASO\, 3920\, rue Rachel Est\, Montréal QC\, H1X 1Z3\, 3920\, Rachel Est\, Montréal\, Québec\, H1X 1Z3\, Canada
CATEGORIES:Comité régional,Régional
END:VEVENT
END:VCALENDAR