BEGIN:VCALENDAR
VERSION:2.0
PRODID:-//Alcooliques Anonymes Région 87 - ECPv6.15.17//NONSGML v1.0//EN
CALSCALE:GREGORIAN
METHOD:PUBLISH
X-ORIGINAL-URL:https://www.aa87.org
X-WR-CALDESC:Évènements pour Alcooliques Anonymes Région 87
REFRESH-INTERVAL;VALUE=DURATION:PT1H
X-Robots-Tag:noindex
X-PUBLISHED-TTL:PT1H
BEGIN:VTIMEZONE
TZID:America/Toronto
BEGIN:DAYLIGHT
TZOFFSETFROM:-0500
TZOFFSETTO:-0400
TZNAME:EDT
DTSTART:20220313T070000
END:DAYLIGHT
BEGIN:STANDARD
TZOFFSETFROM:-0400
TZOFFSETTO:-0500
TZNAME:EST
DTSTART:20221106T060000
END:STANDARD
BEGIN:DAYLIGHT
TZOFFSETFROM:-0500
TZOFFSETTO:-0400
TZNAME:EDT
DTSTART:20230312T070000
END:DAYLIGHT
BEGIN:STANDARD
TZOFFSETFROM:-0400
TZOFFSETTO:-0500
TZNAME:EST
DTSTART:20231105T060000
END:STANDARD
BEGIN:DAYLIGHT
TZOFFSETFROM:-0500
TZOFFSETTO:-0400
TZNAME:EDT
DTSTART:20240310T070000
END:DAYLIGHT
BEGIN:STANDARD
TZOFFSETFROM:-0400
TZOFFSETTO:-0500
TZNAME:EST
DTSTART:20241103T060000
END:STANDARD
BEGIN:DAYLIGHT
TZOFFSETFROM:-0500
TZOFFSETTO:-0400
TZNAME:EDT
DTSTART:20250309T070000
END:DAYLIGHT
BEGIN:STANDARD
TZOFFSETFROM:-0400
TZOFFSETTO:-0500
TZNAME:EST
DTSTART:20251102T060000
END:STANDARD
END:VTIMEZONE
BEGIN:VEVENT
DTSTART;TZID=America/Toronto:20240217T090000
DTEND;TZID=America/Toronto:20240217T110000
DTSTAMP:20260421T143822
CREATED:20231217T020030Z
LAST-MODIFIED:20241217T221011Z
UID:10004976-1708160400-1708167600@www.aa87.org
SUMMARY:Comité Centres de détention
DESCRIPTION:
URL:https://www.aa87.org/evenement/centres-de-detention-4/2024-02-17/
LOCATION:BSR / ASO\, 3920\, rue Rachel Est\, Montréal QC\, H1X 1Z3\, 3920\, Rachel Est\, Montréal\, Québec\, H1X 1Z3\, Canada
CATEGORIES:Activité / Activity,Centres de détention,Comités / Committees
END:VEVENT
BEGIN:VEVENT
DTSTART;TZID=America/Toronto:20240214T190000
DTEND;TZID=America/Toronto:20240214T210000
DTSTAMP:20260421T143822
CREATED:20230104T223256Z
LAST-MODIFIED:20231228T141245Z
UID:10005412-1707937200-1707944400@www.aa87.org
SUMMARY:District 01
DESCRIPTION:Salle 2 \nParticiper à la réunion Zoom \nID de réunion : 918 2068 6211 \nCode secret : 1234
URL:https://www.aa87.org/evenement/district-01/2024-02-14/
LOCATION:BSR / ASO\, 3920\, rue Rachel Est\, Montréal QC\, H1X 1Z3\, 3920\, Rachel Est\, Montréal\, Québec\, H1X 1Z3\, Canada
CATEGORIES:District 01
ORGANIZER;CN="District 1%2C Montr%C3%A9al%2C Outremont%2C C%C3%B4te-des-Neiges":MAILTO:district01@aa87.org
END:VEVENT
BEGIN:VEVENT
DTSTART;TZID=America/Toronto:20240213T190000
DTEND;TZID=America/Toronto:20240213T210000
DTSTAMP:20260421T143822
CREATED:20231228T174213Z
LAST-MODIFIED:20231228T175254Z
UID:10005972-1707850800-1707858000@www.aa87.org
SUMMARY:District 10
DESCRIPTION:Salle 2 \nParticiper à la réunion Zoom \nID de réunion : 918 2068 6211 \nCode secret : 1234
URL:https://www.aa87.org/evenement/district-10-2/2024-02-13/
LOCATION:BSR / ASO\, 3920\, rue Rachel Est\, Montréal QC\, H1X 1Z3\, 3920\, Rachel Est\, Montréal\, Québec\, H1X 1Z3\, Canada
CATEGORIES:District 10
END:VEVENT
BEGIN:VEVENT
DTSTART;TZID=America/Toronto:20240210T083000
DTEND;TZID=America/Toronto:20240210T143000
DTSTAMP:20260421T143822
CREATED:20230810T000756Z
LAST-MODIFIED:20240117T232835Z
UID:10006607-1707553800-1707575400@www.aa87.org
SUMMARY:Réunion du comité régional
DESCRIPTION:Salle 0 \nParticiper à la réunion Zoom \nID de réunion : 984 9889 7228 \nCode secret : 1234 \nLien vers l’annonce et la table virtuel des documents à venir
URL:https://www.aa87.org/evenement/reunion-du-comite-regional-4/2024-02-10/
LOCATION:BSR / ASO\, 3920\, rue Rachel Est\, Montréal QC\, H1X 1Z3\, 3920\, Rachel Est\, Montréal\, Québec\, H1X 1Z3\, Canada
CATEGORIES:Activité / Activity,Comité régional,Régional
END:VEVENT
BEGIN:VEVENT
DTSTART;TZID=America/Toronto:20240207T190000
DTEND;TZID=America/Toronto:20240207T210000
DTSTAMP:20260421T143822
CREATED:20231217T165210Z
LAST-MODIFIED:20260303T000857Z
UID:10024991-1707332400-1707339600@www.aa87.org
SUMMARY:Comité de l'Information publique +
DESCRIPTION:Salle 1\nJoindre la réunion\n\n  \nID de réunion : 944 7943 6712\nCode secret : 1234
URL:https://www.aa87.org/evenement/information-publique/2024-02-07/
LOCATION:BSR / ASO\, 3920\, rue Rachel Est\, Montréal QC\, H1X 1Z3\, 3920\, Rachel Est\, Montréal\, Québec\, H1X 1Z3\, Canada
CATEGORIES:Activité / Activity,Comité d’Information Publique,Comités / Committees
END:VEVENT
BEGIN:VEVENT
DTSTART;TZID=America/Toronto:20240204T130000
DTEND;TZID=America/Toronto:20240204T150000
DTSTAMP:20260421T143822
CREATED:20231217T161936Z
LAST-MODIFIED:20241217T005435Z
UID:10006961-1707051600-1707058800@www.aa87.org
SUMMARY:Correctional Facilities
DESCRIPTION:Salle 1\nParticiper à la réunion Zoom \nID de réunion : 944 7943 6712 \nCode secret : 1234
URL:https://www.aa87.org/evenement/correctional-facilities/2024-02-04/
LOCATION:BSR / ASO\, 3920\, rue Rachel Est\, Montréal QC\, H1X 1Z3\, 3920\, Rachel Est\, Montréal\, Québec\, H1X 1Z3\, Canada
CATEGORIES:Activité / Activity,Comités / Committees,Correctional Facilities Committee
END:VEVENT
BEGIN:VEVENT
DTSTART;TZID=America/Toronto:20240124T190000
DTEND;TZID=America/Toronto:20240124T213000
DTSTAMP:20260421T143822
CREATED:20231217T132720Z
LAST-MODIFIED:20250110T202822Z
UID:10007515-1706122800-1706131800@www.aa87.org
SUMMARY:Centres de traitement
DESCRIPTION:HYBRIDE\nAu BSR et virtuelle salle 1\nParticiper à la réunion Zoom \nID de réunion : 944 7943 6712 \nCode secret : 1234
URL:https://www.aa87.org/evenement/centres-de-traitement/2024-01-24/
LOCATION:BSR / ASO\, 3920\, rue Rachel Est\, Montréal QC\, H1X 1Z3\, 3920\, Rachel Est\, Montréal\, Québec\, H1X 1Z3\, Canada
CATEGORIES:Activité / Activity,Centres de traitement / Treatment Facilities,Comités / Committees
ORGANIZER;CN="Centre de traitement":MAILTO:centresdetraitement@aa87.org
END:VEVENT
BEGIN:VEVENT
DTSTART;TZID=America/Toronto:20240123T190000
DTEND;TZID=America/Toronto:20240123T210000
DTSTAMP:20260421T143822
CREATED:20231217T010701Z
LAST-MODIFIED:20231217T011207Z
UID:10004940-1706036400-1706043600@www.aa87.org
SUMMARY:Aide téléphonique
DESCRIPTION:Salle 1\nParticiper à la réunion Zoom \nID de réunion : 944 7943 6712 \nCode secret : 1234 \nPrendre note que les réunions  du :\n23 janvier\, 27 février et le 26 mars 2024 seronts en virtuel (zoom) seulement
URL:https://www.aa87.org/evenement/aide-telephonique-2/2024-01-23/
LOCATION:BSR / ASO\, 3920\, rue Rachel Est\, Montréal QC\, H1X 1Z3\, 3920\, Rachel Est\, Montréal\, Québec\, H1X 1Z3\, Canada
CATEGORIES:Activité / Activity,Comité d’Aide télephonique,Comités / Committees
END:VEVENT
BEGIN:VEVENT
DTSTART;TZID=America/Toronto:20240117T190000
DTEND;TZID=America/Toronto:20240117T210000
DTSTAMP:20260421T143822
CREATED:20231217T142332Z
LAST-MODIFIED:20231217T160547Z
UID:10005099-1705518000-1705525200@www.aa87.org
SUMMARY:CMP
DESCRIPTION:Salle 1\nParticiper à la réunion Zoom \nID de réunion : 944 7943 6712 \nCode secret : 1234
URL:https://www.aa87.org/evenement/cmp/2024-01-17/
LOCATION:BSR / ASO\, 3920\, rue Rachel Est\, Montréal QC\, H1X 1Z3\, 3920\, Rachel Est\, Montréal\, Québec\, H1X 1Z3\, Canada
CATEGORIES:Activité / Activity,Comité CMP-CPC Committee,Comités / Committees
END:VEVENT
BEGIN:VEVENT
DTSTART;TZID=America/Toronto:20240115T190000
DTEND;TZID=America/Toronto:20240115T210000
DTSTAMP:20260421T143822
CREATED:20231228T141616Z
LAST-MODIFIED:20240806T231019Z
UID:10003688-1705345200-1705352400@www.aa87.org
SUMMARY:District 02
DESCRIPTION:Salle 2 \nParticiper à la réunion Zoom \nID de réunion : 918 2068 6211 \nCode secret : 1234
URL:https://www.aa87.org/evenement/district-02-2/2024-01-15/
LOCATION:BSR / ASO\, 3920\, rue Rachel Est\, Montréal QC\, H1X 1Z3\, 3920\, Rachel Est\, Montréal\, Québec\, H1X 1Z3\, Canada
CATEGORIES:District 02
ORGANIZER;CN="District 2%2C Rosemont%2C St-Michel%2C Villeray":MAILTO:district02@aa87.org
END:VEVENT
BEGIN:VEVENT
DTSTART;TZID=America/Toronto:20240110T190000
DTEND;TZID=America/Toronto:20240110T210000
DTSTAMP:20260421T143822
CREATED:20230104T223256Z
LAST-MODIFIED:20231228T141245Z
UID:10005411-1704913200-1704920400@www.aa87.org
SUMMARY:District 01
DESCRIPTION:Salle 2 \nParticiper à la réunion Zoom \nID de réunion : 918 2068 6211 \nCode secret : 1234
URL:https://www.aa87.org/evenement/district-01/2024-01-10/
LOCATION:BSR / ASO\, 3920\, rue Rachel Est\, Montréal QC\, H1X 1Z3\, 3920\, Rachel Est\, Montréal\, Québec\, H1X 1Z3\, Canada
CATEGORIES:District 01
ORGANIZER;CN="District 1%2C Montr%C3%A9al%2C Outremont%2C C%C3%B4te-des-Neiges":MAILTO:district01@aa87.org
END:VEVENT
BEGIN:VEVENT
DTSTART;TZID=America/Toronto:20240109T190000
DTEND;TZID=America/Toronto:20240109T210000
DTSTAMP:20260421T143822
CREATED:20231228T174213Z
LAST-MODIFIED:20231228T175254Z
UID:10002882-1704826800-1704834000@www.aa87.org
SUMMARY:District 10
DESCRIPTION:Salle 2 \nParticiper à la réunion Zoom \nID de réunion : 918 2068 6211 \nCode secret : 1234
URL:https://www.aa87.org/evenement/district-10-2/2024-01-09/
LOCATION:BSR / ASO\, 3920\, rue Rachel Est\, Montréal QC\, H1X 1Z3\, 3920\, Rachel Est\, Montréal\, Québec\, H1X 1Z3\, Canada
CATEGORIES:District 10
END:VEVENT
BEGIN:VEVENT
DTSTART;TZID=America/Toronto:20240108T190000
DTEND;TZID=America/Toronto:20240108T210000
DTSTAMP:20260421T143822
CREATED:20231228T182030Z
LAST-MODIFIED:20231228T182756Z
UID:10006034-1704740400-1704747600@www.aa87.org
SUMMARY:Comité du Congrès Régional
DESCRIPTION:
URL:https://www.aa87.org/evenement/comite-du-congres-regional/
LOCATION:BSR / ASO\, 3920\, rue Rachel Est\, Montréal QC\, H1X 1Z3\, 3920\, Rachel Est\, Montréal\, Québec\, H1X 1Z3\, Canada
CATEGORIES:Activité / Activity,Comité du Congrès régional / Area Convention Committee,Comités / Committees
END:VEVENT
BEGIN:VEVENT
DTSTART;TZID=America/Toronto:20240108T190000
DTEND;TZID=America/Toronto:20240108T210000
DTSTAMP:20260421T143822
CREATED:20231103T131611Z
LAST-MODIFIED:20240614T003816Z
UID:10006392-1704740400-1704747600@www.aa87.org
SUMMARY:District 19
DESCRIPTION:Salle 2 \nParticiper à la réunion Zoom \nID de réunion : 918 2068 6211 \nCode secret : 1234
URL:https://www.aa87.org/evenement/district-19-2/2024-01-08/
LOCATION:BSR / ASO\, 3920\, rue Rachel Est\, Montréal QC\, H1X 1Z3\, 3920\, Rachel Est\, Montréal\, Québec\, H1X 1Z3\, Canada
CATEGORIES:Activité / Activity,District 19
ORGANIZER;CN="District 19%2C Montreal%2C Westmount":MAILTO:district19@aa87.org
END:VEVENT
BEGIN:VEVENT
DTSTART;TZID=America/Toronto:20240103T190000
DTEND;TZID=America/Toronto:20240103T210000
DTSTAMP:20260421T143822
CREATED:20231217T165210Z
LAST-MODIFIED:20260303T000857Z
UID:10024990-1704308400-1704315600@www.aa87.org
SUMMARY:Comité de l'Information publique +
DESCRIPTION:Salle 1\nJoindre la réunion\n\n  \nID de réunion : 944 7943 6712\nCode secret : 1234
URL:https://www.aa87.org/evenement/information-publique/2024-01-03/
LOCATION:BSR / ASO\, 3920\, rue Rachel Est\, Montréal QC\, H1X 1Z3\, 3920\, Rachel Est\, Montréal\, Québec\, H1X 1Z3\, Canada
CATEGORIES:Activité / Activity,Comité d’Information Publique,Comités / Committees
END:VEVENT
BEGIN:VEVENT
DTSTART;VALUE=DATE:20240103
DTEND;VALUE=DATE:20240104
DTSTAMP:20260421T143822
CREATED:20231217T171802Z
LAST-MODIFIED:20231217T173006Z
UID:10005311-1704240000-1704326399@www.aa87.org
SUMMARY:BSR
DESCRIPTION:Le BSR et le comptoir de vente des publications seront fermés.
URL:https://www.aa87.org/evenement/bsr/2024-01-03/
LOCATION:BSR / ASO\, 3920\, rue Rachel Est\, Montréal QC\, H1X 1Z3\, 3920\, Rachel Est\, Montréal\, Québec\, H1X 1Z3\, Canada
CATEGORIES:Activité / Activity,Comités / Committees,Services aux groupes / Group Services
END:VEVENT
BEGIN:VEVENT
DTSTART;VALUE=DATE:20240102
DTEND;VALUE=DATE:20240103
DTSTAMP:20260421T143822
CREATED:20231217T171802Z
LAST-MODIFIED:20231217T173006Z
UID:10005310-1704153600-1704239999@www.aa87.org
SUMMARY:BSR
DESCRIPTION:Le BSR et le comptoir de vente des publications seront fermés.
URL:https://www.aa87.org/evenement/bsr/2024-01-02/
LOCATION:BSR / ASO\, 3920\, rue Rachel Est\, Montréal QC\, H1X 1Z3\, 3920\, Rachel Est\, Montréal\, Québec\, H1X 1Z3\, Canada
CATEGORIES:Activité / Activity,Comités / Committees,Services aux groupes / Group Services
END:VEVENT
BEGIN:VEVENT
DTSTART;VALUE=DATE:20240101
DTEND;VALUE=DATE:20240102
DTSTAMP:20260421T143822
CREATED:20231217T171802Z
LAST-MODIFIED:20231217T173006Z
UID:10005309-1704067200-1704153599@www.aa87.org
SUMMARY:BSR
DESCRIPTION:Le BSR et le comptoir de vente des publications seront fermés.
URL:https://www.aa87.org/evenement/bsr/2024-01-01/
LOCATION:BSR / ASO\, 3920\, rue Rachel Est\, Montréal QC\, H1X 1Z3\, 3920\, Rachel Est\, Montréal\, Québec\, H1X 1Z3\, Canada
CATEGORIES:Activité / Activity,Comités / Committees,Services aux groupes / Group Services
END:VEVENT
BEGIN:VEVENT
DTSTART;VALUE=DATE:20231231
DTEND;VALUE=DATE:20240101
DTSTAMP:20260421T143822
CREATED:20231217T171802Z
LAST-MODIFIED:20231217T173006Z
UID:10005308-1703980800-1704067199@www.aa87.org
SUMMARY:BSR
DESCRIPTION:Le BSR et le comptoir de vente des publications seront fermés.
URL:https://www.aa87.org/evenement/bsr/2023-12-31/
LOCATION:BSR / ASO\, 3920\, rue Rachel Est\, Montréal QC\, H1X 1Z3\, 3920\, Rachel Est\, Montréal\, Québec\, H1X 1Z3\, Canada
CATEGORIES:Activité / Activity,Comités / Committees,Services aux groupes / Group Services
END:VEVENT
BEGIN:VEVENT
DTSTART;VALUE=DATE:20231230
DTEND;VALUE=DATE:20231231
DTSTAMP:20260421T143822
CREATED:20231217T171802Z
LAST-MODIFIED:20231217T173006Z
UID:10005307-1703894400-1703980799@www.aa87.org
SUMMARY:BSR
DESCRIPTION:Le BSR et le comptoir de vente des publications seront fermés.
URL:https://www.aa87.org/evenement/bsr/2023-12-30/
LOCATION:BSR / ASO\, 3920\, rue Rachel Est\, Montréal QC\, H1X 1Z3\, 3920\, Rachel Est\, Montréal\, Québec\, H1X 1Z3\, Canada
CATEGORIES:Activité / Activity,Comités / Committees,Services aux groupes / Group Services
END:VEVENT
BEGIN:VEVENT
DTSTART;VALUE=DATE:20231229
DTEND;VALUE=DATE:20231230
DTSTAMP:20260421T143822
CREATED:20231217T171802Z
LAST-MODIFIED:20231217T173006Z
UID:10005306-1703808000-1703894399@www.aa87.org
SUMMARY:BSR
DESCRIPTION:Le BSR et le comptoir de vente des publications seront fermés.
URL:https://www.aa87.org/evenement/bsr/2023-12-29/
LOCATION:BSR / ASO\, 3920\, rue Rachel Est\, Montréal QC\, H1X 1Z3\, 3920\, Rachel Est\, Montréal\, Québec\, H1X 1Z3\, Canada
CATEGORIES:Activité / Activity,Comités / Committees,Services aux groupes / Group Services
END:VEVENT
BEGIN:VEVENT
DTSTART;TZID=America/Toronto:20231228T190000
DTEND;TZID=America/Toronto:20231228T220000
DTSTAMP:20260421T143822
CREATED:20230908T121125Z
LAST-MODIFIED:20230908T121125Z
UID:10003413-1703790000-1703800800@www.aa87.org
SUMMARY:Comité de direcion
DESCRIPTION:
URL:https://www.aa87.org/evenement/comite-de-direction-steering-committee/2023-12-28/
LOCATION:BSR / ASO\, 3920\, rue Rachel Est\, Montréal QC\, H1X 1Z3\, 3920\, Rachel Est\, Montréal\, Québec\, H1X 1Z3\, Canada
CATEGORIES:Comité de direction/Steering Committee
END:VEVENT
BEGIN:VEVENT
DTSTART;TZID=America/Toronto:20231228T190000
DTEND;TZID=America/Toronto:20231228T220000
DTSTAMP:20260421T143822
CREATED:20230908T121124Z
LAST-MODIFIED:20230908T121124Z
UID:10003391-1703790000-1703800800@www.aa87.org
SUMMARY:Steering Committee
DESCRIPTION:
URL:https://www.aa87.org/evenement/comite-de-direction-steering-committee/2023-12-28/
LOCATION:BSR / ASO\, 3920\, rue Rachel Est\, Montréal QC\, H1X 1Z3\, 3920\, Rachel Est\, Montréal\, Québec\, H1X 1Z3\, Canada
CATEGORIES:Comité de direction/Steering Committee
END:VEVENT
BEGIN:VEVENT
DTSTART;TZID=America/Toronto:20231228T190000
DTEND;TZID=America/Toronto:20231228T220000
DTSTAMP:20260421T143822
CREATED:20230908T121122Z
LAST-MODIFIED:20230908T121122Z
UID:10003362-1703790000-1703800800@www.aa87.org
SUMMARY:Comité de direction
DESCRIPTION:
URL:https://www.aa87.org/evenement/comite-de-direction-steering-committee/2023-12-28/
LOCATION:BSR / ASO\, 3920\, rue Rachel Est\, Montréal QC\, H1X 1Z3\, 3920\, Rachel Est\, Montréal\, Québec\, H1X 1Z3\, Canada
CATEGORIES:Comité de direction/Steering Committee
END:VEVENT
BEGIN:VEVENT
DTSTART;VALUE=DATE:20231228
DTEND;VALUE=DATE:20231229
DTSTAMP:20260421T143822
CREATED:20231217T171802Z
LAST-MODIFIED:20231217T173006Z
UID:10005305-1703721600-1703807999@www.aa87.org
SUMMARY:BSR
DESCRIPTION:Le BSR et le comptoir de vente des publications seront fermés.
URL:https://www.aa87.org/evenement/bsr/2023-12-28/
LOCATION:BSR / ASO\, 3920\, rue Rachel Est\, Montréal QC\, H1X 1Z3\, 3920\, Rachel Est\, Montréal\, Québec\, H1X 1Z3\, Canada
CATEGORIES:Activité / Activity,Comités / Committees,Services aux groupes / Group Services
END:VEVENT
BEGIN:VEVENT
DTSTART;TZID=America/Toronto:20231227T193000
DTEND;TZID=America/Toronto:20231227T193000
DTSTAMP:20260421T143822
CREATED:20221219T110027Z
LAST-MODIFIED:20230801T220414Z
UID:10003459-1703705400-1703705400@www.aa87.org
SUMMARY:Centres de traitement
DESCRIPTION:Salle 1 \nParticiper à la réunion Zoom \nID de réunion : 944 7943 6712 \nCode secret : 1234
URL:https://www.aa87.org/evenement/centres-de-traitement-treatment-facilities/2023-12-27/
LOCATION:BSR / ASO\, 3920\, rue Rachel Est\, Montréal QC\, H1X 1Z3\, 3920\, Rachel Est\, Montréal\, Québec\, H1X 1Z3\, Canada
CATEGORIES:Centres de traitement / Treatment Facilities
ORGANIZER;CN="District 50%2C Centres de traitement":MAILTO:district50@aa87.org
END:VEVENT
BEGIN:VEVENT
DTSTART;VALUE=DATE:20231227
DTEND;VALUE=DATE:20231228
DTSTAMP:20260421T143822
CREATED:20231217T171802Z
LAST-MODIFIED:20231217T173006Z
UID:10005304-1703635200-1703721599@www.aa87.org
SUMMARY:BSR
DESCRIPTION:Le BSR et le comptoir de vente des publications seront fermés.
URL:https://www.aa87.org/evenement/bsr/2023-12-27/
LOCATION:BSR / ASO\, 3920\, rue Rachel Est\, Montréal QC\, H1X 1Z3\, 3920\, Rachel Est\, Montréal\, Québec\, H1X 1Z3\, Canada
CATEGORIES:Activité / Activity,Comités / Committees,Services aux groupes / Group Services
END:VEVENT
BEGIN:VEVENT
DTSTART;VALUE=DATE:20231226
DTEND;VALUE=DATE:20231227
DTSTAMP:20260421T143822
CREATED:20231217T171802Z
LAST-MODIFIED:20231217T173006Z
UID:10005303-1703548800-1703635199@www.aa87.org
SUMMARY:BSR
DESCRIPTION:Le BSR et le comptoir de vente des publications seront fermés.
URL:https://www.aa87.org/evenement/bsr/2023-12-26/
LOCATION:BSR / ASO\, 3920\, rue Rachel Est\, Montréal QC\, H1X 1Z3\, 3920\, Rachel Est\, Montréal\, Québec\, H1X 1Z3\, Canada
CATEGORIES:Activité / Activity,Comités / Committees,Services aux groupes / Group Services
END:VEVENT
BEGIN:VEVENT
DTSTART;VALUE=DATE:20231225
DTEND;VALUE=DATE:20231226
DTSTAMP:20260421T143822
CREATED:20231217T171802Z
LAST-MODIFIED:20231217T173006Z
UID:10005302-1703462400-1703548799@www.aa87.org
SUMMARY:BSR
DESCRIPTION:Le BSR et le comptoir de vente des publications seront fermés.
URL:https://www.aa87.org/evenement/bsr/2023-12-25/
LOCATION:BSR / ASO\, 3920\, rue Rachel Est\, Montréal QC\, H1X 1Z3\, 3920\, Rachel Est\, Montréal\, Québec\, H1X 1Z3\, Canada
CATEGORIES:Activité / Activity,Comités / Committees,Services aux groupes / Group Services
END:VEVENT
BEGIN:VEVENT
DTSTART;VALUE=DATE:20231224
DTEND;VALUE=DATE:20231225
DTSTAMP:20260421T143822
CREATED:20231217T171802Z
LAST-MODIFIED:20231217T173006Z
UID:10005301-1703376000-1703462399@www.aa87.org
SUMMARY:BSR
DESCRIPTION:Le BSR et le comptoir de vente des publications seront fermés.
URL:https://www.aa87.org/evenement/bsr/2023-12-24/
LOCATION:BSR / ASO\, 3920\, rue Rachel Est\, Montréal QC\, H1X 1Z3\, 3920\, Rachel Est\, Montréal\, Québec\, H1X 1Z3\, Canada
CATEGORIES:Activité / Activity,Comités / Committees,Services aux groupes / Group Services
END:VEVENT
END:VCALENDAR