BEGIN:VCALENDAR
VERSION:2.0
PRODID:-//Alcooliques Anonymes Région 87 - ECPv6.15.17//NONSGML v1.0//EN
CALSCALE:GREGORIAN
METHOD:PUBLISH
X-ORIGINAL-URL:https://www.aa87.org
X-WR-CALDESC:Évènements pour Alcooliques Anonymes Région 87
REFRESH-INTERVAL;VALUE=DURATION:PT1H
X-Robots-Tag:noindex
X-PUBLISHED-TTL:PT1H
BEGIN:VTIMEZONE
TZID:America/Toronto
BEGIN:DAYLIGHT
TZOFFSETFROM:-0500
TZOFFSETTO:-0400
TZNAME:EDT
DTSTART:20220313T070000
END:DAYLIGHT
BEGIN:STANDARD
TZOFFSETFROM:-0400
TZOFFSETTO:-0500
TZNAME:EST
DTSTART:20221106T060000
END:STANDARD
BEGIN:DAYLIGHT
TZOFFSETFROM:-0500
TZOFFSETTO:-0400
TZNAME:EDT
DTSTART:20230312T070000
END:DAYLIGHT
BEGIN:STANDARD
TZOFFSETFROM:-0400
TZOFFSETTO:-0500
TZNAME:EST
DTSTART:20231105T060000
END:STANDARD
BEGIN:DAYLIGHT
TZOFFSETFROM:-0500
TZOFFSETTO:-0400
TZNAME:EDT
DTSTART:20240310T070000
END:DAYLIGHT
BEGIN:STANDARD
TZOFFSETFROM:-0400
TZOFFSETTO:-0500
TZNAME:EST
DTSTART:20241103T060000
END:STANDARD
BEGIN:DAYLIGHT
TZOFFSETFROM:-0500
TZOFFSETTO:-0400
TZNAME:EDT
DTSTART:20250309T070000
END:DAYLIGHT
BEGIN:STANDARD
TZOFFSETFROM:-0400
TZOFFSETTO:-0500
TZNAME:EST
DTSTART:20251102T060000
END:STANDARD
BEGIN:DAYLIGHT
TZOFFSETFROM:-0500
TZOFFSETTO:-0400
TZNAME:EDT
DTSTART:20260308T070000
END:DAYLIGHT
BEGIN:STANDARD
TZOFFSETFROM:-0400
TZOFFSETTO:-0500
TZNAME:EST
DTSTART:20261101T060000
END:STANDARD
BEGIN:DAYLIGHT
TZOFFSETFROM:-0500
TZOFFSETTO:-0400
TZNAME:EDT
DTSTART:20270314T070000
END:DAYLIGHT
BEGIN:STANDARD
TZOFFSETFROM:-0400
TZOFFSETTO:-0500
TZNAME:EST
DTSTART:20271107T060000
END:STANDARD
END:VTIMEZONE
BEGIN:VEVENT
DTSTART;TZID=America/Toronto:20260221T093000
DTEND;TZID=America/Toronto:20260221T170000
DTSTAMP:20260419T100452
CREATED:20260119T000616Z
LAST-MODIFIED:20260225T030538Z
UID:10037422-1771666200-1771693200@www.aa87.org
SUMMARY:Réunion du site web provincial
DESCRIPTION:Vendredi le 20 février 17h00\, Réunion des webmestres /\nSamedi le 21 février 9h30\, Réunion du Comité provincial\nHybride\n\nJoindre la réunion\n\n  \nID de réunion : 976 0990 1538\nCode secret : 1234
URL:https://www.aa87.org/evenement/reunion-du-site-web-provincial-5/2026-02-21/
LOCATION:Les Suites de Laviolette\, Trois-Rivières\, 7201 rue Notre-Dame O\, Trpois-Rivières\, Québec\, G9B 1W2\, Canada
END:VEVENT
BEGIN:VEVENT
DTSTART;TZID=America/Toronto:20260220T190000
DTEND;TZID=America/Toronto:20260220T233000
DTSTAMP:20260419T100452
CREATED:20260119T000616Z
LAST-MODIFIED:20260225T030538Z
UID:10037421-1771614000-1771630200@www.aa87.org
SUMMARY:Réunion du site web provincial
DESCRIPTION:Vendredi le 20 février 17h00\, Réunion des webmestres /\nSamedi le 21 février 9h30\, Réunion du Comité provincial\nHybride\n\nJoindre la réunion\n\n  \nID de réunion : 976 0990 1538\nCode secret : 1234
URL:https://www.aa87.org/evenement/reunion-du-site-web-provincial-5/2026-02-20/
LOCATION:Les Suites de Laviolette\, Trois-Rivières\, 7201 rue Notre-Dame O\, Trpois-Rivières\, Québec\, G9B 1W2\, Canada
END:VEVENT
BEGIN:VEVENT
DTSTART;TZID=America/Toronto:20251122T090000
DTEND;TZID=America/Toronto:20251122T160000
DTSTAMP:20260419T100452
CREATED:20241219T013217Z
LAST-MODIFIED:20250215T143915Z
UID:10015539-1763802000-1763827200@www.aa87.org
SUMMARY:Réunion du site web provincial
DESCRIPTION:Salle o. \nJoindre la réunion \n 
URL:https://www.aa87.org/evenement/reunion-du-site-web-provincial-2/2025-11-22/
LOCATION:Les Suites de Laviolette\, Trois-Rivières\, 7201 rue Notre-Dame O\, Trpois-Rivières\, Québec\, G9B 1W2\, Canada
END:VEVENT
BEGIN:VEVENT
DTSTART;TZID=America/Toronto:20250621T090000
DTEND;TZID=America/Toronto:20250621T160000
DTSTAMP:20260419T100452
CREATED:20241219T013217Z
LAST-MODIFIED:20250215T143915Z
UID:10015538-1750496400-1750521600@www.aa87.org
SUMMARY:Réunion du site web provincial
DESCRIPTION:Salle o. \nJoindre la réunion \n 
URL:https://www.aa87.org/evenement/reunion-du-site-web-provincial-2/2025-06-21/
LOCATION:Les Suites de Laviolette\, Trois-Rivières\, 7201 rue Notre-Dame O\, Trpois-Rivières\, Québec\, G9B 1W2\, Canada
END:VEVENT
BEGIN:VEVENT
DTSTART;TZID=America/Toronto:20250215T090000
DTEND;TZID=America/Toronto:20250215T160000
DTSTAMP:20260419T100452
CREATED:20241219T013217Z
LAST-MODIFIED:20250215T143915Z
UID:10015537-1739610000-1739635200@www.aa87.org
SUMMARY:Réunion du site web provincial
DESCRIPTION:Salle o. \nJoindre la réunion \n 
URL:https://www.aa87.org/evenement/reunion-du-site-web-provincial-2/2025-02-15/
LOCATION:Les Suites de Laviolette\, Trois-Rivières\, 7201 rue Notre-Dame O\, Trpois-Rivières\, Québec\, G9B 1W2\, Canada
END:VEVENT
BEGIN:VEVENT
DTSTART;TZID=America/Toronto:20241123T090000
DTEND;TZID=America/Toronto:20241123T160000
DTSTAMP:20260419T100452
CREATED:20231231T011630Z
LAST-MODIFIED:20231231T012738Z
UID:10006621-1732352400-1732377600@www.aa87.org
SUMMARY:Réunion du site web provincial
DESCRIPTION:Salle 0 \nParticiper à la réunion Zoom \nID de réunion : 976 0990 1538 \nCode secret : 1234
URL:https://www.aa87.org/evenement/reunion-du-site-web-provincial/2024-11-23/
LOCATION:Les Suites de Laviolette\, Trois-Rivières\, 7201 rue Notre-Dame O\, Trpois-Rivières\, Québec\, G9B 1W2\, Canada
CATEGORIES:Site web provincial
END:VEVENT
BEGIN:VEVENT
DTSTART;VALUE=DATE:20241102
DTEND;VALUE=DATE:20241103
DTSTAMP:20260419T100452
CREATED:20240101T141617Z
LAST-MODIFIED:20240101T142326Z
UID:10006632-1730534400-1730566800@www.aa87.org
SUMMARY:Réunion comité interrégional
DESCRIPTION:02 mars et 02 novembre 2024 – Les Suites de Laviolette\, Trois-Rivières \n24 mai 2024 – 3920\, rue Rachel Est\, Montréal (Québec) H1X 1Z3
URL:https://www.aa87.org/evenement/reunion-comite-interregional-2/2024-11-02/
LOCATION:Les Suites de Laviolette\, Trois-Rivières\, 7201 rue Notre-Dame O\, Trpois-Rivières\, Québec\, G9B 1W2\, Canada
CATEGORIES:Activité / Activity,Comité interrégional,Comités / Committees
END:VEVENT
BEGIN:VEVENT
DTSTART;TZID=America/Toronto:20240615T090000
DTEND;TZID=America/Toronto:20240615T160000
DTSTAMP:20260419T100452
CREATED:20231231T011630Z
LAST-MODIFIED:20231231T012738Z
UID:10006620-1718442000-1718467200@www.aa87.org
SUMMARY:Réunion du site web provincial
DESCRIPTION:Salle 0 \nParticiper à la réunion Zoom \nID de réunion : 976 0990 1538 \nCode secret : 1234
URL:https://www.aa87.org/evenement/reunion-du-site-web-provincial/2024-06-15/
LOCATION:Les Suites de Laviolette\, Trois-Rivières\, 7201 rue Notre-Dame O\, Trpois-Rivières\, Québec\, G9B 1W2\, Canada
CATEGORIES:Site web provincial
END:VEVENT
BEGIN:VEVENT
DTSTART;VALUE=DATE:20240524
DTEND;VALUE=DATE:20240525
DTSTAMP:20260419T100452
CREATED:20240101T141617Z
LAST-MODIFIED:20240101T142326Z
UID:10006633-1716537600-1716570000@www.aa87.org
SUMMARY:Réunion comité interrégional
DESCRIPTION:02 mars et 02 novembre 2024 – Les Suites de Laviolette\, Trois-Rivières \n24 mai 2024 – 3920\, rue Rachel Est\, Montréal (Québec) H1X 1Z3
URL:https://www.aa87.org/evenement/reunion-comite-interregional-2/2024-05-24/
LOCATION:Les Suites de Laviolette\, Trois-Rivières\, 7201 rue Notre-Dame O\, Trpois-Rivières\, Québec\, G9B 1W2\, Canada
CATEGORIES:Activité / Activity,Comité interrégional,Comités / Committees
END:VEVENT
BEGIN:VEVENT
DTSTART;VALUE=DATE:20240302
DTEND;VALUE=DATE:20240303
DTSTAMP:20260419T100452
CREATED:20240101T141617Z
LAST-MODIFIED:20240101T142326Z
UID:10006631-1709337600-1709423999@www.aa87.org
SUMMARY:Réunion comité interrégional
DESCRIPTION:02 mars et 02 novembre 2024 – Les Suites de Laviolette\, Trois-Rivières \n24 mai 2024 – 3920\, rue Rachel Est\, Montréal (Québec) H1X 1Z3
URL:https://www.aa87.org/evenement/reunion-comite-interregional-2/2024-03-02/
LOCATION:Les Suites de Laviolette\, Trois-Rivières\, 7201 rue Notre-Dame O\, Trpois-Rivières\, Québec\, G9B 1W2\, Canada
CATEGORIES:Activité / Activity,Comité interrégional,Comités / Committees
END:VEVENT
BEGIN:VEVENT
DTSTART;TZID=America/Toronto:20240217T090000
DTEND;TZID=America/Toronto:20240217T160000
DTSTAMP:20260419T100452
CREATED:20231231T011630Z
LAST-MODIFIED:20231231T012738Z
UID:10006619-1708160400-1708185600@www.aa87.org
SUMMARY:Réunion du site web provincial
DESCRIPTION:Salle 0 \nParticiper à la réunion Zoom \nID de réunion : 976 0990 1538 \nCode secret : 1234
URL:https://www.aa87.org/evenement/reunion-du-site-web-provincial/2024-02-17/
LOCATION:Les Suites de Laviolette\, Trois-Rivières\, 7201 rue Notre-Dame O\, Trpois-Rivières\, Québec\, G9B 1W2\, Canada
CATEGORIES:Site web provincial
END:VEVENT
BEGIN:VEVENT
DTSTART;VALUE=DATE:20231104
DTEND;VALUE=DATE:20231105
DTSTAMP:20260419T100452
CREATED:20230106T185421Z
LAST-MODIFIED:20230107T133036Z
UID:10004179-1699056000-1699142399@www.aa87.org
SUMMARY:Réunion comité interrégional
DESCRIPTION:04 mars et 04 novembre 2023 – Les Suites de Laviolette\, Trois-Rivières \n26 mai 2023 – 2323 Boul. Daniel-Johnson Laval
URL:https://www.aa87.org/evenement/reunion-comite-interregional/2023-11-04/
LOCATION:Les Suites de Laviolette\, Trois-Rivières\, 7201 rue Notre-Dame O\, Trpois-Rivières\, Québec\, G9B 1W2\, Canada
CATEGORIES:Comité interrégional
END:VEVENT
BEGIN:VEVENT
DTSTART;VALUE=DATE:20230526
DTEND;VALUE=DATE:20230527
DTSTAMP:20260419T100452
CREATED:20230106T185421Z
LAST-MODIFIED:20230107T133036Z
UID:10004178-1685059200-1685145599@www.aa87.org
SUMMARY:Réunion comité interrégional
DESCRIPTION:04 mars et 04 novembre 2023 – Les Suites de Laviolette\, Trois-Rivières \n26 mai 2023 – 2323 Boul. Daniel-Johnson Laval
URL:https://www.aa87.org/evenement/reunion-comite-interregional/2023-05-26/
LOCATION:Les Suites de Laviolette\, Trois-Rivières\, 7201 rue Notre-Dame O\, Trpois-Rivières\, Québec\, G9B 1W2\, Canada
CATEGORIES:Comité interrégional
END:VEVENT
BEGIN:VEVENT
DTSTART;VALUE=DATE:20230304
DTEND;VALUE=DATE:20230305
DTSTAMP:20260419T100452
CREATED:20230106T185421Z
LAST-MODIFIED:20230107T133036Z
UID:10004177-1677888000-1677974399@www.aa87.org
SUMMARY:Réunion comité interrégional
DESCRIPTION:04 mars et 04 novembre 2023 – Les Suites de Laviolette\, Trois-Rivières \n26 mai 2023 – 2323 Boul. Daniel-Johnson Laval
URL:https://www.aa87.org/evenement/reunion-comite-interregional/2023-03-04/
LOCATION:Les Suites de Laviolette\, Trois-Rivières\, 7201 rue Notre-Dame O\, Trpois-Rivières\, Québec\, G9B 1W2\, Canada
CATEGORIES:Comité interrégional
END:VEVENT
END:VCALENDAR